{"text_format":"1","workbook":"xlsx","n_sheets":4,"sheets":["Foglio1","Charting","Table","Plotting pos of raw data points"],"not_rendered":{"charts":1,"images":0,"macros":1,"external_links":0,"defined_names":0,"comments":2,"pivot_tables":0},"unopened":[],"bounds":{"document_bytes":16777216,"sheet_cells":100000,"rows_first":2000,"rows_last":500,"rows_between":2000,"halvings":0,"cell_chars":16384,"cell_head_chars":4096},"cells_cut":0,"cells_raw":0,"read":"whole","date_system":"1900"}

{"sheet":"Foglio1","index":0,"n_rows":154,"n_cols":19,"rows_kept":154,"cut":false,"hidden":false,"merged":[]}
["user_Country","user_Affiliation","user_Age","user_id","date","question","subquestion","labels","Platform on which software developers can learn","Means to train quantum engineers","Unknown yet","Other known educational value","Cat5","Cat6","Cat7","Cat8","Cat9","Others","explanation"]
["Germany","Fraunhofer",29,"5852c089aef2c94c3a000367","2017/3/31 12:17:16",14,1,"Educational value"]
["United Kingdom","University of Sussex",45,"5852c089aef2c94c3a00036b","2017/5/4 10:41:57",14,1,"Educational value",100,100,null,100,null,null,null,null,null,"General training in STEM subjects."]
["Netherlands","Atos",29,"5852c089aef2c94c3a00036d","2017/5/5 12:23:20",14,1,"Educational value",85,85,0]
["Switzerland","IBM Zurich Research Laboratory",55,"5852c089aef2c94c3a00036f","2017/4/21 17:31:5",14,1,"Educational value",80,100,0,null,null,null,null,null,null,null,"People learn the basics at university- but they are not well aware of quantum computing and its opportunities."]
["Italy","CNR - SPIN",47,"5852c089aef2c94c3a000373","2017/4/24 10:34:0",14,1,"Educational value",40,75,75]
["United Kingdom","Hitachi",null,"5852c089aef2c94c3a00037f","2017/4/21 9:4:13",14,1,"Educational value",70,90,30]
["United Kingdom","University of Oxford",null,"5852c089aef2c94c3a000385","2017/5/12 16:42:13",14,1,"Educational value",80,80,null,null,null,null,null,null,null,"I suspect that until/if there is a reasonable scale QC- small scale will only give a very basic training platform. But it might be useful for people to learn about Qubits etc.","I'm guessing here - if you want to find out- a better way would be to do a survey of these different groups. I suspect that most of these are aware of QC- but probably not of the potential or anything much about it."]
["Finland","Aalto University",36,"5852c089aef2c94c3a00038b","2017/4/19 8:52:40",14,1,"Educational value",100,100]
["Germany","Karlsruhe Institute of Technology",38,"5852c089aef2c94c3a000391","2017/3/29 20:15:29",14,1,"Educational value"]
["United States","Microsoft",49,"5852c140aef2c94c3a0003a3","2017/4/19 6:22:42",14,1,"Educational value",100,100,0,0]
["United Kingdom","Lancaster University",37,"58dbcc590e349c2a60000076","2017/3/29 15:46:55",14,1,"Educational value",50,50,100]
["Germany","Saarland University",49,"58dbcd4e0e349c2a60000090","2017/4/18 18:49:16",14,1,"Educational value",70,70]
["United States","Nokia Bell-Labs",50,"58dbce3a0e349c2a600000a3","2017/4/19 15:41:1",14,1,"Educational value",90,90,70,0]
["Singapore","Center for Quantum Technologies",56,"58dbce4e0e349c2a600000a9","2017/4/19 1:4:53",14,1,"Educational value",50,80,60,60,null,null,null,null,null,"Interdisciplinary training","Biologist"]
["Netherlands","QuSoft/CWI/Univ of Amsterdam",50,"58dbce730e349c2a600000b5","2017/3/29 15:16:5",14,1,"Educational value"]
["United States",null,null,"58dbd02b0e349c2a60000182","2017/3/29 15:45:35",14,1,"Educational value",80,80,60]
["Poland","ICFO",61,"58dbd03e0e349c2a60000193","2017/4/20 11:9:15",14,1,"Educational value",50,50,100,0]
["Netherlands","University of Groningen",46,"58dbd0cc0e349c2a600001b7","2017/3/30 8:26:6",14,1,"Educational value",null,null,80]
["United States","University of Southern California",40,"58dbd2120e349c2a60000222","2017/3/29 17:17:42",14,1,"Educational value",90,90]
["Italy","Universita Roma Tre",38,"58dbd49f0e349c2a60000327","2017/5/5 13:51:13",14,1,"Educational value",20,70,20]
["Malta","Physics",38,"58dbe0770e349c2a6000060b","2017/4/28 15:29:56",14,1,"Educational value",100,90]
[null,"ibm",null,"58dbe2a90e349c2a60000637","2017/3/29 16:40:2",14,1,"Educational value"]
["United States","Boston University- Dept. of ECE",58,"58dbe4610e349c2a600006e6","2017/3/31 14:47:54",14,1,"Educational value",60,80,100]
["United States",null,45,"58dbec9f0e349c2a600007ec","2017/5/7 5:12:33",14,1,"Educational value",70,60,null,null,null,null,null,null,null,"Better to have a remotely accessible machine (as already exists)"]
["Russian Federation","Kazan Federal University- professor",63,"58dbfaea0e349c2a60000871","2017/4/23 19:28:18",14,1,"Educational value",50,50]
["United States","Microsoft",59,"58dc04140e349c2a6000090f","2017/3/30 3:14:15",14,1,"Educational value",80,80,40]
["France","CNRS - PCQC",39,"58dc0c680e349c2a60000954","2017/3/29 19:58:37",14,1,"Educational value",80,80]
["Canada","D-Wave Systems Inc.",50,"58dc152d0e349c2a60000a48","2017/3/29 20:35:47",14,1,"Educational value"]
["United States","Microsoft Research",36,"58dc19a20e349c2a60000ae0","2017/3/29 21:38:46",14,1,"Educational value",20,100]
["Italy","Universita degli Studi di Milano- Dept. Comp. Sci.",51,"58dc29b80e349c2a60000d4c","2017/3/29 21:47:50",14,1,"Educational value"]
["United States","Sandia National Labs",40,"58dc2de20e349c2a60000dda","2017/3/29 22:18:34",14,1,"Educational value",30,100,70]
["Australia","University of Sydney",33,"58dc31340e349c2a60000e24","2017/3/29 23:20:6",14,1,"Educational value",50,100]
["Spain","Universitat Autonoma de Barcelona",47,"58dc3c050e349c2a60000f57","2017/4/14 18:0:41",14,1,"Educational value",60,80,60]
["Singapore","Centre for Quantum Technologies- National Universtiy of Singapore","40+","58dc8f390e349c2a6000135a","2017/5/12 3:33:55",14,1,"Educational value",70,70]
["United Kingdom","University of Cambridge",38,"58dd39ba893db95b5c000583","2017/4/1 16:13:28",14,1,"Educational value",75,65]
["United Kingdom","University College London",74,"58de3f1a893db95b5c000cac","2017/3/31 12:35:23",14,1,"Educational value",80,90,70,null,null,null,null,null,null,"Education in quantum processes and quantum chemistry","Material Sciences"]
["Austria","University of Innsbruck",36,"58ded299f2d9f720620004bb","2017/3/31 22:47:3",14,1,"Educational value",80,100,50]
["United Kingdom","Loughborough University",53,"58def721f2d9f72062000604","2017/4/24 11:14:58",14,1,"Educational value",10,80]
["Canada","Anyon Systems Inc.",33,"58e1129318298df04d00003b","2017/5/5 15:51:42",14,1,"Educational value"]
["Spain",null,42,"58e205ac6c7ae40b360001b9","2017/4/4 9:8:58",14,1,"Educational value",80,80,80]
["United Kingdom","Innovate UK",34,"58e368997ceceb751a0007ec","2017/4/10 15:29:10",14,1,"Educational value"]
["Sweden","Chalmers University of Technology",39,"58e36a6b7ceceb751a000804","2017/5/12 15:13:22",14,1,"Educational value",100,100]
["Germany","SAP",null,"58e4f37f7b67cab57f0004f2","2017/4/26 7:53:58",14,1,"Educational value",75,75,null,null,null,null,null,null,null,"more than just training software developers to use quantum computers- they should also think differently. probably a new range of mathematic- on top of software engineering","well known among physicists- not considered by computer scientists"]
["Germany","JGU Mainz",38,"58e5f495ca034e7c6b00026d","2017/4/24 8:45:10",14,1,"Educational value",80,100]
["United States","Intel Corporation",45,"58ece8f41f375cbb71000563","2017/4/11 14:48:26",14,1,"Educational value",90,null,90]
["United States","USC",49,"58f2bc26b46e82714e0000c2","2017/4/16 1:1:47",14,1,"Educational value"]
["Australia","QxBranch",39,"58f597be16df98d816000218","2017/4/18 5:39:42",14,1,"Educational value",75,100]
["United States","University Professor",null,"58f5a1be16df98d81600027f","2017/4/30 22:2:49",14,1,"Educational value",90,100]
["Italy","Universita degli Studi di Napoli Federico II",42,"58f645e116df98d8160007d6","2017/4/18 17:29:34",14,1,"Educational value",100,80,90]
["United States","Quantum AI Laboratory- NASA Ames Research Center ",34,"58f6466316df98d8160007e8","2017/4/20 1:34:30",14,1,"Educational value"]
["United States","SSH",57,"58f6477516df98d816000823","2017/4/18 17:25:18",14,1,"Educational value",60,70,30]
["United States","MIT",56,"58f653ac16df98d816000a1a","2017/5/5 17:36:18",14,1,"Educational value",70,90]
[null,null,null,"58f6545b16df98d816000a30","2017/4/18 19:1:1",14,1,"Educational value",90,90]
["Sweden","Stockholm University",44,"58f6573c16df98d816000b1e","2017/5/12 23:19:9",14,1,"Educational value",80,90,30]
["Finland","Aalto University",47,"58f667a816df98d816000dd3","2017/4/18 20:18:52",14,1,"Educational value",100,100,0]
["United States","Google",44,"58f6727b16df98d816000ea3","2017/4/29 0:31:3",14,1,"Educational value"]
["Israel","Hebrew University of Jerusalem",61,"58f6fd33d1c989b104000632","2017/4/19 6:25:16",14,1,"Educational value"]
["France","Nokia Bell Labs",null,"58f7180cd1c989b1040007af","2017/4/20 10:26:40",14,1,"Educational value",80,80,null,50,null,null,null,null,null,"Develop a \\quantum way-of-thinking\\\" in the brain of the future scientists and engineers\""]
["United Kingdom","UCL",36,"58f75bb2d1c989b104000a11","2017/4/19 14:37:28",14,1,"Educational value",80,60]
["Sweden","stockholm university",65,"58f75f9cd1c989b104000a4c","2017/4/19 13:15:44",14,1,"Educational value"]
["Germany","NMTC",53,"58f79331d1c989b104000ec6","2017/4/19 17:5:22",14,1,"Educational value"]
["Italy","Politecnico di Milano",44,"58f8c58882c98b2370000893","2017/4/29 22:16:10",14,1,"Educational value",70,90,20]
["France","CNRS- UPMC- ENS",71,"58f8e97182c98b2370000b0e","2017/5/5 17:9:16",14,1,"Educational value",80,100]
["United States","IntControl LLC",47,"58f9f72ddce69e95310006d6","2017/4/25 18:31:39",14,1,"Educational value",70,100]
["United Kingdom","None",46,"58fa4404dce69e9531000a61","2017/4/28 16:33:57",14,1,"Educational value",65,85,70]
["Germany","ASML",54,"58ff77bc1647f8e45f00086a","2017/4/25 16:55:27",14,1,"Educational value",58,71,0]
["Finland","Aalto University",40,"5904f5b5b78ea63806000843","2017/4/29 20:50:50",14,1,"Educational value"]
["Japan","The University of Tokyo",49,"5905508ce3cf73976b00018f","2017/4/30 4:27:47",14,1,"Educational value",80,90,20]
["Greece","Technical University of Crete",41,"5908d40785d9a7453b000824","2017/5/2 19:43:35",14,1,"Educational value",90,80,80]
["Hungary","Wigner Research Centre for Physics",39,"590cc7306e214ad410000add","2017/5/5 20:34:58",14,1,"Educational value",40,60,60]
["Finland","Aalto University",59,"590dd8d776c6fbf97c000472","2017/5/6 20:21:9",14,1,"Educational value",70,90,60]
["Italy","LFoundry s.r.l.",55,"5910260330ff4fca44000249","2017/5/8 8:10:56",14,1,"Educational value"]
["United Kingdom","Cardiff University",45,"5910a43930ff4fca44000627","2017/5/8 19:59:12",14,1,"Educational value",80,80,60]
["Netherlands","Director at QuTech",42,"5911d11356953dae2b0004fb","2017/5/9 15:53:31",14,1,"Educational value",25,40]
["Netherlands","Delft University of Technology",24,"5911da0c56953dae2b0005a7","2017/5/9 15:23:53",14,1,"Educational value"]
["Netherlands","QuTech- TU Delft",25,"5911e10256953dae2b00079d","2017/5/9 16:11:27",14,1,"Educational value",80,80]
["Netherlands","QuTech TUDelft",36,"5912009156953dae2b000b30","2017/5/9 18:10:41",14,1,"Educational value"]
["Netherlands","TNO",41,"5912ade8bdf6d44f18000295","2017/5/10 6:52:55",14,1,"Educational value",100,100]
["Netherlands","TU Delft",33,"5912c704bdf6d44f18000402","2017/5/10 8:19:27",14,1,"Educational value",80,40,60]
["Netherlands","Delft University of Technology",26,"5912ebe1bdf6d44f1800061b","2017/5/10 10:37:46",14,1,"Educational value"]
["United Kingdom","University of Sussex",23,"5912f6e7bdf6d44f18000711","2017/5/10 12:12:37",14,1,"Educational value"]
["United Kingdom","Heriot-Watt University",44,"59130103bdf6d44f180007b7","2017/5/10 14:9:50",14,1,"Educational value",70,80,40]
["Switzerland","ETH Zurich",27,"59130228bdf6d44f1800080e","2017/5/10 12:36:23",14,1,"Educational value",80,80]
["Greece","Universitat Autonoma de Barcelona",36,"59130582bdf6d44f180008ea","2017/5/10 14:5:35",14,1,"Educational value",85,85,85]
["United Kingdom","University of Sheffield",54,"5913069abdf6d44f1800091a","2017/5/10 12:50:0",14,1,"Educational value",70,80,60]
[null,"HHU Duesseldorf",22,"5913085abdf6d44f1800096f","2017/5/10 15:16:7",14,1,"Educational value",60,80,60]
["United Kingdom","University of Strathclyde",37,"59130bdcbdf6d44f18000a81","2017/5/10 13:13:20",14,1,"Educational value"]
["France","Aix-Marseille Universite",38,"59130e6ebdf6d44f18000b39","2017/5/10 13:25:11",14,1,"Educational value"]
["United Kingdom","Imperial College",25,"59132a29bdf6d44f18000fc4","2017/5/10 15:49:32",14,1,"Educational value",10,70,80]
["Sweden","Chalmers University of Technology",26,"5913342bbdf6d44f18001106","2017/5/10 15:46:33",14,1,"Educational value"]
["United Kingdom","University of Sussex",33,"59134dbebdf6d44f1800133e","2017/5/10 17:54:57",14,1,"Educational value"]
["Netherlands","QuTech",40,"591358f8bdf6d44f1800142a","2017/5/10 18:52:39",14,1,"Educational value",100,100]
["Switzerland","University of Geneva",49,"59141c947284506612000337","2017/5/11 8:57:52",14,1,"Educational value",50,50]
["Finland","University of Turku",43,"591463e0728450661200066e","2017/5/11 13:39:22",14,1,"Educational value"]
["Greece","Democritus University of Thrace",57,"5914aca27284506612000968","2017/5/11 19:27:22",14,1,"Educational value",80,100]
["Switzerland","ETH Zurich",29,"5915606c3b6627457c000516","2017/5/12 7:35:55",14,1,"Educational value"]
["Canada","ETH Zurich",21,"59156ba73b6627457c0005de","2017/5/12 8:33:16",14,1,"Educational value",60,70,100]
["Estonia","ETH Zurich",28,"5915e2573b6627457c000bb7","2017/5/12 16:55:46",14,1,"Educational value",50,70]
["Spain","University of the Basque Country",53,"5916d8b05d9b3ef7710004cc","2017/5/13 11:7:27",14,1,"Educational value",100,100,0]
[]
[]
[]
[]
[]
[]
[]
[]
[]
[]
[]
[]
[]
[]
[]
[]
[]
[]
[]
[]
[]
[]
[]
[]
[]
[]
[]
[]
[]
[]
[]
[]
[]
[]
[]
[]
[]
[]
[]
[]
[]
[]
[]
[]
[]
[]
[]
[]
[]
[]
[]
[]
[]
[null,null,null,null,null,null,null,"`"]

{"sheet":"Charting","index":1,"n_rows":130,"n_cols":23,"rows_kept":130,"cut":false,"hidden":false,"merged":[]}
[{"$f":"Foglio1!$Q$1","v":"Cat9"},{"$f":"Foglio1!$P$1","v":"Cat8"},{"$f":"Foglio1!$O$1","v":"Cat7"},{"$f":"Foglio1!$N$1","v":"Cat6"},{"$f":"Foglio1!$M$1","v":"Cat5"},{"$f":"Foglio1!$L$1","v":"Other known educational value"},{"$f":"Foglio1!$K$1","v":"Unknown yet"},{"$f":"Foglio1!$J$1","v":"Means to train quantum engineers"},{"$f":"Foglio1!$I$1","v":"Platform on which software developers can learn"},null,null,null,"Bin size","Counts in bin:",{"$f":"Foglio1!Q1","v":"Cat9"},{"$f":"Foglio1!P1","v":"Cat8"},{"$f":"Foglio1!O1","v":"Cat7"},{"$f":"Foglio1!N1","v":"Cat6"},{"$f":"Foglio1!M1","v":"Cat5"},{"$f":"Foglio1!L1","v":"Other known educational value"},{"$f":"Foglio1!K1","v":"Unknown yet"},{"$f":"Foglio1!J1","v":"Means to train quantum engineers"},{"$f":"Foglio1!I1","v":"Platform on which software developers can learn"}]
[{"$f":"$M$2*INT('Plotting pos of raw data points'!I2/$M$2)","v":-20},{"$f":"$M$2*INT('Plotting pos of raw data points'!H2/$M$2)","v":-20},{"$f":"$M$2*INT('Plotting pos of raw data points'!G2/$M$2)","v":-20},{"$f":"$M$2*INT('Plotting pos of raw data points'!F2/$M$2)","v":-20},{"$f":"$M$2*INT('Plotting pos of raw data points'!E2/$M$2)","v":-20},{"$f":"$M$2*INT('Plotting pos of raw data points'!D2/$M$2)","v":-20},{"$f":"$M$2*INT('Plotting pos of raw data points'!C2/$M$2)","v":-20},{"$f":"$M$2*INT('Plotting pos of raw data points'!B2/$M$2)","v":-20},{"$f":"$M$2*INT('Plotting pos of raw data points'!A2/$M$2)","v":-20},null,null,null,20,"No answer given",{"$f":"COUNTIF(#REF!,\"<0\")","v":{"$error":"#REF!"}},{"$f":"COUNTIF(#REF!,\"<0\")","v":{"$error":"#REF!"}},{"$f":"COUNTIF(C:C,\"<0\")","v":99},99,99,93,59,28,27]
[{"$f":"$M$2*INT('Plotting pos of raw data points'!I3/$M$2)","v":-20},{"$f":"$M$2*INT('Plotting pos of raw data points'!H3/$M$2)","v":-20},{"$f":"$M$2*INT('Plotting pos of raw data points'!G3/$M$2)","v":-20},{"$f":"$M$2*INT('Plotting pos of raw data points'!F3/$M$2)","v":-20},{"$f":"$M$2*INT('Plotting pos of raw data points'!E3/$M$2)","v":-20},{"$f":"$M$2*INT('Plotting pos of raw data points'!D3/$M$2)","v":100},{"$f":"$M$2*INT('Plotting pos of raw data points'!C3/$M$2)","v":-20},{"$f":"$M$2*INT('Plotting pos of raw data points'!B3/$M$2)","v":100},{"$f":"$M$2*INT('Plotting pos of raw data points'!A3/$M$2)","v":100},null,null,null,"Scale",0,{"$f":"COUNTIF(#REF!,\"=\"&$N3)","v":{"$error":"#REF!"}},{"$f":"COUNTIF(#REF!,\"=\"&$N3)","v":{"$error":"#REF!"}},{"$f":"COUNTIF(C:C,\"=\"&$N3)","v":0},0,0,3,6,0,2]
[{"$f":"$M$2*INT('Plotting pos of raw data points'!I4/$M$2)","v":-20},{"$f":"$M$2*INT('Plotting pos of raw data points'!H4/$M$2)","v":-20},{"$f":"$M$2*INT('Plotting pos of raw data points'!G4/$M$2)","v":-20},{"$f":"$M$2*INT('Plotting pos of raw data points'!F4/$M$2)","v":-20},{"$f":"$M$2*INT('Plotting pos of raw data points'!E4/$M$2)","v":-20},{"$f":"$M$2*INT('Plotting pos of raw data points'!D4/$M$2)","v":-20},{"$f":"$M$2*INT('Plotting pos of raw data points'!C4/$M$2)","v":0},{"$f":"$M$2*INT('Plotting pos of raw data points'!B4/$M$2)","v":80},{"$f":"$M$2*INT('Plotting pos of raw data points'!A4/$M$2)","v":80},null,null,null,60,20,{"$f":"COUNTIF(#REF!,\"=\"&$N4)","v":{"$error":"#REF!"}},{"$f":"COUNTIF(#REF!,\"=\"&$N4)","v":{"$error":"#REF!"}},0,0,0,0,6,0,4]
[{"$f":"$M$2*INT('Plotting pos of raw data points'!I5/$M$2)","v":-20},{"$f":"$M$2*INT('Plotting pos of raw data points'!H5/$M$2)","v":-20},{"$f":"$M$2*INT('Plotting pos of raw data points'!G5/$M$2)","v":-20},{"$f":"$M$2*INT('Plotting pos of raw data points'!F5/$M$2)","v":-20},{"$f":"$M$2*INT('Plotting pos of raw data points'!E5/$M$2)","v":-20},{"$f":"$M$2*INT('Plotting pos of raw data points'!D5/$M$2)","v":-20},{"$f":"$M$2*INT('Plotting pos of raw data points'!C5/$M$2)","v":0},{"$f":"$M$2*INT('Plotting pos of raw data points'!B5/$M$2)","v":100},{"$f":"$M$2*INT('Plotting pos of raw data points'!A5/$M$2)","v":80},null,null,null,null,40,{"$f":"COUNTIF(#REF!,\"=\"&$N5)","v":{"$error":"#REF!"}},{"$f":"COUNTIF(#REF!,\"=\"&$N5)","v":{"$error":"#REF!"}},0,0,0,1,3,6,10]
[{"$f":"$M$2*INT('Plotting pos of raw data points'!I6/$M$2)","v":-20},{"$f":"$M$2*INT('Plotting pos of raw data points'!H6/$M$2)","v":-20},{"$f":"$M$2*INT('Plotting pos of raw data points'!G6/$M$2)","v":-20},{"$f":"$M$2*INT('Plotting pos of raw data points'!F6/$M$2)","v":-20},{"$f":"$M$2*INT('Plotting pos of raw data points'!E6/$M$2)","v":-20},{"$f":"$M$2*INT('Plotting pos of raw data points'!D6/$M$2)","v":-20},{"$f":"$M$2*INT('Plotting pos of raw data points'!C6/$M$2)","v":60},{"$f":"$M$2*INT('Plotting pos of raw data points'!B6/$M$2)","v":60},{"$f":"$M$2*INT('Plotting pos of raw data points'!A6/$M$2)","v":40},null,null,null,"Total number of respondents to question",60,{"$f":"COUNTIF(#REF!,\"=\"&$N6)","v":{"$error":"#REF!"}},{"$f":"COUNTIF(#REF!,\"=\"&$N6)","v":{"$error":"#REF!"}},0,0,0,1,14,14,19]
[{"$f":"$M$2*INT('Plotting pos of raw data points'!I7/$M$2)","v":-20},{"$f":"$M$2*INT('Plotting pos of raw data points'!H7/$M$2)","v":-20},{"$f":"$M$2*INT('Plotting pos of raw data points'!G7/$M$2)","v":-20},{"$f":"$M$2*INT('Plotting pos of raw data points'!F7/$M$2)","v":-20},{"$f":"$M$2*INT('Plotting pos of raw data points'!E7/$M$2)","v":-20},{"$f":"$M$2*INT('Plotting pos of raw data points'!D7/$M$2)","v":-20},{"$f":"$M$2*INT('Plotting pos of raw data points'!C7/$M$2)","v":20},{"$f":"$M$2*INT('Plotting pos of raw data points'!B7/$M$2)","v":80},{"$f":"$M$2*INT('Plotting pos of raw data points'!A7/$M$2)","v":60},null,null,null,{"$f":"COUNTA(Foglio1!$D$2:$D$1002)","v":99},80,{"$f":"COUNTIF(#REF!,\"=\"&$N7)","v":{"$error":"#REF!"}},{"$f":"COUNTIF(#REF!,\"=\"&$N7)","v":{"$error":"#REF!"}},0,0,0,0,7,32,27]
[{"$f":"$M$2*INT('Plotting pos of raw data points'!I8/$M$2)","v":-20},{"$f":"$M$2*INT('Plotting pos of raw data points'!H8/$M$2)","v":-20},{"$f":"$M$2*INT('Plotting pos of raw data points'!G8/$M$2)","v":-20},{"$f":"$M$2*INT('Plotting pos of raw data points'!F8/$M$2)","v":-20},{"$f":"$M$2*INT('Plotting pos of raw data points'!E8/$M$2)","v":-20},{"$f":"$M$2*INT('Plotting pos of raw data points'!D8/$M$2)","v":-20},{"$f":"$M$2*INT('Plotting pos of raw data points'!C8/$M$2)","v":-20},{"$f":"$M$2*INT('Plotting pos of raw data points'!B8/$M$2)","v":80},{"$f":"$M$2*INT('Plotting pos of raw data points'!A8/$M$2)","v":80},null,null,null,"Number of histograms",100,{"$f":"COUNTIF(#REF!,\"=\"&$N8)","v":{"$error":"#REF!"}},{"$f":"COUNTIF(#REF!,\"=\"&$N8)","v":{"$error":"#REF!"}},0,0,0,1,4,19,10]
[{"$f":"$M$2*INT('Plotting pos of raw data points'!I9/$M$2)","v":-20},{"$f":"$M$2*INT('Plotting pos of raw data points'!H9/$M$2)","v":-20},{"$f":"$M$2*INT('Plotting pos of raw data points'!G9/$M$2)","v":-20},{"$f":"$M$2*INT('Plotting pos of raw data points'!F9/$M$2)","v":-20},{"$f":"$M$2*INT('Plotting pos of raw data points'!E9/$M$2)","v":-20},{"$f":"$M$2*INT('Plotting pos of raw data points'!D9/$M$2)","v":-20},{"$f":"$M$2*INT('Plotting pos of raw data points'!C9/$M$2)","v":-20},{"$f":"$M$2*INT('Plotting pos of raw data points'!B9/$M$2)","v":100},{"$f":"$M$2*INT('Plotting pos of raw data points'!A9/$M$2)","v":100},null,null,null,3]
[{"$f":"$M$2*INT('Plotting pos of raw data points'!I10/$M$2)","v":-20},{"$f":"$M$2*INT('Plotting pos of raw data points'!H10/$M$2)","v":-20},{"$f":"$M$2*INT('Plotting pos of raw data points'!G10/$M$2)","v":-20},{"$f":"$M$2*INT('Plotting pos of raw data points'!F10/$M$2)","v":-20},{"$f":"$M$2*INT('Plotting pos of raw data points'!E10/$M$2)","v":-20},{"$f":"$M$2*INT('Plotting pos of raw data points'!D10/$M$2)","v":-20},{"$f":"$M$2*INT('Plotting pos of raw data points'!C10/$M$2)","v":-20},{"$f":"$M$2*INT('Plotting pos of raw data points'!B10/$M$2)","v":-20},{"$f":"$M$2*INT('Plotting pos of raw data points'!A10/$M$2)","v":-20}]
[{"$f":"$M$2*INT('Plotting pos of raw data points'!I11/$M$2)","v":-20},{"$f":"$M$2*INT('Plotting pos of raw data points'!H11/$M$2)","v":-20},{"$f":"$M$2*INT('Plotting pos of raw data points'!G11/$M$2)","v":-20},{"$f":"$M$2*INT('Plotting pos of raw data points'!F11/$M$2)","v":-20},{"$f":"$M$2*INT('Plotting pos of raw data points'!E11/$M$2)","v":-20},{"$f":"$M$2*INT('Plotting pos of raw data points'!D11/$M$2)","v":0},{"$f":"$M$2*INT('Plotting pos of raw data points'!C11/$M$2)","v":0},{"$f":"$M$2*INT('Plotting pos of raw data points'!B11/$M$2)","v":100},{"$f":"$M$2*INT('Plotting pos of raw data points'!A11/$M$2)","v":100},null,null,null,null,"As a fraction of total responses"]
[{"$f":"$M$2*INT('Plotting pos of raw data points'!I12/$M$2)","v":-20},{"$f":"$M$2*INT('Plotting pos of raw data points'!H12/$M$2)","v":-20},{"$f":"$M$2*INT('Plotting pos of raw data points'!G12/$M$2)","v":-20},{"$f":"$M$2*INT('Plotting pos of raw data points'!F12/$M$2)","v":-20},{"$f":"$M$2*INT('Plotting pos of raw data points'!E12/$M$2)","v":-20},{"$f":"$M$2*INT('Plotting pos of raw data points'!D12/$M$2)","v":-20},{"$f":"$M$2*INT('Plotting pos of raw data points'!C12/$M$2)","v":100},{"$f":"$M$2*INT('Plotting pos of raw data points'!B12/$M$2)","v":40},{"$f":"$M$2*INT('Plotting pos of raw data points'!A12/$M$2)","v":40},null,null,null,null,"Plus offset:"]
[{"$f":"$M$2*INT('Plotting pos of raw data points'!I13/$M$2)","v":-20},{"$f":"$M$2*INT('Plotting pos of raw data points'!H13/$M$2)","v":-20},{"$f":"$M$2*INT('Plotting pos of raw data points'!G13/$M$2)","v":-20},{"$f":"$M$2*INT('Plotting pos of raw data points'!F13/$M$2)","v":-20},{"$f":"$M$2*INT('Plotting pos of raw data points'!E13/$M$2)","v":-20},{"$f":"$M$2*INT('Plotting pos of raw data points'!D13/$M$2)","v":-20},{"$f":"$M$2*INT('Plotting pos of raw data points'!C13/$M$2)","v":-20},{"$f":"$M$2*INT('Plotting pos of raw data points'!B13/$M$2)","v":60},{"$f":"$M$2*INT('Plotting pos of raw data points'!A13/$M$2)","v":60},null,null,null,null,{"$f":"N2","v":"No answer given"},{"$f":"O2/O$33","v":{"$error":"#REF!"}},{"$error":"#REF!"},{"$error":"#DIV/0!"},19.8,14.142857142857142,15.5,1.4750000000000001,0.39436619718309857,0.375]
[{"$f":"$M$2*INT('Plotting pos of raw data points'!I14/$M$2)","v":-20},{"$f":"$M$2*INT('Plotting pos of raw data points'!H14/$M$2)","v":-20},{"$f":"$M$2*INT('Plotting pos of raw data points'!G14/$M$2)","v":-20},{"$f":"$M$2*INT('Plotting pos of raw data points'!F14/$M$2)","v":-20},{"$f":"$M$2*INT('Plotting pos of raw data points'!E14/$M$2)","v":-20},{"$f":"$M$2*INT('Plotting pos of raw data points'!D14/$M$2)","v":0},{"$f":"$M$2*INT('Plotting pos of raw data points'!C14/$M$2)","v":60},{"$f":"$M$2*INT('Plotting pos of raw data points'!B14/$M$2)","v":80},{"$f":"$M$2*INT('Plotting pos of raw data points'!A14/$M$2)","v":80},null,null,null,null,"[0,20%)",{"$f":"O3/O$33","v":{"$error":"#REF!"}},{"$error":"#REF!"},{"$error":"#DIV/0!"},0,0,0.5,0.15,0,2.7777777777777776E-2]
[{"$f":"$M$2*INT('Plotting pos of raw data points'!I15/$M$2)","v":-20},{"$f":"$M$2*INT('Plotting pos of raw data points'!H15/$M$2)","v":-20},{"$f":"$M$2*INT('Plotting pos of raw data points'!G15/$M$2)","v":-20},{"$f":"$M$2*INT('Plotting pos of raw data points'!F15/$M$2)","v":-20},{"$f":"$M$2*INT('Plotting pos of raw data points'!E15/$M$2)","v":-20},{"$f":"$M$2*INT('Plotting pos of raw data points'!D15/$M$2)","v":60},{"$f":"$M$2*INT('Plotting pos of raw data points'!C15/$M$2)","v":60},{"$f":"$M$2*INT('Plotting pos of raw data points'!B15/$M$2)","v":80},{"$f":"$M$2*INT('Plotting pos of raw data points'!A15/$M$2)","v":40},null,null,null,null,"[20%,40%)",{"$f":"O4/O$33","v":{"$error":"#REF!"}},{"$error":"#REF!"},{"$error":"#DIV/0!"},0,0,0,0.15,0,5.5555555555555552E-2]
[{"$f":"$M$2*INT('Plotting pos of raw data points'!I16/$M$2)","v":-20},{"$f":"$M$2*INT('Plotting pos of raw data points'!H16/$M$2)","v":-20},{"$f":"$M$2*INT('Plotting pos of raw data points'!G16/$M$2)","v":-20},{"$f":"$M$2*INT('Plotting pos of raw data points'!F16/$M$2)","v":-20},{"$f":"$M$2*INT('Plotting pos of raw data points'!E16/$M$2)","v":-20},{"$f":"$M$2*INT('Plotting pos of raw data points'!D16/$M$2)","v":-20},{"$f":"$M$2*INT('Plotting pos of raw data points'!C16/$M$2)","v":-20},{"$f":"$M$2*INT('Plotting pos of raw data points'!B16/$M$2)","v":-20},{"$f":"$M$2*INT('Plotting pos of raw data points'!A16/$M$2)","v":-20},null,null,null,null,"[40%,60%)",{"$f":"O5/O$33","v":{"$error":"#REF!"}},{"$error":"#REF!"},{"$error":"#DIV/0!"},0,0,0.16666666666666666,7.4999999999999997E-2,8.4507042253521125E-2,0.1388888888888889]
[{"$f":"$M$2*INT('Plotting pos of raw data points'!I17/$M$2)","v":-20},{"$f":"$M$2*INT('Plotting pos of raw data points'!H17/$M$2)","v":-20},{"$f":"$M$2*INT('Plotting pos of raw data points'!G17/$M$2)","v":-20},{"$f":"$M$2*INT('Plotting pos of raw data points'!F17/$M$2)","v":-20},{"$f":"$M$2*INT('Plotting pos of raw data points'!E17/$M$2)","v":-20},{"$f":"$M$2*INT('Plotting pos of raw data points'!D17/$M$2)","v":-20},{"$f":"$M$2*INT('Plotting pos of raw data points'!C17/$M$2)","v":60},{"$f":"$M$2*INT('Plotting pos of raw data points'!B17/$M$2)","v":80},{"$f":"$M$2*INT('Plotting pos of raw data points'!A17/$M$2)","v":80},null,null,null,null,"[60%,80%)",{"$f":"O6/O$33","v":{"$error":"#REF!"}},{"$error":"#REF!"},{"$error":"#DIV/0!"},0,0,0.16666666666666666,0.35,0.19718309859154928,0.2638888888888889]
[{"$f":"$M$2*INT('Plotting pos of raw data points'!I18/$M$2)","v":-20},{"$f":"$M$2*INT('Plotting pos of raw data points'!H18/$M$2)","v":-20},{"$f":"$M$2*INT('Plotting pos of raw data points'!G18/$M$2)","v":-20},{"$f":"$M$2*INT('Plotting pos of raw data points'!F18/$M$2)","v":-20},{"$f":"$M$2*INT('Plotting pos of raw data points'!E18/$M$2)","v":-20},{"$f":"$M$2*INT('Plotting pos of raw data points'!D18/$M$2)","v":0},{"$f":"$M$2*INT('Plotting pos of raw data points'!C18/$M$2)","v":100},{"$f":"$M$2*INT('Plotting pos of raw data points'!B18/$M$2)","v":40},{"$f":"$M$2*INT('Plotting pos of raw data points'!A18/$M$2)","v":40},null,null,null,null,"[80%,100%]",{"$f":"(O7+O8)/O$33","v":{"$error":"#REF!"}},{"$error":"#REF!"},{"$error":"#DIV/0!"},0,0,0.16666666666666666,0.27500000000000002,0.71830985915492962,0.51388888888888884]
[{"$f":"$M$2*INT('Plotting pos of raw data points'!I19/$M$2)","v":-20},{"$f":"$M$2*INT('Plotting pos of raw data points'!H19/$M$2)","v":-20},{"$f":"$M$2*INT('Plotting pos of raw data points'!G19/$M$2)","v":-20},{"$f":"$M$2*INT('Plotting pos of raw data points'!F19/$M$2)","v":-20},{"$f":"$M$2*INT('Plotting pos of raw data points'!E19/$M$2)","v":-20},{"$f":"$M$2*INT('Plotting pos of raw data points'!D19/$M$2)","v":-20},{"$f":"$M$2*INT('Plotting pos of raw data points'!C19/$M$2)","v":80},{"$f":"$M$2*INT('Plotting pos of raw data points'!B19/$M$2)","v":-20},{"$f":"$M$2*INT('Plotting pos of raw data points'!A19/$M$2)","v":-20}]
[{"$f":"$M$2*INT('Plotting pos of raw data points'!I20/$M$2)","v":-20},{"$f":"$M$2*INT('Plotting pos of raw data points'!H20/$M$2)","v":-20},{"$f":"$M$2*INT('Plotting pos of raw data points'!G20/$M$2)","v":-20},{"$f":"$M$2*INT('Plotting pos of raw data points'!F20/$M$2)","v":-20},{"$f":"$M$2*INT('Plotting pos of raw data points'!E20/$M$2)","v":-20},{"$f":"$M$2*INT('Plotting pos of raw data points'!D20/$M$2)","v":-20},{"$f":"$M$2*INT('Plotting pos of raw data points'!C20/$M$2)","v":-20},{"$f":"$M$2*INT('Plotting pos of raw data points'!B20/$M$2)","v":80},{"$f":"$M$2*INT('Plotting pos of raw data points'!A20/$M$2)","v":80},null,null,null,null,"White space for plots"]
[{"$f":"$M$2*INT('Plotting pos of raw data points'!I21/$M$2)","v":-20},{"$f":"$M$2*INT('Plotting pos of raw data points'!H21/$M$2)","v":-20},{"$f":"$M$2*INT('Plotting pos of raw data points'!G21/$M$2)","v":-20},{"$f":"$M$2*INT('Plotting pos of raw data points'!F21/$M$2)","v":-20},{"$f":"$M$2*INT('Plotting pos of raw data points'!E21/$M$2)","v":-20},{"$f":"$M$2*INT('Plotting pos of raw data points'!D21/$M$2)","v":-20},{"$f":"$M$2*INT('Plotting pos of raw data points'!C21/$M$2)","v":20},{"$f":"$M$2*INT('Plotting pos of raw data points'!B21/$M$2)","v":60},{"$f":"$M$2*INT('Plotting pos of raw data points'!A21/$M$2)","v":20},null,null,null,null,{"$f":"N13","v":"No answer given"},{"$f":"1-O13","v":{"$error":"#REF!"}},{"$f":"1-P13","v":{"$error":"#REF!"}},{"$f":"1-Q13","v":{"$error":"#DIV/0!"}},-18.8,-13.142857142857142,-14.5,-0.47500000000000009,0.60563380281690149]
[{"$f":"$M$2*INT('Plotting pos of raw data points'!I22/$M$2)","v":-20},{"$f":"$M$2*INT('Plotting pos of raw data points'!H22/$M$2)","v":-20},{"$f":"$M$2*INT('Plotting pos of raw data points'!G22/$M$2)","v":-20},{"$f":"$M$2*INT('Plotting pos of raw data points'!F22/$M$2)","v":-20},{"$f":"$M$2*INT('Plotting pos of raw data points'!E22/$M$2)","v":-20},{"$f":"$M$2*INT('Plotting pos of raw data points'!D22/$M$2)","v":-20},{"$f":"$M$2*INT('Plotting pos of raw data points'!C22/$M$2)","v":-20},{"$f":"$M$2*INT('Plotting pos of raw data points'!B22/$M$2)","v":80},{"$f":"$M$2*INT('Plotting pos of raw data points'!A22/$M$2)","v":100},null,null,null,null,"[0,20%)",{"$f":"1-O14","v":{"$error":"#REF!"}},{"$error":"#REF!"},{"$error":"#DIV/0!"},1,1,0.5,0.85,1]
[{"$f":"$M$2*INT('Plotting pos of raw data points'!I23/$M$2)","v":-20},{"$f":"$M$2*INT('Plotting pos of raw data points'!H23/$M$2)","v":-20},{"$f":"$M$2*INT('Plotting pos of raw data points'!G23/$M$2)","v":-20},{"$f":"$M$2*INT('Plotting pos of raw data points'!F23/$M$2)","v":-20},{"$f":"$M$2*INT('Plotting pos of raw data points'!E23/$M$2)","v":-20},{"$f":"$M$2*INT('Plotting pos of raw data points'!D23/$M$2)","v":-20},{"$f":"$M$2*INT('Plotting pos of raw data points'!C23/$M$2)","v":-20},{"$f":"$M$2*INT('Plotting pos of raw data points'!B23/$M$2)","v":-20},{"$f":"$M$2*INT('Plotting pos of raw data points'!A23/$M$2)","v":-20},null,null,null,null,"[20%,40%)",{"$error":"#REF!"},{"$error":"#REF!"},{"$error":"#DIV/0!"},1,1,1,0.85,1]
[{"$f":"$M$2*INT('Plotting pos of raw data points'!I24/$M$2)","v":-20},{"$f":"$M$2*INT('Plotting pos of raw data points'!H24/$M$2)","v":-20},{"$f":"$M$2*INT('Plotting pos of raw data points'!G24/$M$2)","v":-20},{"$f":"$M$2*INT('Plotting pos of raw data points'!F24/$M$2)","v":-20},{"$f":"$M$2*INT('Plotting pos of raw data points'!E24/$M$2)","v":-20},{"$f":"$M$2*INT('Plotting pos of raw data points'!D24/$M$2)","v":-20},{"$f":"$M$2*INT('Plotting pos of raw data points'!C24/$M$2)","v":100},{"$f":"$M$2*INT('Plotting pos of raw data points'!B24/$M$2)","v":80},{"$f":"$M$2*INT('Plotting pos of raw data points'!A24/$M$2)","v":60},null,null,null,null,"[40%,60%)",{"$error":"#REF!"},{"$error":"#REF!"},{"$error":"#DIV/0!"},1,1,0.83333333333333337,0.92500000000000004,0.91549295774647887]
[{"$f":"$M$2*INT('Plotting pos of raw data points'!I25/$M$2)","v":-20},{"$f":"$M$2*INT('Plotting pos of raw data points'!H25/$M$2)","v":-20},{"$f":"$M$2*INT('Plotting pos of raw data points'!G25/$M$2)","v":-20},{"$f":"$M$2*INT('Plotting pos of raw data points'!F25/$M$2)","v":-20},{"$f":"$M$2*INT('Plotting pos of raw data points'!E25/$M$2)","v":-20},{"$f":"$M$2*INT('Plotting pos of raw data points'!D25/$M$2)","v":-20},{"$f":"$M$2*INT('Plotting pos of raw data points'!C25/$M$2)","v":-20},{"$f":"$M$2*INT('Plotting pos of raw data points'!B25/$M$2)","v":60},{"$f":"$M$2*INT('Plotting pos of raw data points'!A25/$M$2)","v":60},null,null,null,null,"[60%,80%)",{"$error":"#REF!"},{"$error":"#REF!"},{"$error":"#DIV/0!"},1,1,0.83333333333333337,0.65,0.80281690140845074]
[{"$f":"$M$2*INT('Plotting pos of raw data points'!I26/$M$2)","v":-20},{"$f":"$M$2*INT('Plotting pos of raw data points'!H26/$M$2)","v":-20},{"$f":"$M$2*INT('Plotting pos of raw data points'!G26/$M$2)","v":-20},{"$f":"$M$2*INT('Plotting pos of raw data points'!F26/$M$2)","v":-20},{"$f":"$M$2*INT('Plotting pos of raw data points'!E26/$M$2)","v":-20},{"$f":"$M$2*INT('Plotting pos of raw data points'!D26/$M$2)","v":-20},{"$f":"$M$2*INT('Plotting pos of raw data points'!C26/$M$2)","v":-20},{"$f":"$M$2*INT('Plotting pos of raw data points'!B26/$M$2)","v":40},{"$f":"$M$2*INT('Plotting pos of raw data points'!A26/$M$2)","v":40},null,null,null,null,"[80%,100%]",{"$error":"#REF!"},{"$error":"#REF!"},{"$error":"#DIV/0!"},1,1,0.83333333333333337,0.72499999999999998,0.28169014084507038]
[{"$f":"$M$2*INT('Plotting pos of raw data points'!I27/$M$2)","v":-20},{"$f":"$M$2*INT('Plotting pos of raw data points'!H27/$M$2)","v":-20},{"$f":"$M$2*INT('Plotting pos of raw data points'!G27/$M$2)","v":-20},{"$f":"$M$2*INT('Plotting pos of raw data points'!F27/$M$2)","v":-20},{"$f":"$M$2*INT('Plotting pos of raw data points'!E27/$M$2)","v":-20},{"$f":"$M$2*INT('Plotting pos of raw data points'!D27/$M$2)","v":-20},{"$f":"$M$2*INT('Plotting pos of raw data points'!C27/$M$2)","v":40},{"$f":"$M$2*INT('Plotting pos of raw data points'!B27/$M$2)","v":80},{"$f":"$M$2*INT('Plotting pos of raw data points'!A27/$M$2)","v":80}]
[{"$f":"$M$2*INT('Plotting pos of raw data points'!I28/$M$2)","v":-20},{"$f":"$M$2*INT('Plotting pos of raw data points'!H28/$M$2)","v":-20},{"$f":"$M$2*INT('Plotting pos of raw data points'!G28/$M$2)","v":-20},{"$f":"$M$2*INT('Plotting pos of raw data points'!F28/$M$2)","v":-20},{"$f":"$M$2*INT('Plotting pos of raw data points'!E28/$M$2)","v":-20},{"$f":"$M$2*INT('Plotting pos of raw data points'!D28/$M$2)","v":-20},{"$f":"$M$2*INT('Plotting pos of raw data points'!C28/$M$2)","v":-20},{"$f":"$M$2*INT('Plotting pos of raw data points'!B28/$M$2)","v":80},{"$f":"$M$2*INT('Plotting pos of raw data points'!A28/$M$2)","v":80},null,null,null,null,"Vertical positions for names",{"$f":"P28-1","v":-5},{"$f":"Q28-1","v":-4},-3,-2,-1,0,1,{"$f":"W28-1","v":2},{"$f":"$M$9","v":3}]
[{"$f":"$M$2*INT('Plotting pos of raw data points'!I29/$M$2)","v":-20},{"$f":"$M$2*INT('Plotting pos of raw data points'!H29/$M$2)","v":-20},{"$f":"$M$2*INT('Plotting pos of raw data points'!G29/$M$2)","v":-20},{"$f":"$M$2*INT('Plotting pos of raw data points'!F29/$M$2)","v":-20},{"$f":"$M$2*INT('Plotting pos of raw data points'!E29/$M$2)","v":-20},{"$f":"$M$2*INT('Plotting pos of raw data points'!D29/$M$2)","v":-20},{"$f":"$M$2*INT('Plotting pos of raw data points'!C29/$M$2)","v":-20},{"$f":"$M$2*INT('Plotting pos of raw data points'!B29/$M$2)","v":-20},{"$f":"$M$2*INT('Plotting pos of raw data points'!A29/$M$2)","v":-20},null,null,null,null,null,0,0,0,0,0,0,0,0,0]
[{"$f":"$M$2*INT('Plotting pos of raw data points'!I30/$M$2)","v":-20},{"$f":"$M$2*INT('Plotting pos of raw data points'!H30/$M$2)","v":-20},{"$f":"$M$2*INT('Plotting pos of raw data points'!G30/$M$2)","v":-20},{"$f":"$M$2*INT('Plotting pos of raw data points'!F30/$M$2)","v":-20},{"$f":"$M$2*INT('Plotting pos of raw data points'!E30/$M$2)","v":-20},{"$f":"$M$2*INT('Plotting pos of raw data points'!D30/$M$2)","v":-20},{"$f":"$M$2*INT('Plotting pos of raw data points'!C30/$M$2)","v":-20},{"$f":"$M$2*INT('Plotting pos of raw data points'!B30/$M$2)","v":100},{"$f":"$M$2*INT('Plotting pos of raw data points'!A30/$M$2)","v":20},null,null,null,null,"Horizontal axis title"]
[{"$f":"$M$2*INT('Plotting pos of raw data points'!I31/$M$2)","v":-20},{"$f":"$M$2*INT('Plotting pos of raw data points'!H31/$M$2)","v":-20},{"$f":"$M$2*INT('Plotting pos of raw data points'!G31/$M$2)","v":-20},{"$f":"$M$2*INT('Plotting pos of raw data points'!F31/$M$2)","v":-20},{"$f":"$M$2*INT('Plotting pos of raw data points'!E31/$M$2)","v":-20},{"$f":"$M$2*INT('Plotting pos of raw data points'!D31/$M$2)","v":-20},{"$f":"$M$2*INT('Plotting pos of raw data points'!C31/$M$2)","v":-20},{"$f":"$M$2*INT('Plotting pos of raw data points'!B31/$M$2)","v":-20},{"$f":"$M$2*INT('Plotting pos of raw data points'!A31/$M$2)","v":-20},null,null,null,null,"Respondent's assessment of educational value for each context"]
[{"$f":"$M$2*INT('Plotting pos of raw data points'!I32/$M$2)","v":-20},{"$f":"$M$2*INT('Plotting pos of raw data points'!H32/$M$2)","v":-20},{"$f":"$M$2*INT('Plotting pos of raw data points'!G32/$M$2)","v":-20},{"$f":"$M$2*INT('Plotting pos of raw data points'!F32/$M$2)","v":-20},{"$f":"$M$2*INT('Plotting pos of raw data points'!E32/$M$2)","v":-20},{"$f":"$M$2*INT('Plotting pos of raw data points'!D32/$M$2)","v":-20},{"$f":"$M$2*INT('Plotting pos of raw data points'!C32/$M$2)","v":60},{"$f":"$M$2*INT('Plotting pos of raw data points'!B32/$M$2)","v":100},{"$f":"$M$2*INT('Plotting pos of raw data points'!A32/$M$2)","v":20},null,null,null,null,null,"No of responses to subquestion"]
[{"$f":"$M$2*INT('Plotting pos of raw data points'!I33/$M$2)","v":-20},{"$f":"$M$2*INT('Plotting pos of raw data points'!H33/$M$2)","v":-20},{"$f":"$M$2*INT('Plotting pos of raw data points'!G33/$M$2)","v":-20},{"$f":"$M$2*INT('Plotting pos of raw data points'!F33/$M$2)","v":-20},{"$f":"$M$2*INT('Plotting pos of raw data points'!E33/$M$2)","v":-20},{"$f":"$M$2*INT('Plotting pos of raw data points'!D33/$M$2)","v":-20},{"$f":"$M$2*INT('Plotting pos of raw data points'!C33/$M$2)","v":-20},{"$f":"$M$2*INT('Plotting pos of raw data points'!B33/$M$2)","v":100},{"$f":"$M$2*INT('Plotting pos of raw data points'!A33/$M$2)","v":40},null,null,null,null,null,{"$f":"COUNTA(OFFSET(Foglio1!Q$2,0,0,$M$7,1))","v":0},{"$f":"COUNTA(OFFSET(Foglio1!P$2,0,0,$M$7,1))","v":0},{"$f":"COUNTA(OFFSET(Foglio1!O$2,0,0,$M$7,1))","v":0},{"$f":"COUNTA(OFFSET(Foglio1!S$2,0,0,$M$7,1))","v":5},{"$f":"COUNTA(OFFSET(Foglio1!R$2,0,0,$M$7,1))","v":7},{"$f":"COUNTA(OFFSET(Foglio1!L$2,0,0,$M$7,1))","v":6},{"$f":"COUNTA(OFFSET(Foglio1!K$2,0,0,$M$7,1))","v":40},{"$f":"COUNTA(OFFSET(Foglio1!J$2,0,0,$M$7,1))","v":71},{"$f":"COUNTA(OFFSET(Foglio1!I$2,0,0,$M$7,1))","v":72}]
[{"$f":"$M$2*INT('Plotting pos of raw data points'!I34/$M$2)","v":-20},{"$f":"$M$2*INT('Plotting pos of raw data points'!H34/$M$2)","v":-20},{"$f":"$M$2*INT('Plotting pos of raw data points'!G34/$M$2)","v":-20},{"$f":"$M$2*INT('Plotting pos of raw data points'!F34/$M$2)","v":-20},{"$f":"$M$2*INT('Plotting pos of raw data points'!E34/$M$2)","v":-20},{"$f":"$M$2*INT('Plotting pos of raw data points'!D34/$M$2)","v":-20},{"$f":"$M$2*INT('Plotting pos of raw data points'!C34/$M$2)","v":60},{"$f":"$M$2*INT('Plotting pos of raw data points'!B34/$M$2)","v":80},{"$f":"$M$2*INT('Plotting pos of raw data points'!A34/$M$2)","v":60}]
[{"$f":"$M$2*INT('Plotting pos of raw data points'!I35/$M$2)","v":-20},{"$f":"$M$2*INT('Plotting pos of raw data points'!H35/$M$2)","v":-20},{"$f":"$M$2*INT('Plotting pos of raw data points'!G35/$M$2)","v":-20},{"$f":"$M$2*INT('Plotting pos of raw data points'!F35/$M$2)","v":-20},{"$f":"$M$2*INT('Plotting pos of raw data points'!E35/$M$2)","v":-20},{"$f":"$M$2*INT('Plotting pos of raw data points'!D35/$M$2)","v":-20},{"$f":"$M$2*INT('Plotting pos of raw data points'!C35/$M$2)","v":-20},{"$f":"$M$2*INT('Plotting pos of raw data points'!B35/$M$2)","v":60},{"$f":"$M$2*INT('Plotting pos of raw data points'!A35/$M$2)","v":60}]
[{"$f":"$M$2*INT('Plotting pos of raw data points'!I36/$M$2)","v":-20},{"$f":"$M$2*INT('Plotting pos of raw data points'!H36/$M$2)","v":-20},{"$f":"$M$2*INT('Plotting pos of raw data points'!G36/$M$2)","v":-20},{"$f":"$M$2*INT('Plotting pos of raw data points'!F36/$M$2)","v":-20},{"$f":"$M$2*INT('Plotting pos of raw data points'!E36/$M$2)","v":-20},{"$f":"$M$2*INT('Plotting pos of raw data points'!D36/$M$2)","v":-20},{"$f":"$M$2*INT('Plotting pos of raw data points'!C36/$M$2)","v":-20},{"$f":"$M$2*INT('Plotting pos of raw data points'!B36/$M$2)","v":60},{"$f":"$M$2*INT('Plotting pos of raw data points'!A36/$M$2)","v":60}]
[{"$f":"$M$2*INT('Plotting pos of raw data points'!I37/$M$2)","v":-20},{"$f":"$M$2*INT('Plotting pos of raw data points'!H37/$M$2)","v":-20},{"$f":"$M$2*INT('Plotting pos of raw data points'!G37/$M$2)","v":-20},{"$f":"$M$2*INT('Plotting pos of raw data points'!F37/$M$2)","v":-20},{"$f":"$M$2*INT('Plotting pos of raw data points'!E37/$M$2)","v":-20},{"$f":"$M$2*INT('Plotting pos of raw data points'!D37/$M$2)","v":-20},{"$f":"$M$2*INT('Plotting pos of raw data points'!C37/$M$2)","v":60},{"$f":"$M$2*INT('Plotting pos of raw data points'!B37/$M$2)","v":80},{"$f":"$M$2*INT('Plotting pos of raw data points'!A37/$M$2)","v":80},null,null,null,null,null,null,"Medians","Q1","Q3","Means","Weighted"]
[{"$f":"$M$2*INT('Plotting pos of raw data points'!I38/$M$2)","v":-20},{"$f":"$M$2*INT('Plotting pos of raw data points'!H38/$M$2)","v":-20},{"$f":"$M$2*INT('Plotting pos of raw data points'!G38/$M$2)","v":-20},{"$f":"$M$2*INT('Plotting pos of raw data points'!F38/$M$2)","v":-20},{"$f":"$M$2*INT('Plotting pos of raw data points'!E38/$M$2)","v":-20},{"$f":"$M$2*INT('Plotting pos of raw data points'!D38/$M$2)","v":-20},{"$f":"$M$2*INT('Plotting pos of raw data points'!C38/$M$2)","v":40},{"$f":"$M$2*INT('Plotting pos of raw data points'!B38/$M$2)","v":100},{"$f":"$M$2*INT('Plotting pos of raw data points'!A38/$M$2)","v":80},null,null,null,null,null,{"$f":"O40-1","v":-5},{"$f":"MEDIAN(OFFSET(Foglio1!$Q$2,0,0,$M$7,1))","v":{"$error":"#NUM!"}},{"$f":"_xlfn.QUARTILE.EXC(OFFSET(Foglio1!$Q$2,0,0,$M$7,1),1)","v":{"$error":"#NUM!"}},{"$f":"_xlfn.QUARTILE.EXC(OFFSET(Foglio1!$Q$2,0,0,$M$7,1),3)","v":{"$error":"#NUM!"}},{"$f":"AVERAGE(OFFSET(Foglio1!Q$2,0,0,$M$7,1))","v":{"$error":"#DIV/0!"}},{"$f":"SUMPRODUCT(OFFSET(Foglio1!Q$2,0,0,$M$7,1),OFFSET(Foglio1!$X$2,0,0,$M$7,1))/SUM(OFFSET(Foglio1!$X$2,0,0,$M$7,1))","v":{"$error":"#DIV/0!"}}]
[{"$f":"$M$2*INT('Plotting pos of raw data points'!I39/$M$2)","v":-20},{"$f":"$M$2*INT('Plotting pos of raw data points'!H39/$M$2)","v":-20},{"$f":"$M$2*INT('Plotting pos of raw data points'!G39/$M$2)","v":-20},{"$f":"$M$2*INT('Plotting pos of raw data points'!F39/$M$2)","v":-20},{"$f":"$M$2*INT('Plotting pos of raw data points'!E39/$M$2)","v":-20},{"$f":"$M$2*INT('Plotting pos of raw data points'!D39/$M$2)","v":-20},{"$f":"$M$2*INT('Plotting pos of raw data points'!C39/$M$2)","v":-20},{"$f":"$M$2*INT('Plotting pos of raw data points'!B39/$M$2)","v":80},{"$f":"$M$2*INT('Plotting pos of raw data points'!A39/$M$2)","v":0},null,null,null,null,null,{"$f":"O38+0.9","v":-4.0999999999999996},{"$f":"MEDIAN(OFFSET(Foglio1!$Q$2,0,0,$M$7,1))","v":{"$error":"#NUM!"}},{"$f":"_xlfn.QUARTILE.EXC(OFFSET(Foglio1!$Q$2,0,0,$M$7,1),1)","v":{"$error":"#NUM!"}},{"$f":"_xlfn.QUARTILE.EXC(OFFSET(Foglio1!$Q$2,0,0,$M$7,1),3)","v":{"$error":"#NUM!"}},{"$f":"AVERAGE(OFFSET(Foglio1!Q$2,0,0,$M$7,1))","v":{"$error":"#DIV/0!"}},{"$f":"SUMPRODUCT(OFFSET(Foglio1!Q$2,0,0,$M$7,1),OFFSET(Foglio1!$X$2,0,0,$M$7,1))/SUM(OFFSET(Foglio1!$X$2,0,0,$M$7,1))","v":{"$error":"#DIV/0!"}}]
[{"$f":"$M$2*INT('Plotting pos of raw data points'!I40/$M$2)","v":-20},{"$f":"$M$2*INT('Plotting pos of raw data points'!H40/$M$2)","v":-20},{"$f":"$M$2*INT('Plotting pos of raw data points'!G40/$M$2)","v":-20},{"$f":"$M$2*INT('Plotting pos of raw data points'!F40/$M$2)","v":-20},{"$f":"$M$2*INT('Plotting pos of raw data points'!E40/$M$2)","v":-20},{"$f":"$M$2*INT('Plotting pos of raw data points'!D40/$M$2)","v":-20},{"$f":"$M$2*INT('Plotting pos of raw data points'!C40/$M$2)","v":-20},{"$f":"$M$2*INT('Plotting pos of raw data points'!B40/$M$2)","v":-20},{"$f":"$M$2*INT('Plotting pos of raw data points'!A40/$M$2)","v":-20},null,null,null,null,null,{"$f":"O42-1","v":-4},{"$f":"MEDIAN(OFFSET(Foglio1!$P$2,0,0,$M$7,1))","v":{"$error":"#NUM!"}},{"$f":"_xlfn.QUARTILE.EXC(OFFSET(Foglio1!$P$2,0,0,$M$7,1),1)","v":{"$error":"#NUM!"}},{"$f":"_xlfn.QUARTILE.EXC(OFFSET(Foglio1!$P$2,0,0,$M$7,1),3)","v":{"$error":"#NUM!"}},{"$f":"AVERAGE(OFFSET(Foglio1!P$2,0,0,$M$7,1))","v":{"$error":"#DIV/0!"}},{"$f":"SUMPRODUCT(OFFSET(Foglio1!P$2,0,0,$M$7,1),OFFSET(Foglio1!$X$2,0,0,$M$7,1))/SUM(OFFSET(Foglio1!$X$2,0,0,$M$7,1))","v":{"$error":"#DIV/0!"}}]
[{"$f":"$M$2*INT('Plotting pos of raw data points'!I41/$M$2)","v":-20},{"$f":"$M$2*INT('Plotting pos of raw data points'!H41/$M$2)","v":-20},{"$f":"$M$2*INT('Plotting pos of raw data points'!G41/$M$2)","v":-20},{"$f":"$M$2*INT('Plotting pos of raw data points'!F41/$M$2)","v":-20},{"$f":"$M$2*INT('Plotting pos of raw data points'!E41/$M$2)","v":-20},{"$f":"$M$2*INT('Plotting pos of raw data points'!D41/$M$2)","v":-20},{"$f":"$M$2*INT('Plotting pos of raw data points'!C41/$M$2)","v":80},{"$f":"$M$2*INT('Plotting pos of raw data points'!B41/$M$2)","v":80},{"$f":"$M$2*INT('Plotting pos of raw data points'!A41/$M$2)","v":80},null,null,null,null,null,{"$f":"O40+0.9","v":-3.1},{"$f":"MEDIAN(OFFSET(Foglio1!$P$2,0,0,$M$7,1))","v":{"$error":"#NUM!"}},{"$f":"_xlfn.QUARTILE.EXC(OFFSET(Foglio1!$P$2,0,0,$M$7,1),1)","v":{"$error":"#NUM!"}},{"$f":"_xlfn.QUARTILE.EXC(OFFSET(Foglio1!$P$2,0,0,$M$7,1),3)","v":{"$error":"#NUM!"}},{"$f":"AVERAGE(OFFSET(Foglio1!P$2,0,0,$M$7,1))","v":{"$error":"#DIV/0!"}},{"$f":"SUMPRODUCT(OFFSET(Foglio1!P$2,0,0,$M$7,1),OFFSET(Foglio1!$X$2,0,0,$M$7,1))/SUM(OFFSET(Foglio1!$X$2,0,0,$M$7,1))","v":{"$error":"#DIV/0!"}}]
[{"$f":"$M$2*INT('Plotting pos of raw data points'!I42/$M$2)","v":-20},{"$f":"$M$2*INT('Plotting pos of raw data points'!H42/$M$2)","v":-20},{"$f":"$M$2*INT('Plotting pos of raw data points'!G42/$M$2)","v":-20},{"$f":"$M$2*INT('Plotting pos of raw data points'!F42/$M$2)","v":-20},{"$f":"$M$2*INT('Plotting pos of raw data points'!E42/$M$2)","v":-20},{"$f":"$M$2*INT('Plotting pos of raw data points'!D42/$M$2)","v":-20},{"$f":"$M$2*INT('Plotting pos of raw data points'!C42/$M$2)","v":-20},{"$f":"$M$2*INT('Plotting pos of raw data points'!B42/$M$2)","v":-20},{"$f":"$M$2*INT('Plotting pos of raw data points'!A42/$M$2)","v":-20},null,null,null,null,null,{"$f":"O44-1","v":-3},{"$f":"MEDIAN(OFFSET(Foglio1!$O$2,0,0,$M$7,1))","v":{"$error":"#NUM!"}},{"$f":"_xlfn.QUARTILE.EXC(OFFSET(Foglio1!$O$2,0,0,$M$7,1),1)","v":{"$error":"#NUM!"}},{"$f":"_xlfn.QUARTILE.EXC(OFFSET(Foglio1!$O$2,0,0,$M$7,1),3)","v":{"$error":"#NUM!"}},{"$f":"AVERAGE(OFFSET(Foglio1!O$2,0,0,$M$7,1))","v":{"$error":"#DIV/0!"}},{"$f":"SUMPRODUCT(OFFSET(Foglio1!O$2,0,0,$M$7,1),OFFSET(Foglio1!$X$2,0,0,$M$7,1))/SUM(OFFSET(Foglio1!$X$2,0,0,$M$7,1))","v":{"$error":"#DIV/0!"}}]
[{"$f":"$M$2*INT('Plotting pos of raw data points'!I43/$M$2)","v":-20},{"$f":"$M$2*INT('Plotting pos of raw data points'!H43/$M$2)","v":-20},{"$f":"$M$2*INT('Plotting pos of raw data points'!G43/$M$2)","v":-20},{"$f":"$M$2*INT('Plotting pos of raw data points'!F43/$M$2)","v":-20},{"$f":"$M$2*INT('Plotting pos of raw data points'!E43/$M$2)","v":-20},{"$f":"$M$2*INT('Plotting pos of raw data points'!D43/$M$2)","v":-20},{"$f":"$M$2*INT('Plotting pos of raw data points'!C43/$M$2)","v":-20},{"$f":"$M$2*INT('Plotting pos of raw data points'!B43/$M$2)","v":100},{"$f":"$M$2*INT('Plotting pos of raw data points'!A43/$M$2)","v":100},null,null,null,null,null,{"$f":"O42+0.9","v":-2.1},{"$f":"MEDIAN(OFFSET(Foglio1!$O$2,0,0,$M$7,1))","v":{"$error":"#NUM!"}},{"$f":"_xlfn.QUARTILE.EXC(OFFSET(Foglio1!$O$2,0,0,$M$7,1),1)","v":{"$error":"#NUM!"}},{"$f":"_xlfn.QUARTILE.EXC(OFFSET(Foglio1!$O$2,0,0,$M$7,1),3)","v":{"$error":"#NUM!"}},{"$f":"AVERAGE(OFFSET(Foglio1!O$2,0,0,$M$7,1))","v":{"$error":"#DIV/0!"}},{"$f":"SUMPRODUCT(OFFSET(Foglio1!O$2,0,0,$M$7,1),OFFSET(Foglio1!$X$2,0,0,$M$7,1))/SUM(OFFSET(Foglio1!$X$2,0,0,$M$7,1))","v":{"$error":"#DIV/0!"}}]
[{"$f":"$M$2*INT('Plotting pos of raw data points'!I44/$M$2)","v":-20},{"$f":"$M$2*INT('Plotting pos of raw data points'!H44/$M$2)","v":-20},{"$f":"$M$2*INT('Plotting pos of raw data points'!G44/$M$2)","v":-20},{"$f":"$M$2*INT('Plotting pos of raw data points'!F44/$M$2)","v":-20},{"$f":"$M$2*INT('Plotting pos of raw data points'!E44/$M$2)","v":-20},{"$f":"$M$2*INT('Plotting pos of raw data points'!D44/$M$2)","v":-20},{"$f":"$M$2*INT('Plotting pos of raw data points'!C44/$M$2)","v":-20},{"$f":"$M$2*INT('Plotting pos of raw data points'!B44/$M$2)","v":60},{"$f":"$M$2*INT('Plotting pos of raw data points'!A44/$M$2)","v":60},null,null,null,null,null,{"$f":"O46-1","v":-2},{"$f":"MEDIAN(OFFSET(Foglio1!$S$2,0,0,$M$7,1))","v":{"$error":"#NUM!"}},{"$f":"_xlfn.QUARTILE.EXC(OFFSET(Foglio1!$S$2,0,0,$M$7,1),1)","v":{"$error":"#NUM!"}},{"$f":"_xlfn.QUARTILE.EXC(OFFSET(Foglio1!$S$2,0,0,$M$7,1),3)","v":{"$error":"#NUM!"}},{"$f":"AVERAGE(OFFSET(Foglio1!S$2,0,0,$M$7,1))","v":{"$error":"#DIV/0!"}},{"$f":"SUMPRODUCT(OFFSET(Foglio1!S$2,0,0,$M$7,1),OFFSET(Foglio1!$X$2,0,0,$M$7,1))/SUM(OFFSET(Foglio1!$X$2,0,0,$M$7,1))","v":{"$error":"#DIV/0!"}}]
[{"$f":"$M$2*INT('Plotting pos of raw data points'!I45/$M$2)","v":-20},{"$f":"$M$2*INT('Plotting pos of raw data points'!H45/$M$2)","v":-20},{"$f":"$M$2*INT('Plotting pos of raw data points'!G45/$M$2)","v":-20},{"$f":"$M$2*INT('Plotting pos of raw data points'!F45/$M$2)","v":-20},{"$f":"$M$2*INT('Plotting pos of raw data points'!E45/$M$2)","v":-20},{"$f":"$M$2*INT('Plotting pos of raw data points'!D45/$M$2)","v":-20},{"$f":"$M$2*INT('Plotting pos of raw data points'!C45/$M$2)","v":-20},{"$f":"$M$2*INT('Plotting pos of raw data points'!B45/$M$2)","v":100},{"$f":"$M$2*INT('Plotting pos of raw data points'!A45/$M$2)","v":80},null,null,null,null,null,{"$f":"O44+0.9","v":-1.1000000000000001},{"$f":"MEDIAN(OFFSET(Foglio1!$S$2,0,0,$M$7,1))","v":{"$error":"#NUM!"}},{"$f":"_xlfn.QUARTILE.EXC(OFFSET(Foglio1!$S$2,0,0,$M$7,1),1)","v":{"$error":"#NUM!"}},{"$f":"_xlfn.QUARTILE.EXC(OFFSET(Foglio1!$S$2,0,0,$M$7,1),3)","v":{"$error":"#NUM!"}},{"$f":"AVERAGE(OFFSET(Foglio1!S$2,0,0,$M$7,1))","v":{"$error":"#DIV/0!"}},{"$f":"SUMPRODUCT(OFFSET(Foglio1!S$2,0,0,$M$7,1),OFFSET(Foglio1!$X$2,0,0,$M$7,1))/SUM(OFFSET(Foglio1!$X$2,0,0,$M$7,1))","v":{"$error":"#DIV/0!"}}]
[{"$f":"$M$2*INT('Plotting pos of raw data points'!I46/$M$2)","v":-20},{"$f":"$M$2*INT('Plotting pos of raw data points'!H46/$M$2)","v":-20},{"$f":"$M$2*INT('Plotting pos of raw data points'!G46/$M$2)","v":-20},{"$f":"$M$2*INT('Plotting pos of raw data points'!F46/$M$2)","v":-20},{"$f":"$M$2*INT('Plotting pos of raw data points'!E46/$M$2)","v":-20},{"$f":"$M$2*INT('Plotting pos of raw data points'!D46/$M$2)","v":-20},{"$f":"$M$2*INT('Plotting pos of raw data points'!C46/$M$2)","v":80},{"$f":"$M$2*INT('Plotting pos of raw data points'!B46/$M$2)","v":-20},{"$f":"$M$2*INT('Plotting pos of raw data points'!A46/$M$2)","v":80},null,null,null,null,null,{"$f":"O48-1","v":-1},{"$f":"MEDIAN(OFFSET(Foglio1!$R$2,0,0,$M$7,1))","v":{"$error":"#NUM!"}},{"$f":"_xlfn.QUARTILE.EXC(OFFSET(Foglio1!$R$2,0,0,$M$7,1),1)","v":{"$error":"#NUM!"}},{"$f":"_xlfn.QUARTILE.EXC(OFFSET(Foglio1!$R$2,0,0,$M$7,1),3)","v":{"$error":"#NUM!"}},{"$f":"AVERAGE(OFFSET(Foglio1!R$2,0,0,$M$7,1))","v":{"$error":"#DIV/0!"}},{"$f":"SUMPRODUCT(OFFSET(Foglio1!R$2,0,0,$M$7,1),OFFSET(Foglio1!$X$2,0,0,$M$7,1))/SUM(OFFSET(Foglio1!$X$2,0,0,$M$7,1))","v":{"$error":"#DIV/0!"}}]
[{"$f":"$M$2*INT('Plotting pos of raw data points'!I47/$M$2)","v":-20},{"$f":"$M$2*INT('Plotting pos of raw data points'!H47/$M$2)","v":-20},{"$f":"$M$2*INT('Plotting pos of raw data points'!G47/$M$2)","v":-20},{"$f":"$M$2*INT('Plotting pos of raw data points'!F47/$M$2)","v":-20},{"$f":"$M$2*INT('Plotting pos of raw data points'!E47/$M$2)","v":-20},{"$f":"$M$2*INT('Plotting pos of raw data points'!D47/$M$2)","v":-20},{"$f":"$M$2*INT('Plotting pos of raw data points'!C47/$M$2)","v":-20},{"$f":"$M$2*INT('Plotting pos of raw data points'!B47/$M$2)","v":-20},{"$f":"$M$2*INT('Plotting pos of raw data points'!A47/$M$2)","v":-20},null,null,null,null,null,{"$f":"O46+0.9","v":-9.9999999999999978E-2},{"$f":"MEDIAN(OFFSET(Foglio1!$R$2,0,0,$M$7,1))","v":{"$error":"#NUM!"}},{"$f":"_xlfn.QUARTILE.EXC(OFFSET(Foglio1!$R$2,0,0,$M$7,1),1)","v":{"$error":"#NUM!"}},{"$f":"_xlfn.QUARTILE.EXC(OFFSET(Foglio1!$R$2,0,0,$M$7,1),3)","v":{"$error":"#NUM!"}},{"$f":"AVERAGE(OFFSET(Foglio1!R$2,0,0,$M$7,1))","v":{"$error":"#DIV/0!"}},{"$f":"SUMPRODUCT(OFFSET(Foglio1!R$2,0,0,$M$7,1),OFFSET(Foglio1!$X$2,0,0,$M$7,1))/SUM(OFFSET(Foglio1!$X$2,0,0,$M$7,1))","v":{"$error":"#DIV/0!"}}]
[{"$f":"$M$2*INT('Plotting pos of raw data points'!I48/$M$2)","v":-20},{"$f":"$M$2*INT('Plotting pos of raw data points'!H48/$M$2)","v":-20},{"$f":"$M$2*INT('Plotting pos of raw data points'!G48/$M$2)","v":-20},{"$f":"$M$2*INT('Plotting pos of raw data points'!F48/$M$2)","v":-20},{"$f":"$M$2*INT('Plotting pos of raw data points'!E48/$M$2)","v":-20},{"$f":"$M$2*INT('Plotting pos of raw data points'!D48/$M$2)","v":-20},{"$f":"$M$2*INT('Plotting pos of raw data points'!C48/$M$2)","v":-20},{"$f":"$M$2*INT('Plotting pos of raw data points'!B48/$M$2)","v":100},{"$f":"$M$2*INT('Plotting pos of raw data points'!A48/$M$2)","v":60},null,null,null,null,null,{"$f":"O50-1","v":0},{"$f":"MEDIAN(OFFSET(Foglio1!$L$2,0,0,$M$7,1))","v":25},{"$f":"_xlfn.QUARTILE.EXC(OFFSET(Foglio1!$L$2,0,0,$M$7,1),1)","v":0},{"$f":"_xlfn.QUARTILE.EXC(OFFSET(Foglio1!$L$2,0,0,$M$7,1),3)","v":70},{"$f":"AVERAGE(OFFSET(Foglio1!L$2,0,0,$M$7,1))","v":35},{"$f":"SUMPRODUCT(OFFSET(Foglio1!L$2,0,0,$M$7,1),OFFSET(Foglio1!$X$2,0,0,$M$7,1))/SUM(OFFSET(Foglio1!$X$2,0,0,$M$7,1))","v":{"$error":"#DIV/0!"}}]
[{"$f":"$M$2*INT('Plotting pos of raw data points'!I49/$M$2)","v":-20},{"$f":"$M$2*INT('Plotting pos of raw data points'!H49/$M$2)","v":-20},{"$f":"$M$2*INT('Plotting pos of raw data points'!G49/$M$2)","v":-20},{"$f":"$M$2*INT('Plotting pos of raw data points'!F49/$M$2)","v":-20},{"$f":"$M$2*INT('Plotting pos of raw data points'!E49/$M$2)","v":-20},{"$f":"$M$2*INT('Plotting pos of raw data points'!D49/$M$2)","v":-20},{"$f":"$M$2*INT('Plotting pos of raw data points'!C49/$M$2)","v":-20},{"$f":"$M$2*INT('Plotting pos of raw data points'!B49/$M$2)","v":100},{"$f":"$M$2*INT('Plotting pos of raw data points'!A49/$M$2)","v":80},null,null,null,null,null,{"$f":"O48+0.9","v":0.9},{"$f":"MEDIAN(OFFSET(Foglio1!$L$2,0,0,$M$7,1))","v":25},{"$f":"_xlfn.QUARTILE.EXC(OFFSET(Foglio1!$L$2,0,0,$M$7,1),1)","v":0},{"$f":"_xlfn.QUARTILE.EXC(OFFSET(Foglio1!$L$2,0,0,$M$7,1),3)","v":70},{"$f":"AVERAGE(OFFSET(Foglio1!L$2,0,0,$M$7,1))","v":35},{"$f":"SUMPRODUCT(OFFSET(Foglio1!L$2,0,0,$M$7,1),OFFSET(Foglio1!$X$2,0,0,$M$7,1))/SUM(OFFSET(Foglio1!$X$2,0,0,$M$7,1))","v":{"$error":"#DIV/0!"}}]
[{"$f":"$M$2*INT('Plotting pos of raw data points'!I50/$M$2)","v":-20},{"$f":"$M$2*INT('Plotting pos of raw data points'!H50/$M$2)","v":-20},{"$f":"$M$2*INT('Plotting pos of raw data points'!G50/$M$2)","v":-20},{"$f":"$M$2*INT('Plotting pos of raw data points'!F50/$M$2)","v":-20},{"$f":"$M$2*INT('Plotting pos of raw data points'!E50/$M$2)","v":-20},{"$f":"$M$2*INT('Plotting pos of raw data points'!D50/$M$2)","v":-20},{"$f":"$M$2*INT('Plotting pos of raw data points'!C50/$M$2)","v":80},{"$f":"$M$2*INT('Plotting pos of raw data points'!B50/$M$2)","v":80},{"$f":"$M$2*INT('Plotting pos of raw data points'!A50/$M$2)","v":100},null,null,null,null,null,{"$f":"O52-1","v":1},{"$f":"MEDIAN(OFFSET(Foglio1!$K$2,0,0,$M$7,1))","v":60},{"$f":"_xlfn.QUARTILE.EXC(OFFSET(Foglio1!$K$2,0,0,$M$7,1),1)","v":30},{"$f":"_xlfn.QUARTILE.EXC(OFFSET(Foglio1!$K$2,0,0,$M$7,1),3)","v":80},{"$f":"AVERAGE(OFFSET(Foglio1!K$2,0,0,$M$7,1))","v":54},{"$f":"SUMPRODUCT(OFFSET(Foglio1!K$2,0,0,$M$7,1),OFFSET(Foglio1!$X$2,0,0,$M$7,1))/SUM(OFFSET(Foglio1!$X$2,0,0,$M$7,1))","v":{"$error":"#DIV/0!"}}]
[{"$f":"$M$2*INT('Plotting pos of raw data points'!I51/$M$2)","v":-20},{"$f":"$M$2*INT('Plotting pos of raw data points'!H51/$M$2)","v":-20},{"$f":"$M$2*INT('Plotting pos of raw data points'!G51/$M$2)","v":-20},{"$f":"$M$2*INT('Plotting pos of raw data points'!F51/$M$2)","v":-20},{"$f":"$M$2*INT('Plotting pos of raw data points'!E51/$M$2)","v":-20},{"$f":"$M$2*INT('Plotting pos of raw data points'!D51/$M$2)","v":-20},{"$f":"$M$2*INT('Plotting pos of raw data points'!C51/$M$2)","v":-20},{"$f":"$M$2*INT('Plotting pos of raw data points'!B51/$M$2)","v":-20},{"$f":"$M$2*INT('Plotting pos of raw data points'!A51/$M$2)","v":-20},null,null,null,null,null,{"$f":"O50+0.9","v":1.9},{"$f":"MEDIAN(OFFSET(Foglio1!$K$2,0,0,$M$7,1))","v":60},{"$f":"_xlfn.QUARTILE.EXC(OFFSET(Foglio1!$K$2,0,0,$M$7,1),1)","v":30},{"$f":"_xlfn.QUARTILE.EXC(OFFSET(Foglio1!$K$2,0,0,$M$7,1),3)","v":80},{"$f":"AVERAGE(OFFSET(Foglio1!K$2,0,0,$M$7,1))","v":54},{"$f":"SUMPRODUCT(OFFSET(Foglio1!K$2,0,0,$M$7,1),OFFSET(Foglio1!$X$2,0,0,$M$7,1))/SUM(OFFSET(Foglio1!$X$2,0,0,$M$7,1))","v":{"$error":"#DIV/0!"}}]
[{"$f":"$M$2*INT('Plotting pos of raw data points'!I52/$M$2)","v":-20},{"$f":"$M$2*INT('Plotting pos of raw data points'!H52/$M$2)","v":-20},{"$f":"$M$2*INT('Plotting pos of raw data points'!G52/$M$2)","v":-20},{"$f":"$M$2*INT('Plotting pos of raw data points'!F52/$M$2)","v":-20},{"$f":"$M$2*INT('Plotting pos of raw data points'!E52/$M$2)","v":-20},{"$f":"$M$2*INT('Plotting pos of raw data points'!D52/$M$2)","v":-20},{"$f":"$M$2*INT('Plotting pos of raw data points'!C52/$M$2)","v":20},{"$f":"$M$2*INT('Plotting pos of raw data points'!B52/$M$2)","v":60},{"$f":"$M$2*INT('Plotting pos of raw data points'!A52/$M$2)","v":60},null,null,null,null,null,{"$f":"O54-1","v":2},{"$f":"MEDIAN(OFFSET(Foglio1!$J$2,0,0,$M$7,1))","v":80},{"$f":"_xlfn.QUARTILE.EXC(OFFSET(Foglio1!$J$2,0,0,$M$7,1),1)","v":71},{"$f":"_xlfn.QUARTILE.EXC(OFFSET(Foglio1!$J$2,0,0,$M$7,1),3)","v":100},{"$f":"AVERAGE(OFFSET(Foglio1!J$2,0,0,$M$7,1))","v":81.985915492957744},{"$f":"SUMPRODUCT(OFFSET(Foglio1!J$2,0,0,$M$7,1),OFFSET(Foglio1!$X$2,0,0,$M$7,1))/SUM(OFFSET(Foglio1!$X$2,0,0,$M$7,1))","v":{"$error":"#DIV/0!"}}]
[{"$f":"$M$2*INT('Plotting pos of raw data points'!I53/$M$2)","v":-20},{"$f":"$M$2*INT('Plotting pos of raw data points'!H53/$M$2)","v":-20},{"$f":"$M$2*INT('Plotting pos of raw data points'!G53/$M$2)","v":-20},{"$f":"$M$2*INT('Plotting pos of raw data points'!F53/$M$2)","v":-20},{"$f":"$M$2*INT('Plotting pos of raw data points'!E53/$M$2)","v":-20},{"$f":"$M$2*INT('Plotting pos of raw data points'!D53/$M$2)","v":-20},{"$f":"$M$2*INT('Plotting pos of raw data points'!C53/$M$2)","v":-20},{"$f":"$M$2*INT('Plotting pos of raw data points'!B53/$M$2)","v":80},{"$f":"$M$2*INT('Plotting pos of raw data points'!A53/$M$2)","v":60},null,null,null,null,null,{"$f":"O52+0.9","v":2.9},{"$f":"MEDIAN(OFFSET(Foglio1!$J$2,0,0,$M$7,1))","v":80},{"$f":"_xlfn.QUARTILE.EXC(OFFSET(Foglio1!$J$2,0,0,$M$7,1),1)","v":71},{"$f":"_xlfn.QUARTILE.EXC(OFFSET(Foglio1!$J$2,0,0,$M$7,1),3)","v":100},{"$f":"AVERAGE(OFFSET(Foglio1!J$2,0,0,$M$7,1))","v":81.985915492957744},{"$f":"SUMPRODUCT(OFFSET(Foglio1!J$2,0,0,$M$7,1),OFFSET(Foglio1!$X$2,0,0,$M$7,1))/SUM(OFFSET(Foglio1!$X$2,0,0,$M$7,1))","v":{"$error":"#DIV/0!"}}]
[{"$f":"$M$2*INT('Plotting pos of raw data points'!I54/$M$2)","v":-20},{"$f":"$M$2*INT('Plotting pos of raw data points'!H54/$M$2)","v":-20},{"$f":"$M$2*INT('Plotting pos of raw data points'!G54/$M$2)","v":-20},{"$f":"$M$2*INT('Plotting pos of raw data points'!F54/$M$2)","v":-20},{"$f":"$M$2*INT('Plotting pos of raw data points'!E54/$M$2)","v":-20},{"$f":"$M$2*INT('Plotting pos of raw data points'!D54/$M$2)","v":-20},{"$f":"$M$2*INT('Plotting pos of raw data points'!C54/$M$2)","v":-20},{"$f":"$M$2*INT('Plotting pos of raw data points'!B54/$M$2)","v":80},{"$f":"$M$2*INT('Plotting pos of raw data points'!A54/$M$2)","v":80},null,null,null,null,null,{"$f":"$M$9","v":3},{"$f":"MEDIAN(OFFSET(Foglio1!$I$2,0,0,$M$7,1))","v":80},{"$f":"_xlfn.QUARTILE.EXC(OFFSET(Foglio1!$I$2,0,0,$M$7,1),1)","v":60},{"$f":"_xlfn.QUARTILE.EXC(OFFSET(Foglio1!$I$2,0,0,$M$7,1),3)","v":83.75},{"$f":"AVERAGE(OFFSET(Foglio1!I$2,0,0,$M$7,1))","v":71.152777777777771},{"$f":"SUMPRODUCT(OFFSET(Foglio1!I$2,0,0,$M$7,1),OFFSET(Foglio1!$X$2,0,0,$M$7,1))/SUM(OFFSET(Foglio1!$X$2,0,0,$M$7,1))","v":{"$error":"#DIV/0!"}}]
[{"$f":"$M$2*INT('Plotting pos of raw data points'!I55/$M$2)","v":-20},{"$f":"$M$2*INT('Plotting pos of raw data points'!H55/$M$2)","v":-20},{"$f":"$M$2*INT('Plotting pos of raw data points'!G55/$M$2)","v":-20},{"$f":"$M$2*INT('Plotting pos of raw data points'!F55/$M$2)","v":-20},{"$f":"$M$2*INT('Plotting pos of raw data points'!E55/$M$2)","v":-20},{"$f":"$M$2*INT('Plotting pos of raw data points'!D55/$M$2)","v":-20},{"$f":"$M$2*INT('Plotting pos of raw data points'!C55/$M$2)","v":20},{"$f":"$M$2*INT('Plotting pos of raw data points'!B55/$M$2)","v":80},{"$f":"$M$2*INT('Plotting pos of raw data points'!A55/$M$2)","v":80},null,null,null,null,null,{"$f":"O54+0.9","v":3.9},{"$f":"MEDIAN(OFFSET(Foglio1!$I$2,0,0,$M$7,1))","v":80},{"$f":"_xlfn.QUARTILE.EXC(OFFSET(Foglio1!$I$2,0,0,$M$7,1),1)","v":60},{"$f":"_xlfn.QUARTILE.EXC(OFFSET(Foglio1!$I$2,0,0,$M$7,1),3)","v":83.75},{"$f":"AVERAGE(OFFSET(Foglio1!I$2,0,0,$M$7,1))","v":71.152777777777771},{"$f":"SUMPRODUCT(OFFSET(Foglio1!I$2,0,0,$M$7,1),OFFSET(Foglio1!$X$2,0,0,$M$7,1))/SUM(OFFSET(Foglio1!$X$2,0,0,$M$7,1))","v":{"$error":"#DIV/0!"}}]
[{"$f":"$M$2*INT('Plotting pos of raw data points'!I56/$M$2)","v":-20},{"$f":"$M$2*INT('Plotting pos of raw data points'!H56/$M$2)","v":-20},{"$f":"$M$2*INT('Plotting pos of raw data points'!G56/$M$2)","v":-20},{"$f":"$M$2*INT('Plotting pos of raw data points'!F56/$M$2)","v":-20},{"$f":"$M$2*INT('Plotting pos of raw data points'!E56/$M$2)","v":-20},{"$f":"$M$2*INT('Plotting pos of raw data points'!D56/$M$2)","v":-20},{"$f":"$M$2*INT('Plotting pos of raw data points'!C56/$M$2)","v":0},{"$f":"$M$2*INT('Plotting pos of raw data points'!B56/$M$2)","v":100},{"$f":"$M$2*INT('Plotting pos of raw data points'!A56/$M$2)","v":100}]
[{"$f":"$M$2*INT('Plotting pos of raw data points'!I57/$M$2)","v":-20},{"$f":"$M$2*INT('Plotting pos of raw data points'!H57/$M$2)","v":-20},{"$f":"$M$2*INT('Plotting pos of raw data points'!G57/$M$2)","v":-20},{"$f":"$M$2*INT('Plotting pos of raw data points'!F57/$M$2)","v":-20},{"$f":"$M$2*INT('Plotting pos of raw data points'!E57/$M$2)","v":-20},{"$f":"$M$2*INT('Plotting pos of raw data points'!D57/$M$2)","v":-20},{"$f":"$M$2*INT('Plotting pos of raw data points'!C57/$M$2)","v":-20},{"$f":"$M$2*INT('Plotting pos of raw data points'!B57/$M$2)","v":-20},{"$f":"$M$2*INT('Plotting pos of raw data points'!A57/$M$2)","v":-20}]
[{"$f":"$M$2*INT('Plotting pos of raw data points'!I58/$M$2)","v":-20},{"$f":"$M$2*INT('Plotting pos of raw data points'!H58/$M$2)","v":-20},{"$f":"$M$2*INT('Plotting pos of raw data points'!G58/$M$2)","v":-20},{"$f":"$M$2*INT('Plotting pos of raw data points'!F58/$M$2)","v":-20},{"$f":"$M$2*INT('Plotting pos of raw data points'!E58/$M$2)","v":-20},{"$f":"$M$2*INT('Plotting pos of raw data points'!D58/$M$2)","v":-20},{"$f":"$M$2*INT('Plotting pos of raw data points'!C58/$M$2)","v":-20},{"$f":"$M$2*INT('Plotting pos of raw data points'!B58/$M$2)","v":-20},{"$f":"$M$2*INT('Plotting pos of raw data points'!A58/$M$2)","v":-20}]
[{"$f":"$M$2*INT('Plotting pos of raw data points'!I59/$M$2)","v":-20},{"$f":"$M$2*INT('Plotting pos of raw data points'!H59/$M$2)","v":-20},{"$f":"$M$2*INT('Plotting pos of raw data points'!G59/$M$2)","v":-20},{"$f":"$M$2*INT('Plotting pos of raw data points'!F59/$M$2)","v":-20},{"$f":"$M$2*INT('Plotting pos of raw data points'!E59/$M$2)","v":-20},{"$f":"$M$2*INT('Plotting pos of raw data points'!D59/$M$2)","v":40},{"$f":"$M$2*INT('Plotting pos of raw data points'!C59/$M$2)","v":-20},{"$f":"$M$2*INT('Plotting pos of raw data points'!B59/$M$2)","v":80},{"$f":"$M$2*INT('Plotting pos of raw data points'!A59/$M$2)","v":80}]
[{"$f":"$M$2*INT('Plotting pos of raw data points'!I60/$M$2)","v":-20},{"$f":"$M$2*INT('Plotting pos of raw data points'!H60/$M$2)","v":-20},{"$f":"$M$2*INT('Plotting pos of raw data points'!G60/$M$2)","v":-20},{"$f":"$M$2*INT('Plotting pos of raw data points'!F60/$M$2)","v":-20},{"$f":"$M$2*INT('Plotting pos of raw data points'!E60/$M$2)","v":-20},{"$f":"$M$2*INT('Plotting pos of raw data points'!D60/$M$2)","v":-20},{"$f":"$M$2*INT('Plotting pos of raw data points'!C60/$M$2)","v":-20},{"$f":"$M$2*INT('Plotting pos of raw data points'!B60/$M$2)","v":60},{"$f":"$M$2*INT('Plotting pos of raw data points'!A60/$M$2)","v":80}]
[{"$f":"$M$2*INT('Plotting pos of raw data points'!I61/$M$2)","v":-20},{"$f":"$M$2*INT('Plotting pos of raw data points'!H61/$M$2)","v":-20},{"$f":"$M$2*INT('Plotting pos of raw data points'!G61/$M$2)","v":-20},{"$f":"$M$2*INT('Plotting pos of raw data points'!F61/$M$2)","v":-20},{"$f":"$M$2*INT('Plotting pos of raw data points'!E61/$M$2)","v":-20},{"$f":"$M$2*INT('Plotting pos of raw data points'!D61/$M$2)","v":-20},{"$f":"$M$2*INT('Plotting pos of raw data points'!C61/$M$2)","v":-20},{"$f":"$M$2*INT('Plotting pos of raw data points'!B61/$M$2)","v":-20},{"$f":"$M$2*INT('Plotting pos of raw data points'!A61/$M$2)","v":-20}]
[{"$f":"$M$2*INT('Plotting pos of raw data points'!I62/$M$2)","v":-20},{"$f":"$M$2*INT('Plotting pos of raw data points'!H62/$M$2)","v":-20},{"$f":"$M$2*INT('Plotting pos of raw data points'!G62/$M$2)","v":-20},{"$f":"$M$2*INT('Plotting pos of raw data points'!F62/$M$2)","v":-20},{"$f":"$M$2*INT('Plotting pos of raw data points'!E62/$M$2)","v":-20},{"$f":"$M$2*INT('Plotting pos of raw data points'!D62/$M$2)","v":-20},{"$f":"$M$2*INT('Plotting pos of raw data points'!C62/$M$2)","v":-20},{"$f":"$M$2*INT('Plotting pos of raw data points'!B62/$M$2)","v":-20},{"$f":"$M$2*INT('Plotting pos of raw data points'!A62/$M$2)","v":-20}]
[{"$f":"$M$2*INT('Plotting pos of raw data points'!I63/$M$2)","v":-20},{"$f":"$M$2*INT('Plotting pos of raw data points'!H63/$M$2)","v":-20},{"$f":"$M$2*INT('Plotting pos of raw data points'!G63/$M$2)","v":-20},{"$f":"$M$2*INT('Plotting pos of raw data points'!F63/$M$2)","v":-20},{"$f":"$M$2*INT('Plotting pos of raw data points'!E63/$M$2)","v":-20},{"$f":"$M$2*INT('Plotting pos of raw data points'!D63/$M$2)","v":-20},{"$f":"$M$2*INT('Plotting pos of raw data points'!C63/$M$2)","v":20},{"$f":"$M$2*INT('Plotting pos of raw data points'!B63/$M$2)","v":80},{"$f":"$M$2*INT('Plotting pos of raw data points'!A63/$M$2)","v":60}]
[{"$f":"$M$2*INT('Plotting pos of raw data points'!I64/$M$2)","v":-20},{"$f":"$M$2*INT('Plotting pos of raw data points'!H64/$M$2)","v":-20},{"$f":"$M$2*INT('Plotting pos of raw data points'!G64/$M$2)","v":-20},{"$f":"$M$2*INT('Plotting pos of raw data points'!F64/$M$2)","v":-20},{"$f":"$M$2*INT('Plotting pos of raw data points'!E64/$M$2)","v":-20},{"$f":"$M$2*INT('Plotting pos of raw data points'!D64/$M$2)","v":-20},{"$f":"$M$2*INT('Plotting pos of raw data points'!C64/$M$2)","v":-20},{"$f":"$M$2*INT('Plotting pos of raw data points'!B64/$M$2)","v":100},{"$f":"$M$2*INT('Plotting pos of raw data points'!A64/$M$2)","v":80}]
[{"$f":"$M$2*INT('Plotting pos of raw data points'!I65/$M$2)","v":-20},{"$f":"$M$2*INT('Plotting pos of raw data points'!H65/$M$2)","v":-20},{"$f":"$M$2*INT('Plotting pos of raw data points'!G65/$M$2)","v":-20},{"$f":"$M$2*INT('Plotting pos of raw data points'!F65/$M$2)","v":-20},{"$f":"$M$2*INT('Plotting pos of raw data points'!E65/$M$2)","v":-20},{"$f":"$M$2*INT('Plotting pos of raw data points'!D65/$M$2)","v":-20},{"$f":"$M$2*INT('Plotting pos of raw data points'!C65/$M$2)","v":-20},{"$f":"$M$2*INT('Plotting pos of raw data points'!B65/$M$2)","v":100},{"$f":"$M$2*INT('Plotting pos of raw data points'!A65/$M$2)","v":60}]
[{"$f":"$M$2*INT('Plotting pos of raw data points'!I66/$M$2)","v":-20},{"$f":"$M$2*INT('Plotting pos of raw data points'!H66/$M$2)","v":-20},{"$f":"$M$2*INT('Plotting pos of raw data points'!G66/$M$2)","v":-20},{"$f":"$M$2*INT('Plotting pos of raw data points'!F66/$M$2)","v":-20},{"$f":"$M$2*INT('Plotting pos of raw data points'!E66/$M$2)","v":-20},{"$f":"$M$2*INT('Plotting pos of raw data points'!D66/$M$2)","v":-20},{"$f":"$M$2*INT('Plotting pos of raw data points'!C66/$M$2)","v":60},{"$f":"$M$2*INT('Plotting pos of raw data points'!B66/$M$2)","v":80},{"$f":"$M$2*INT('Plotting pos of raw data points'!A66/$M$2)","v":60}]
[{"$f":"$M$2*INT('Plotting pos of raw data points'!I67/$M$2)","v":-20},{"$f":"$M$2*INT('Plotting pos of raw data points'!H67/$M$2)","v":-20},{"$f":"$M$2*INT('Plotting pos of raw data points'!G67/$M$2)","v":-20},{"$f":"$M$2*INT('Plotting pos of raw data points'!F67/$M$2)","v":-20},{"$f":"$M$2*INT('Plotting pos of raw data points'!E67/$M$2)","v":-20},{"$f":"$M$2*INT('Plotting pos of raw data points'!D67/$M$2)","v":-20},{"$f":"$M$2*INT('Plotting pos of raw data points'!C67/$M$2)","v":0},{"$f":"$M$2*INT('Plotting pos of raw data points'!B67/$M$2)","v":60},{"$f":"$M$2*INT('Plotting pos of raw data points'!A67/$M$2)","v":40}]
[{"$f":"$M$2*INT('Plotting pos of raw data points'!I68/$M$2)","v":-20},{"$f":"$M$2*INT('Plotting pos of raw data points'!H68/$M$2)","v":-20},{"$f":"$M$2*INT('Plotting pos of raw data points'!G68/$M$2)","v":-20},{"$f":"$M$2*INT('Plotting pos of raw data points'!F68/$M$2)","v":-20},{"$f":"$M$2*INT('Plotting pos of raw data points'!E68/$M$2)","v":-20},{"$f":"$M$2*INT('Plotting pos of raw data points'!D68/$M$2)","v":-20},{"$f":"$M$2*INT('Plotting pos of raw data points'!C68/$M$2)","v":-20},{"$f":"$M$2*INT('Plotting pos of raw data points'!B68/$M$2)","v":-20},{"$f":"$M$2*INT('Plotting pos of raw data points'!A68/$M$2)","v":-20}]
[{"$f":"$M$2*INT('Plotting pos of raw data points'!I69/$M$2)","v":-20},{"$f":"$M$2*INT('Plotting pos of raw data points'!H69/$M$2)","v":-20},{"$f":"$M$2*INT('Plotting pos of raw data points'!G69/$M$2)","v":-20},{"$f":"$M$2*INT('Plotting pos of raw data points'!F69/$M$2)","v":-20},{"$f":"$M$2*INT('Plotting pos of raw data points'!E69/$M$2)","v":-20},{"$f":"$M$2*INT('Plotting pos of raw data points'!D69/$M$2)","v":-20},{"$f":"$M$2*INT('Plotting pos of raw data points'!C69/$M$2)","v":20},{"$f":"$M$2*INT('Plotting pos of raw data points'!B69/$M$2)","v":80},{"$f":"$M$2*INT('Plotting pos of raw data points'!A69/$M$2)","v":80}]
[{"$f":"$M$2*INT('Plotting pos of raw data points'!I70/$M$2)","v":-20},{"$f":"$M$2*INT('Plotting pos of raw data points'!H70/$M$2)","v":-20},{"$f":"$M$2*INT('Plotting pos of raw data points'!G70/$M$2)","v":-20},{"$f":"$M$2*INT('Plotting pos of raw data points'!F70/$M$2)","v":-20},{"$f":"$M$2*INT('Plotting pos of raw data points'!E70/$M$2)","v":-20},{"$f":"$M$2*INT('Plotting pos of raw data points'!D70/$M$2)","v":-20},{"$f":"$M$2*INT('Plotting pos of raw data points'!C70/$M$2)","v":80},{"$f":"$M$2*INT('Plotting pos of raw data points'!B70/$M$2)","v":80},{"$f":"$M$2*INT('Plotting pos of raw data points'!A70/$M$2)","v":80}]
[{"$f":"$M$2*INT('Plotting pos of raw data points'!I71/$M$2)","v":-20},{"$f":"$M$2*INT('Plotting pos of raw data points'!H71/$M$2)","v":-20},{"$f":"$M$2*INT('Plotting pos of raw data points'!G71/$M$2)","v":-20},{"$f":"$M$2*INT('Plotting pos of raw data points'!F71/$M$2)","v":-20},{"$f":"$M$2*INT('Plotting pos of raw data points'!E71/$M$2)","v":-20},{"$f":"$M$2*INT('Plotting pos of raw data points'!D71/$M$2)","v":-20},{"$f":"$M$2*INT('Plotting pos of raw data points'!C71/$M$2)","v":60},{"$f":"$M$2*INT('Plotting pos of raw data points'!B71/$M$2)","v":60},{"$f":"$M$2*INT('Plotting pos of raw data points'!A71/$M$2)","v":40}]
[{"$f":"$M$2*INT('Plotting pos of raw data points'!I72/$M$2)","v":-20},{"$f":"$M$2*INT('Plotting pos of raw data points'!H72/$M$2)","v":-20},{"$f":"$M$2*INT('Plotting pos of raw data points'!G72/$M$2)","v":-20},{"$f":"$M$2*INT('Plotting pos of raw data points'!F72/$M$2)","v":-20},{"$f":"$M$2*INT('Plotting pos of raw data points'!E72/$M$2)","v":-20},{"$f":"$M$2*INT('Plotting pos of raw data points'!D72/$M$2)","v":-20},{"$f":"$M$2*INT('Plotting pos of raw data points'!C72/$M$2)","v":60},{"$f":"$M$2*INT('Plotting pos of raw data points'!B72/$M$2)","v":80},{"$f":"$M$2*INT('Plotting pos of raw data points'!A72/$M$2)","v":60}]
[{"$f":"$M$2*INT('Plotting pos of raw data points'!I73/$M$2)","v":-20},{"$f":"$M$2*INT('Plotting pos of raw data points'!H73/$M$2)","v":-20},{"$f":"$M$2*INT('Plotting pos of raw data points'!G73/$M$2)","v":-20},{"$f":"$M$2*INT('Plotting pos of raw data points'!F73/$M$2)","v":-20},{"$f":"$M$2*INT('Plotting pos of raw data points'!E73/$M$2)","v":-20},{"$f":"$M$2*INT('Plotting pos of raw data points'!D73/$M$2)","v":-20},{"$f":"$M$2*INT('Plotting pos of raw data points'!C73/$M$2)","v":-20},{"$f":"$M$2*INT('Plotting pos of raw data points'!B73/$M$2)","v":-20},{"$f":"$M$2*INT('Plotting pos of raw data points'!A73/$M$2)","v":-20}]
[{"$f":"$M$2*INT('Plotting pos of raw data points'!I74/$M$2)","v":-20},{"$f":"$M$2*INT('Plotting pos of raw data points'!H74/$M$2)","v":-20},{"$f":"$M$2*INT('Plotting pos of raw data points'!G74/$M$2)","v":-20},{"$f":"$M$2*INT('Plotting pos of raw data points'!F74/$M$2)","v":-20},{"$f":"$M$2*INT('Plotting pos of raw data points'!E74/$M$2)","v":-20},{"$f":"$M$2*INT('Plotting pos of raw data points'!D74/$M$2)","v":-20},{"$f":"$M$2*INT('Plotting pos of raw data points'!C74/$M$2)","v":60},{"$f":"$M$2*INT('Plotting pos of raw data points'!B74/$M$2)","v":80},{"$f":"$M$2*INT('Plotting pos of raw data points'!A74/$M$2)","v":80}]
[{"$f":"$M$2*INT('Plotting pos of raw data points'!I75/$M$2)","v":-20},{"$f":"$M$2*INT('Plotting pos of raw data points'!H75/$M$2)","v":-20},{"$f":"$M$2*INT('Plotting pos of raw data points'!G75/$M$2)","v":-20},{"$f":"$M$2*INT('Plotting pos of raw data points'!F75/$M$2)","v":-20},{"$f":"$M$2*INT('Plotting pos of raw data points'!E75/$M$2)","v":-20},{"$f":"$M$2*INT('Plotting pos of raw data points'!D75/$M$2)","v":-20},{"$f":"$M$2*INT('Plotting pos of raw data points'!C75/$M$2)","v":-20},{"$f":"$M$2*INT('Plotting pos of raw data points'!B75/$M$2)","v":40},{"$f":"$M$2*INT('Plotting pos of raw data points'!A75/$M$2)","v":20}]
[{"$f":"$M$2*INT('Plotting pos of raw data points'!I76/$M$2)","v":-20},{"$f":"$M$2*INT('Plotting pos of raw data points'!H76/$M$2)","v":-20},{"$f":"$M$2*INT('Plotting pos of raw data points'!G76/$M$2)","v":-20},{"$f":"$M$2*INT('Plotting pos of raw data points'!F76/$M$2)","v":-20},{"$f":"$M$2*INT('Plotting pos of raw data points'!E76/$M$2)","v":-20},{"$f":"$M$2*INT('Plotting pos of raw data points'!D76/$M$2)","v":-20},{"$f":"$M$2*INT('Plotting pos of raw data points'!C76/$M$2)","v":-20},{"$f":"$M$2*INT('Plotting pos of raw data points'!B76/$M$2)","v":-20},{"$f":"$M$2*INT('Plotting pos of raw data points'!A76/$M$2)","v":-20}]
[{"$f":"$M$2*INT('Plotting pos of raw data points'!I77/$M$2)","v":-20},{"$f":"$M$2*INT('Plotting pos of raw data points'!H77/$M$2)","v":-20},{"$f":"$M$2*INT('Plotting pos of raw data points'!G77/$M$2)","v":-20},{"$f":"$M$2*INT('Plotting pos of raw data points'!F77/$M$2)","v":-20},{"$f":"$M$2*INT('Plotting pos of raw data points'!E77/$M$2)","v":-20},{"$f":"$M$2*INT('Plotting pos of raw data points'!D77/$M$2)","v":-20},{"$f":"$M$2*INT('Plotting pos of raw data points'!C77/$M$2)","v":-20},{"$f":"$M$2*INT('Plotting pos of raw data points'!B77/$M$2)","v":80},{"$f":"$M$2*INT('Plotting pos of raw data points'!A77/$M$2)","v":80}]
[{"$f":"$M$2*INT('Plotting pos of raw data points'!I78/$M$2)","v":-20},{"$f":"$M$2*INT('Plotting pos of raw data points'!H78/$M$2)","v":-20},{"$f":"$M$2*INT('Plotting pos of raw data points'!G78/$M$2)","v":-20},{"$f":"$M$2*INT('Plotting pos of raw data points'!F78/$M$2)","v":-20},{"$f":"$M$2*INT('Plotting pos of raw data points'!E78/$M$2)","v":-20},{"$f":"$M$2*INT('Plotting pos of raw data points'!D78/$M$2)","v":-20},{"$f":"$M$2*INT('Plotting pos of raw data points'!C78/$M$2)","v":-20},{"$f":"$M$2*INT('Plotting pos of raw data points'!B78/$M$2)","v":-20},{"$f":"$M$2*INT('Plotting pos of raw data points'!A78/$M$2)","v":-20}]
[{"$f":"$M$2*INT('Plotting pos of raw data points'!I79/$M$2)","v":-20},{"$f":"$M$2*INT('Plotting pos of raw data points'!H79/$M$2)","v":-20},{"$f":"$M$2*INT('Plotting pos of raw data points'!G79/$M$2)","v":-20},{"$f":"$M$2*INT('Plotting pos of raw data points'!F79/$M$2)","v":-20},{"$f":"$M$2*INT('Plotting pos of raw data points'!E79/$M$2)","v":-20},{"$f":"$M$2*INT('Plotting pos of raw data points'!D79/$M$2)","v":-20},{"$f":"$M$2*INT('Plotting pos of raw data points'!C79/$M$2)","v":-20},{"$f":"$M$2*INT('Plotting pos of raw data points'!B79/$M$2)","v":100},{"$f":"$M$2*INT('Plotting pos of raw data points'!A79/$M$2)","v":100}]
[{"$f":"$M$2*INT('Plotting pos of raw data points'!I80/$M$2)","v":-20},{"$f":"$M$2*INT('Plotting pos of raw data points'!H80/$M$2)","v":-20},{"$f":"$M$2*INT('Plotting pos of raw data points'!G80/$M$2)","v":-20},{"$f":"$M$2*INT('Plotting pos of raw data points'!F80/$M$2)","v":-20},{"$f":"$M$2*INT('Plotting pos of raw data points'!E80/$M$2)","v":-20},{"$f":"$M$2*INT('Plotting pos of raw data points'!D80/$M$2)","v":-20},{"$f":"$M$2*INT('Plotting pos of raw data points'!C80/$M$2)","v":60},{"$f":"$M$2*INT('Plotting pos of raw data points'!B80/$M$2)","v":40},{"$f":"$M$2*INT('Plotting pos of raw data points'!A80/$M$2)","v":80}]
[{"$f":"$M$2*INT('Plotting pos of raw data points'!I81/$M$2)","v":-20},{"$f":"$M$2*INT('Plotting pos of raw data points'!H81/$M$2)","v":-20},{"$f":"$M$2*INT('Plotting pos of raw data points'!G81/$M$2)","v":-20},{"$f":"$M$2*INT('Plotting pos of raw data points'!F81/$M$2)","v":-20},{"$f":"$M$2*INT('Plotting pos of raw data points'!E81/$M$2)","v":-20},{"$f":"$M$2*INT('Plotting pos of raw data points'!D81/$M$2)","v":-20},{"$f":"$M$2*INT('Plotting pos of raw data points'!C81/$M$2)","v":-20},{"$f":"$M$2*INT('Plotting pos of raw data points'!B81/$M$2)","v":-20},{"$f":"$M$2*INT('Plotting pos of raw data points'!A81/$M$2)","v":-20}]
[{"$f":"$M$2*INT('Plotting pos of raw data points'!I82/$M$2)","v":-20},{"$f":"$M$2*INT('Plotting pos of raw data points'!H82/$M$2)","v":-20},{"$f":"$M$2*INT('Plotting pos of raw data points'!G82/$M$2)","v":-20},{"$f":"$M$2*INT('Plotting pos of raw data points'!F82/$M$2)","v":-20},{"$f":"$M$2*INT('Plotting pos of raw data points'!E82/$M$2)","v":-20},{"$f":"$M$2*INT('Plotting pos of raw data points'!D82/$M$2)","v":-20},{"$f":"$M$2*INT('Plotting pos of raw data points'!C82/$M$2)","v":-20},{"$f":"$M$2*INT('Plotting pos of raw data points'!B82/$M$2)","v":-20},{"$f":"$M$2*INT('Plotting pos of raw data points'!A82/$M$2)","v":-20}]
[{"$f":"$M$2*INT('Plotting pos of raw data points'!I83/$M$2)","v":-20},{"$f":"$M$2*INT('Plotting pos of raw data points'!H83/$M$2)","v":-20},{"$f":"$M$2*INT('Plotting pos of raw data points'!G83/$M$2)","v":-20},{"$f":"$M$2*INT('Plotting pos of raw data points'!F83/$M$2)","v":-20},{"$f":"$M$2*INT('Plotting pos of raw data points'!E83/$M$2)","v":-20},{"$f":"$M$2*INT('Plotting pos of raw data points'!D83/$M$2)","v":-20},{"$f":"$M$2*INT('Plotting pos of raw data points'!C83/$M$2)","v":40},{"$f":"$M$2*INT('Plotting pos of raw data points'!B83/$M$2)","v":80},{"$f":"$M$2*INT('Plotting pos of raw data points'!A83/$M$2)","v":60}]
[{"$f":"$M$2*INT('Plotting pos of raw data points'!I84/$M$2)","v":-20},{"$f":"$M$2*INT('Plotting pos of raw data points'!H84/$M$2)","v":-20},{"$f":"$M$2*INT('Plotting pos of raw data points'!G84/$M$2)","v":-20},{"$f":"$M$2*INT('Plotting pos of raw data points'!F84/$M$2)","v":-20},{"$f":"$M$2*INT('Plotting pos of raw data points'!E84/$M$2)","v":-20},{"$f":"$M$2*INT('Plotting pos of raw data points'!D84/$M$2)","v":-20},{"$f":"$M$2*INT('Plotting pos of raw data points'!C84/$M$2)","v":-20},{"$f":"$M$2*INT('Plotting pos of raw data points'!B84/$M$2)","v":80},{"$f":"$M$2*INT('Plotting pos of raw data points'!A84/$M$2)","v":80}]
[{"$f":"$M$2*INT('Plotting pos of raw data points'!I85/$M$2)","v":-20},{"$f":"$M$2*INT('Plotting pos of raw data points'!H85/$M$2)","v":-20},{"$f":"$M$2*INT('Plotting pos of raw data points'!G85/$M$2)","v":-20},{"$f":"$M$2*INT('Plotting pos of raw data points'!F85/$M$2)","v":-20},{"$f":"$M$2*INT('Plotting pos of raw data points'!E85/$M$2)","v":-20},{"$f":"$M$2*INT('Plotting pos of raw data points'!D85/$M$2)","v":-20},{"$f":"$M$2*INT('Plotting pos of raw data points'!C85/$M$2)","v":80},{"$f":"$M$2*INT('Plotting pos of raw data points'!B85/$M$2)","v":80},{"$f":"$M$2*INT('Plotting pos of raw data points'!A85/$M$2)","v":80}]
[{"$f":"$M$2*INT('Plotting pos of raw data points'!I86/$M$2)","v":-20},{"$f":"$M$2*INT('Plotting pos of raw data points'!H86/$M$2)","v":-20},{"$f":"$M$2*INT('Plotting pos of raw data points'!G86/$M$2)","v":-20},{"$f":"$M$2*INT('Plotting pos of raw data points'!F86/$M$2)","v":-20},{"$f":"$M$2*INT('Plotting pos of raw data points'!E86/$M$2)","v":-20},{"$f":"$M$2*INT('Plotting pos of raw data points'!D86/$M$2)","v":-20},{"$f":"$M$2*INT('Plotting pos of raw data points'!C86/$M$2)","v":60},{"$f":"$M$2*INT('Plotting pos of raw data points'!B86/$M$2)","v":80},{"$f":"$M$2*INT('Plotting pos of raw data points'!A86/$M$2)","v":60}]
[{"$f":"$M$2*INT('Plotting pos of raw data points'!I87/$M$2)","v":-20},{"$f":"$M$2*INT('Plotting pos of raw data points'!H87/$M$2)","v":-20},{"$f":"$M$2*INT('Plotting pos of raw data points'!G87/$M$2)","v":-20},{"$f":"$M$2*INT('Plotting pos of raw data points'!F87/$M$2)","v":-20},{"$f":"$M$2*INT('Plotting pos of raw data points'!E87/$M$2)","v":-20},{"$f":"$M$2*INT('Plotting pos of raw data points'!D87/$M$2)","v":-20},{"$f":"$M$2*INT('Plotting pos of raw data points'!C87/$M$2)","v":60},{"$f":"$M$2*INT('Plotting pos of raw data points'!B87/$M$2)","v":80},{"$f":"$M$2*INT('Plotting pos of raw data points'!A87/$M$2)","v":60}]
[{"$f":"$M$2*INT('Plotting pos of raw data points'!I88/$M$2)","v":-20},{"$f":"$M$2*INT('Plotting pos of raw data points'!H88/$M$2)","v":-20},{"$f":"$M$2*INT('Plotting pos of raw data points'!G88/$M$2)","v":-20},{"$f":"$M$2*INT('Plotting pos of raw data points'!F88/$M$2)","v":-20},{"$f":"$M$2*INT('Plotting pos of raw data points'!E88/$M$2)","v":-20},{"$f":"$M$2*INT('Plotting pos of raw data points'!D88/$M$2)","v":-20},{"$f":"$M$2*INT('Plotting pos of raw data points'!C88/$M$2)","v":-20},{"$f":"$M$2*INT('Plotting pos of raw data points'!B88/$M$2)","v":-20},{"$f":"$M$2*INT('Plotting pos of raw data points'!A88/$M$2)","v":-20}]
[{"$f":"$M$2*INT('Plotting pos of raw data points'!I89/$M$2)","v":-20},{"$f":"$M$2*INT('Plotting pos of raw data points'!H89/$M$2)","v":-20},{"$f":"$M$2*INT('Plotting pos of raw data points'!G89/$M$2)","v":-20},{"$f":"$M$2*INT('Plotting pos of raw data points'!F89/$M$2)","v":-20},{"$f":"$M$2*INT('Plotting pos of raw data points'!E89/$M$2)","v":-20},{"$f":"$M$2*INT('Plotting pos of raw data points'!D89/$M$2)","v":-20},{"$f":"$M$2*INT('Plotting pos of raw data points'!C89/$M$2)","v":-20},{"$f":"$M$2*INT('Plotting pos of raw data points'!B89/$M$2)","v":-20},{"$f":"$M$2*INT('Plotting pos of raw data points'!A89/$M$2)","v":-20}]
[{"$f":"$M$2*INT('Plotting pos of raw data points'!I90/$M$2)","v":-20},{"$f":"$M$2*INT('Plotting pos of raw data points'!H90/$M$2)","v":-20},{"$f":"$M$2*INT('Plotting pos of raw data points'!G90/$M$2)","v":-20},{"$f":"$M$2*INT('Plotting pos of raw data points'!F90/$M$2)","v":-20},{"$f":"$M$2*INT('Plotting pos of raw data points'!E90/$M$2)","v":-20},{"$f":"$M$2*INT('Plotting pos of raw data points'!D90/$M$2)","v":-20},{"$f":"$M$2*INT('Plotting pos of raw data points'!C90/$M$2)","v":80},{"$f":"$M$2*INT('Plotting pos of raw data points'!B90/$M$2)","v":60},{"$f":"$M$2*INT('Plotting pos of raw data points'!A90/$M$2)","v":0}]
[{"$f":"$M$2*INT('Plotting pos of raw data points'!I91/$M$2)","v":-20},{"$f":"$M$2*INT('Plotting pos of raw data points'!H91/$M$2)","v":-20},{"$f":"$M$2*INT('Plotting pos of raw data points'!G91/$M$2)","v":-20},{"$f":"$M$2*INT('Plotting pos of raw data points'!F91/$M$2)","v":-20},{"$f":"$M$2*INT('Plotting pos of raw data points'!E91/$M$2)","v":-20},{"$f":"$M$2*INT('Plotting pos of raw data points'!D91/$M$2)","v":-20},{"$f":"$M$2*INT('Plotting pos of raw data points'!C91/$M$2)","v":-20},{"$f":"$M$2*INT('Plotting pos of raw data points'!B91/$M$2)","v":-20},{"$f":"$M$2*INT('Plotting pos of raw data points'!A91/$M$2)","v":-20}]
[{"$f":"$M$2*INT('Plotting pos of raw data points'!I92/$M$2)","v":-20},{"$f":"$M$2*INT('Plotting pos of raw data points'!H92/$M$2)","v":-20},{"$f":"$M$2*INT('Plotting pos of raw data points'!G92/$M$2)","v":-20},{"$f":"$M$2*INT('Plotting pos of raw data points'!F92/$M$2)","v":-20},{"$f":"$M$2*INT('Plotting pos of raw data points'!E92/$M$2)","v":-20},{"$f":"$M$2*INT('Plotting pos of raw data points'!D92/$M$2)","v":-20},{"$f":"$M$2*INT('Plotting pos of raw data points'!C92/$M$2)","v":-20},{"$f":"$M$2*INT('Plotting pos of raw data points'!B92/$M$2)","v":-20},{"$f":"$M$2*INT('Plotting pos of raw data points'!A92/$M$2)","v":-20}]
[{"$f":"$M$2*INT('Plotting pos of raw data points'!I93/$M$2)","v":-20},{"$f":"$M$2*INT('Plotting pos of raw data points'!H93/$M$2)","v":-20},{"$f":"$M$2*INT('Plotting pos of raw data points'!G93/$M$2)","v":-20},{"$f":"$M$2*INT('Plotting pos of raw data points'!F93/$M$2)","v":-20},{"$f":"$M$2*INT('Plotting pos of raw data points'!E93/$M$2)","v":-20},{"$f":"$M$2*INT('Plotting pos of raw data points'!D93/$M$2)","v":-20},{"$f":"$M$2*INT('Plotting pos of raw data points'!C93/$M$2)","v":-20},{"$f":"$M$2*INT('Plotting pos of raw data points'!B93/$M$2)","v":100},{"$f":"$M$2*INT('Plotting pos of raw data points'!A93/$M$2)","v":100}]
[{"$f":"$M$2*INT('Plotting pos of raw data points'!I94/$M$2)","v":-20},{"$f":"$M$2*INT('Plotting pos of raw data points'!H94/$M$2)","v":-20},{"$f":"$M$2*INT('Plotting pos of raw data points'!G94/$M$2)","v":-20},{"$f":"$M$2*INT('Plotting pos of raw data points'!F94/$M$2)","v":-20},{"$f":"$M$2*INT('Plotting pos of raw data points'!E94/$M$2)","v":-20},{"$f":"$M$2*INT('Plotting pos of raw data points'!D94/$M$2)","v":-20},{"$f":"$M$2*INT('Plotting pos of raw data points'!C94/$M$2)","v":-20},{"$f":"$M$2*INT('Plotting pos of raw data points'!B94/$M$2)","v":40},{"$f":"$M$2*INT('Plotting pos of raw data points'!A94/$M$2)","v":40}]
[{"$f":"$M$2*INT('Plotting pos of raw data points'!I95/$M$2)","v":-20},{"$f":"$M$2*INT('Plotting pos of raw data points'!H95/$M$2)","v":-20},{"$f":"$M$2*INT('Plotting pos of raw data points'!G95/$M$2)","v":-20},{"$f":"$M$2*INT('Plotting pos of raw data points'!F95/$M$2)","v":-20},{"$f":"$M$2*INT('Plotting pos of raw data points'!E95/$M$2)","v":-20},{"$f":"$M$2*INT('Plotting pos of raw data points'!D95/$M$2)","v":-20},{"$f":"$M$2*INT('Plotting pos of raw data points'!C95/$M$2)","v":-20},{"$f":"$M$2*INT('Plotting pos of raw data points'!B95/$M$2)","v":-20},{"$f":"$M$2*INT('Plotting pos of raw data points'!A95/$M$2)","v":-20}]
[{"$f":"$M$2*INT('Plotting pos of raw data points'!I96/$M$2)","v":-20},{"$f":"$M$2*INT('Plotting pos of raw data points'!H96/$M$2)","v":-20},{"$f":"$M$2*INT('Plotting pos of raw data points'!G96/$M$2)","v":-20},{"$f":"$M$2*INT('Plotting pos of raw data points'!F96/$M$2)","v":-20},{"$f":"$M$2*INT('Plotting pos of raw data points'!E96/$M$2)","v":-20},{"$f":"$M$2*INT('Plotting pos of raw data points'!D96/$M$2)","v":-20},{"$f":"$M$2*INT('Plotting pos of raw data points'!C96/$M$2)","v":-20},{"$f":"$M$2*INT('Plotting pos of raw data points'!B96/$M$2)","v":100},{"$f":"$M$2*INT('Plotting pos of raw data points'!A96/$M$2)","v":80}]
[{"$f":"$M$2*INT('Plotting pos of raw data points'!I97/$M$2)","v":-20},{"$f":"$M$2*INT('Plotting pos of raw data points'!H97/$M$2)","v":-20},{"$f":"$M$2*INT('Plotting pos of raw data points'!G97/$M$2)","v":-20},{"$f":"$M$2*INT('Plotting pos of raw data points'!F97/$M$2)","v":-20},{"$f":"$M$2*INT('Plotting pos of raw data points'!E97/$M$2)","v":-20},{"$f":"$M$2*INT('Plotting pos of raw data points'!D97/$M$2)","v":-20},{"$f":"$M$2*INT('Plotting pos of raw data points'!C97/$M$2)","v":-20},{"$f":"$M$2*INT('Plotting pos of raw data points'!B97/$M$2)","v":-20},{"$f":"$M$2*INT('Plotting pos of raw data points'!A97/$M$2)","v":-20}]
[{"$f":"$M$2*INT('Plotting pos of raw data points'!I98/$M$2)","v":-20},{"$f":"$M$2*INT('Plotting pos of raw data points'!H98/$M$2)","v":-20},{"$f":"$M$2*INT('Plotting pos of raw data points'!G98/$M$2)","v":-20},{"$f":"$M$2*INT('Plotting pos of raw data points'!F98/$M$2)","v":-20},{"$f":"$M$2*INT('Plotting pos of raw data points'!E98/$M$2)","v":-20},{"$f":"$M$2*INT('Plotting pos of raw data points'!D98/$M$2)","v":-20},{"$f":"$M$2*INT('Plotting pos of raw data points'!C98/$M$2)","v":100},{"$f":"$M$2*INT('Plotting pos of raw data points'!B98/$M$2)","v":60},{"$f":"$M$2*INT('Plotting pos of raw data points'!A98/$M$2)","v":60}]
[{"$f":"$M$2*INT('Plotting pos of raw data points'!I99/$M$2)","v":-20},{"$f":"$M$2*INT('Plotting pos of raw data points'!H99/$M$2)","v":-20},{"$f":"$M$2*INT('Plotting pos of raw data points'!G99/$M$2)","v":-20},{"$f":"$M$2*INT('Plotting pos of raw data points'!F99/$M$2)","v":-20},{"$f":"$M$2*INT('Plotting pos of raw data points'!E99/$M$2)","v":-20},{"$f":"$M$2*INT('Plotting pos of raw data points'!D99/$M$2)","v":-20},{"$f":"$M$2*INT('Plotting pos of raw data points'!C99/$M$2)","v":-20},{"$f":"$M$2*INT('Plotting pos of raw data points'!B99/$M$2)","v":60},{"$f":"$M$2*INT('Plotting pos of raw data points'!A99/$M$2)","v":40}]
[{"$f":"$M$2*INT('Plotting pos of raw data points'!I100/$M$2)","v":-20},{"$f":"$M$2*INT('Plotting pos of raw data points'!H100/$M$2)","v":-20},{"$f":"$M$2*INT('Plotting pos of raw data points'!G100/$M$2)","v":-20},{"$f":"$M$2*INT('Plotting pos of raw data points'!F100/$M$2)","v":-20},{"$f":"$M$2*INT('Plotting pos of raw data points'!E100/$M$2)","v":-20},{"$f":"$M$2*INT('Plotting pos of raw data points'!D100/$M$2)","v":-20},{"$f":"$M$2*INT('Plotting pos of raw data points'!C100/$M$2)","v":0},{"$f":"$M$2*INT('Plotting pos of raw data points'!B100/$M$2)","v":100},{"$f":"$M$2*INT('Plotting pos of raw data points'!A100/$M$2)","v":100}]
[{"$f":"$M$2*INT('Plotting pos of raw data points'!I101/$M$2)","v":{"$error":"#VALUE!"}},{"$f":"$M$2*INT('Plotting pos of raw data points'!H101/$M$2)","v":{"$error":"#VALUE!"}},{"$f":"$M$2*INT('Plotting pos of raw data points'!G101/$M$2)","v":{"$error":"#VALUE!"}},{"$f":"$M$2*INT('Plotting pos of raw data points'!F101/$M$2)","v":{"$error":"#VALUE!"}},{"$f":"$M$2*INT('Plotting pos of raw data points'!E101/$M$2)","v":{"$error":"#VALUE!"}},{"$f":"$M$2*INT('Plotting pos of raw data points'!D101/$M$2)","v":{"$error":"#VALUE!"}},{"$f":"$M$2*INT('Plotting pos of raw data points'!C101/$M$2)","v":{"$error":"#VALUE!"}},{"$f":"$M$2*INT('Plotting pos of raw data points'!B101/$M$2)","v":{"$error":"#VALUE!"}},{"$f":"$M$2*INT('Plotting pos of raw data points'!A101/$M$2)","v":{"$error":"#VALUE!"}}]
[{"$f":"$M$2*INT('Plotting pos of raw data points'!I102/$M$2)","v":{"$error":"#VALUE!"}},{"$f":"$M$2*INT('Plotting pos of raw data points'!H102/$M$2)","v":{"$error":"#VALUE!"}},{"$f":"$M$2*INT('Plotting pos of raw data points'!G102/$M$2)","v":{"$error":"#VALUE!"}},{"$f":"$M$2*INT('Plotting pos of raw data points'!F102/$M$2)","v":{"$error":"#VALUE!"}},{"$f":"$M$2*INT('Plotting pos of raw data points'!E102/$M$2)","v":{"$error":"#VALUE!"}},{"$f":"$M$2*INT('Plotting pos of raw data points'!D102/$M$2)","v":{"$error":"#VALUE!"}},{"$f":"$M$2*INT('Plotting pos of raw data points'!C102/$M$2)","v":{"$error":"#VALUE!"}},{"$f":"$M$2*INT('Plotting pos of raw data points'!B102/$M$2)","v":{"$error":"#VALUE!"}},{"$f":"$M$2*INT('Plotting pos of raw data points'!A102/$M$2)","v":{"$error":"#VALUE!"}}]
[{"$f":"$M$2*INT('Plotting pos of raw data points'!I103/$M$2)","v":{"$error":"#VALUE!"}},{"$f":"$M$2*INT('Plotting pos of raw data points'!H103/$M$2)","v":{"$error":"#VALUE!"}},{"$f":"$M$2*INT('Plotting pos of raw data points'!G103/$M$2)","v":{"$error":"#VALUE!"}},{"$f":"$M$2*INT('Plotting pos of raw data points'!F103/$M$2)","v":{"$error":"#VALUE!"}},{"$f":"$M$2*INT('Plotting pos of raw data points'!E103/$M$2)","v":{"$error":"#VALUE!"}},{"$f":"$M$2*INT('Plotting pos of raw data points'!D103/$M$2)","v":{"$error":"#VALUE!"}},{"$f":"$M$2*INT('Plotting pos of raw data points'!C103/$M$2)","v":{"$error":"#VALUE!"}},{"$f":"$M$2*INT('Plotting pos of raw data points'!B103/$M$2)","v":{"$error":"#VALUE!"}},{"$f":"$M$2*INT('Plotting pos of raw data points'!A103/$M$2)","v":{"$error":"#VALUE!"}}]
[{"$f":"$M$2*INT('Plotting pos of raw data points'!I104/$M$2)","v":{"$error":"#VALUE!"}},{"$f":"$M$2*INT('Plotting pos of raw data points'!H104/$M$2)","v":{"$error":"#VALUE!"}},{"$f":"$M$2*INT('Plotting pos of raw data points'!G104/$M$2)","v":{"$error":"#VALUE!"}},{"$f":"$M$2*INT('Plotting pos of raw data points'!F104/$M$2)","v":{"$error":"#VALUE!"}},{"$f":"$M$2*INT('Plotting pos of raw data points'!E104/$M$2)","v":{"$error":"#VALUE!"}},{"$f":"$M$2*INT('Plotting pos of raw data points'!D104/$M$2)","v":{"$error":"#VALUE!"}},{"$f":"$M$2*INT('Plotting pos of raw data points'!C104/$M$2)","v":{"$error":"#VALUE!"}},{"$f":"$M$2*INT('Plotting pos of raw data points'!B104/$M$2)","v":{"$error":"#VALUE!"}},{"$f":"$M$2*INT('Plotting pos of raw data points'!A104/$M$2)","v":{"$error":"#VALUE!"}}]
[{"$f":"$M$2*INT('Plotting pos of raw data points'!I105/$M$2)","v":{"$error":"#VALUE!"}},{"$f":"$M$2*INT('Plotting pos of raw data points'!H105/$M$2)","v":{"$error":"#VALUE!"}},{"$f":"$M$2*INT('Plotting pos of raw data points'!G105/$M$2)","v":{"$error":"#VALUE!"}},{"$f":"$M$2*INT('Plotting pos of raw data points'!F105/$M$2)","v":{"$error":"#VALUE!"}},{"$f":"$M$2*INT('Plotting pos of raw data points'!E105/$M$2)","v":{"$error":"#VALUE!"}},{"$f":"$M$2*INT('Plotting pos of raw data points'!D105/$M$2)","v":{"$error":"#VALUE!"}},{"$f":"$M$2*INT('Plotting pos of raw data points'!C105/$M$2)","v":{"$error":"#VALUE!"}},{"$f":"$M$2*INT('Plotting pos of raw data points'!B105/$M$2)","v":{"$error":"#VALUE!"}},{"$f":"$M$2*INT('Plotting pos of raw data points'!A105/$M$2)","v":{"$error":"#VALUE!"}}]
[{"$f":"$M$2*INT('Plotting pos of raw data points'!I106/$M$2)","v":{"$error":"#VALUE!"}},{"$f":"$M$2*INT('Plotting pos of raw data points'!H106/$M$2)","v":{"$error":"#VALUE!"}},{"$f":"$M$2*INT('Plotting pos of raw data points'!G106/$M$2)","v":{"$error":"#VALUE!"}},{"$f":"$M$2*INT('Plotting pos of raw data points'!F106/$M$2)","v":{"$error":"#VALUE!"}},{"$f":"$M$2*INT('Plotting pos of raw data points'!E106/$M$2)","v":{"$error":"#VALUE!"}},{"$f":"$M$2*INT('Plotting pos of raw data points'!D106/$M$2)","v":{"$error":"#VALUE!"}},{"$f":"$M$2*INT('Plotting pos of raw data points'!C106/$M$2)","v":{"$error":"#VALUE!"}},{"$f":"$M$2*INT('Plotting pos of raw data points'!B106/$M$2)","v":{"$error":"#VALUE!"}},{"$f":"$M$2*INT('Plotting pos of raw data points'!A106/$M$2)","v":{"$error":"#VALUE!"}}]
[{"$f":"$M$2*INT('Plotting pos of raw data points'!I107/$M$2)","v":{"$error":"#VALUE!"}},{"$f":"$M$2*INT('Plotting pos of raw data points'!H107/$M$2)","v":{"$error":"#VALUE!"}},{"$f":"$M$2*INT('Plotting pos of raw data points'!G107/$M$2)","v":{"$error":"#VALUE!"}},{"$f":"$M$2*INT('Plotting pos of raw data points'!F107/$M$2)","v":{"$error":"#VALUE!"}},{"$f":"$M$2*INT('Plotting pos of raw data points'!E107/$M$2)","v":{"$error":"#VALUE!"}},{"$f":"$M$2*INT('Plotting pos of raw data points'!D107/$M$2)","v":{"$error":"#VALUE!"}},{"$f":"$M$2*INT('Plotting pos of raw data points'!C107/$M$2)","v":{"$error":"#VALUE!"}},{"$f":"$M$2*INT('Plotting pos of raw data points'!B107/$M$2)","v":{"$error":"#VALUE!"}},{"$f":"$M$2*INT('Plotting pos of raw data points'!A107/$M$2)","v":{"$error":"#VALUE!"}}]
[{"$f":"$M$2*INT('Plotting pos of raw data points'!I108/$M$2)","v":{"$error":"#VALUE!"}},{"$f":"$M$2*INT('Plotting pos of raw data points'!H108/$M$2)","v":{"$error":"#VALUE!"}},{"$f":"$M$2*INT('Plotting pos of raw data points'!G108/$M$2)","v":{"$error":"#VALUE!"}},{"$f":"$M$2*INT('Plotting pos of raw data points'!F108/$M$2)","v":{"$error":"#VALUE!"}},{"$f":"$M$2*INT('Plotting pos of raw data points'!E108/$M$2)","v":{"$error":"#VALUE!"}},{"$f":"$M$2*INT('Plotting pos of raw data points'!D108/$M$2)","v":{"$error":"#VALUE!"}},{"$f":"$M$2*INT('Plotting pos of raw data points'!C108/$M$2)","v":{"$error":"#VALUE!"}},{"$f":"$M$2*INT('Plotting pos of raw data points'!B108/$M$2)","v":{"$error":"#VALUE!"}},{"$f":"$M$2*INT('Plotting pos of raw data points'!A108/$M$2)","v":{"$error":"#VALUE!"}}]
[{"$f":"$M$2*INT('Plotting pos of raw data points'!I109/$M$2)","v":{"$error":"#VALUE!"}},{"$f":"$M$2*INT('Plotting pos of raw data points'!H109/$M$2)","v":{"$error":"#VALUE!"}},{"$f":"$M$2*INT('Plotting pos of raw data points'!G109/$M$2)","v":{"$error":"#VALUE!"}},{"$f":"$M$2*INT('Plotting pos of raw data points'!F109/$M$2)","v":{"$error":"#VALUE!"}},{"$f":"$M$2*INT('Plotting pos of raw data points'!E109/$M$2)","v":{"$error":"#VALUE!"}},{"$f":"$M$2*INT('Plotting pos of raw data points'!D109/$M$2)","v":{"$error":"#VALUE!"}},{"$f":"$M$2*INT('Plotting pos of raw data points'!C109/$M$2)","v":{"$error":"#VALUE!"}},{"$f":"$M$2*INT('Plotting pos of raw data points'!B109/$M$2)","v":{"$error":"#VALUE!"}},{"$f":"$M$2*INT('Plotting pos of raw data points'!A109/$M$2)","v":{"$error":"#VALUE!"}}]
[{"$f":"$M$2*INT('Plotting pos of raw data points'!I110/$M$2)","v":{"$error":"#VALUE!"}},{"$f":"$M$2*INT('Plotting pos of raw data points'!H110/$M$2)","v":{"$error":"#VALUE!"}},{"$f":"$M$2*INT('Plotting pos of raw data points'!G110/$M$2)","v":{"$error":"#VALUE!"}},{"$f":"$M$2*INT('Plotting pos of raw data points'!F110/$M$2)","v":{"$error":"#VALUE!"}},{"$f":"$M$2*INT('Plotting pos of raw data points'!E110/$M$2)","v":{"$error":"#VALUE!"}},{"$f":"$M$2*INT('Plotting pos of raw data points'!D110/$M$2)","v":{"$error":"#VALUE!"}},{"$f":"$M$2*INT('Plotting pos of raw data points'!C110/$M$2)","v":{"$error":"#VALUE!"}},{"$f":"$M$2*INT('Plotting pos of raw data points'!B110/$M$2)","v":{"$error":"#VALUE!"}},{"$f":"$M$2*INT('Plotting pos of raw data points'!A110/$M$2)","v":{"$error":"#VALUE!"}}]
[{"$f":"$M$2*INT('Plotting pos of raw data points'!I111/$M$2)","v":{"$error":"#VALUE!"}},{"$f":"$M$2*INT('Plotting pos of raw data points'!H111/$M$2)","v":{"$error":"#VALUE!"}},{"$f":"$M$2*INT('Plotting pos of raw data points'!G111/$M$2)","v":{"$error":"#VALUE!"}},{"$f":"$M$2*INT('Plotting pos of raw data points'!F111/$M$2)","v":{"$error":"#VALUE!"}},{"$f":"$M$2*INT('Plotting pos of raw data points'!E111/$M$2)","v":{"$error":"#VALUE!"}},{"$f":"$M$2*INT('Plotting pos of raw data points'!D111/$M$2)","v":{"$error":"#VALUE!"}},{"$f":"$M$2*INT('Plotting pos of raw data points'!C111/$M$2)","v":{"$error":"#VALUE!"}},{"$f":"$M$2*INT('Plotting pos of raw data points'!B111/$M$2)","v":{"$error":"#VALUE!"}},{"$f":"$M$2*INT('Plotting pos of raw data points'!A111/$M$2)","v":{"$error":"#VALUE!"}}]
[{"$f":"$M$2*INT('Plotting pos of raw data points'!I112/$M$2)","v":{"$error":"#VALUE!"}},{"$f":"$M$2*INT('Plotting pos of raw data points'!H112/$M$2)","v":{"$error":"#VALUE!"}},{"$f":"$M$2*INT('Plotting pos of raw data points'!G112/$M$2)","v":{"$error":"#VALUE!"}},{"$f":"$M$2*INT('Plotting pos of raw data points'!F112/$M$2)","v":{"$error":"#VALUE!"}},{"$f":"$M$2*INT('Plotting pos of raw data points'!E112/$M$2)","v":{"$error":"#VALUE!"}},{"$f":"$M$2*INT('Plotting pos of raw data points'!D112/$M$2)","v":{"$error":"#VALUE!"}},{"$f":"$M$2*INT('Plotting pos of raw data points'!C112/$M$2)","v":{"$error":"#VALUE!"}},{"$f":"$M$2*INT('Plotting pos of raw data points'!B112/$M$2)","v":{"$error":"#VALUE!"}},{"$f":"$M$2*INT('Plotting pos of raw data points'!A112/$M$2)","v":{"$error":"#VALUE!"}}]
[{"$f":"$M$2*INT('Plotting pos of raw data points'!I113/$M$2)","v":{"$error":"#VALUE!"}},{"$f":"$M$2*INT('Plotting pos of raw data points'!H113/$M$2)","v":{"$error":"#VALUE!"}},{"$f":"$M$2*INT('Plotting pos of raw data points'!G113/$M$2)","v":{"$error":"#VALUE!"}},{"$f":"$M$2*INT('Plotting pos of raw data points'!F113/$M$2)","v":{"$error":"#VALUE!"}},{"$f":"$M$2*INT('Plotting pos of raw data points'!E113/$M$2)","v":{"$error":"#VALUE!"}},{"$f":"$M$2*INT('Plotting pos of raw data points'!D113/$M$2)","v":{"$error":"#VALUE!"}},{"$f":"$M$2*INT('Plotting pos of raw data points'!C113/$M$2)","v":{"$error":"#VALUE!"}},{"$f":"$M$2*INT('Plotting pos of raw data points'!B113/$M$2)","v":{"$error":"#VALUE!"}},{"$f":"$M$2*INT('Plotting pos of raw data points'!A113/$M$2)","v":{"$error":"#VALUE!"}}]
[{"$f":"$M$2*INT('Plotting pos of raw data points'!I114/$M$2)","v":{"$error":"#VALUE!"}},{"$f":"$M$2*INT('Plotting pos of raw data points'!H114/$M$2)","v":{"$error":"#VALUE!"}},{"$f":"$M$2*INT('Plotting pos of raw data points'!G114/$M$2)","v":{"$error":"#VALUE!"}},{"$f":"$M$2*INT('Plotting pos of raw data points'!F114/$M$2)","v":{"$error":"#VALUE!"}},{"$f":"$M$2*INT('Plotting pos of raw data points'!E114/$M$2)","v":{"$error":"#VALUE!"}},{"$f":"$M$2*INT('Plotting pos of raw data points'!D114/$M$2)","v":{"$error":"#VALUE!"}},{"$f":"$M$2*INT('Plotting pos of raw data points'!C114/$M$2)","v":{"$error":"#VALUE!"}},{"$f":"$M$2*INT('Plotting pos of raw data points'!B114/$M$2)","v":{"$error":"#VALUE!"}},{"$f":"$M$2*INT('Plotting pos of raw data points'!A114/$M$2)","v":{"$error":"#VALUE!"}}]
[{"$f":"$M$2*INT('Plotting pos of raw data points'!I115/$M$2)","v":{"$error":"#VALUE!"}},{"$f":"$M$2*INT('Plotting pos of raw data points'!H115/$M$2)","v":{"$error":"#VALUE!"}},{"$f":"$M$2*INT('Plotting pos of raw data points'!G115/$M$2)","v":{"$error":"#VALUE!"}},{"$f":"$M$2*INT('Plotting pos of raw data points'!F115/$M$2)","v":{"$error":"#VALUE!"}},{"$f":"$M$2*INT('Plotting pos of raw data points'!E115/$M$2)","v":{"$error":"#VALUE!"}},{"$f":"$M$2*INT('Plotting pos of raw data points'!D115/$M$2)","v":{"$error":"#VALUE!"}},{"$f":"$M$2*INT('Plotting pos of raw data points'!C115/$M$2)","v":{"$error":"#VALUE!"}},{"$f":"$M$2*INT('Plotting pos of raw data points'!B115/$M$2)","v":{"$error":"#VALUE!"}},{"$f":"$M$2*INT('Plotting pos of raw data points'!A115/$M$2)","v":{"$error":"#VALUE!"}}]
[{"$f":"$M$2*INT('Plotting pos of raw data points'!I116/$M$2)","v":{"$error":"#VALUE!"}},{"$f":"$M$2*INT('Plotting pos of raw data points'!H116/$M$2)","v":{"$error":"#VALUE!"}},{"$f":"$M$2*INT('Plotting pos of raw data points'!G116/$M$2)","v":{"$error":"#VALUE!"}},{"$f":"$M$2*INT('Plotting pos of raw data points'!F116/$M$2)","v":{"$error":"#VALUE!"}},{"$f":"$M$2*INT('Plotting pos of raw data points'!E116/$M$2)","v":{"$error":"#VALUE!"}},{"$f":"$M$2*INT('Plotting pos of raw data points'!D116/$M$2)","v":{"$error":"#VALUE!"}},{"$f":"$M$2*INT('Plotting pos of raw data points'!C116/$M$2)","v":{"$error":"#VALUE!"}},{"$f":"$M$2*INT('Plotting pos of raw data points'!B116/$M$2)","v":{"$error":"#VALUE!"}},{"$f":"$M$2*INT('Plotting pos of raw data points'!A116/$M$2)","v":{"$error":"#VALUE!"}}]
[{"$f":"$M$2*INT('Plotting pos of raw data points'!I117/$M$2)","v":{"$error":"#VALUE!"}},{"$f":"$M$2*INT('Plotting pos of raw data points'!H117/$M$2)","v":{"$error":"#VALUE!"}},{"$f":"$M$2*INT('Plotting pos of raw data points'!G117/$M$2)","v":{"$error":"#VALUE!"}},{"$f":"$M$2*INT('Plotting pos of raw data points'!F117/$M$2)","v":{"$error":"#VALUE!"}},{"$f":"$M$2*INT('Plotting pos of raw data points'!E117/$M$2)","v":{"$error":"#VALUE!"}},{"$f":"$M$2*INT('Plotting pos of raw data points'!D117/$M$2)","v":{"$error":"#VALUE!"}},{"$f":"$M$2*INT('Plotting pos of raw data points'!C117/$M$2)","v":{"$error":"#VALUE!"}},{"$f":"$M$2*INT('Plotting pos of raw data points'!B117/$M$2)","v":{"$error":"#VALUE!"}},{"$f":"$M$2*INT('Plotting pos of raw data points'!A117/$M$2)","v":{"$error":"#VALUE!"}}]
[{"$f":"$M$2*INT('Plotting pos of raw data points'!I118/$M$2)","v":{"$error":"#VALUE!"}},{"$f":"$M$2*INT('Plotting pos of raw data points'!H118/$M$2)","v":{"$error":"#VALUE!"}},{"$f":"$M$2*INT('Plotting pos of raw data points'!G118/$M$2)","v":{"$error":"#VALUE!"}},{"$f":"$M$2*INT('Plotting pos of raw data points'!F118/$M$2)","v":{"$error":"#VALUE!"}},{"$f":"$M$2*INT('Plotting pos of raw data points'!E118/$M$2)","v":{"$error":"#VALUE!"}},{"$f":"$M$2*INT('Plotting pos of raw data points'!D118/$M$2)","v":{"$error":"#VALUE!"}},{"$f":"$M$2*INT('Plotting pos of raw data points'!C118/$M$2)","v":{"$error":"#VALUE!"}},{"$f":"$M$2*INT('Plotting pos of raw data points'!B118/$M$2)","v":{"$error":"#VALUE!"}},{"$f":"$M$2*INT('Plotting pos of raw data points'!A118/$M$2)","v":{"$error":"#VALUE!"}}]
[{"$f":"$M$2*INT('Plotting pos of raw data points'!I119/$M$2)","v":{"$error":"#VALUE!"}},{"$f":"$M$2*INT('Plotting pos of raw data points'!H119/$M$2)","v":{"$error":"#VALUE!"}},{"$f":"$M$2*INT('Plotting pos of raw data points'!G119/$M$2)","v":{"$error":"#VALUE!"}},{"$f":"$M$2*INT('Plotting pos of raw data points'!F119/$M$2)","v":{"$error":"#VALUE!"}},{"$f":"$M$2*INT('Plotting pos of raw data points'!E119/$M$2)","v":{"$error":"#VALUE!"}},{"$f":"$M$2*INT('Plotting pos of raw data points'!D119/$M$2)","v":{"$error":"#VALUE!"}},{"$f":"$M$2*INT('Plotting pos of raw data points'!C119/$M$2)","v":{"$error":"#VALUE!"}},{"$f":"$M$2*INT('Plotting pos of raw data points'!B119/$M$2)","v":{"$error":"#VALUE!"}},{"$f":"$M$2*INT('Plotting pos of raw data points'!A119/$M$2)","v":{"$error":"#VALUE!"}}]
[{"$f":"$M$2*INT('Plotting pos of raw data points'!I120/$M$2)","v":{"$error":"#VALUE!"}},{"$f":"$M$2*INT('Plotting pos of raw data points'!H120/$M$2)","v":{"$error":"#VALUE!"}},{"$f":"$M$2*INT('Plotting pos of raw data points'!G120/$M$2)","v":{"$error":"#VALUE!"}},{"$f":"$M$2*INT('Plotting pos of raw data points'!F120/$M$2)","v":{"$error":"#VALUE!"}},{"$f":"$M$2*INT('Plotting pos of raw data points'!E120/$M$2)","v":{"$error":"#VALUE!"}},{"$f":"$M$2*INT('Plotting pos of raw data points'!D120/$M$2)","v":{"$error":"#VALUE!"}},{"$f":"$M$2*INT('Plotting pos of raw data points'!C120/$M$2)","v":{"$error":"#VALUE!"}},{"$f":"$M$2*INT('Plotting pos of raw data points'!B120/$M$2)","v":{"$error":"#VALUE!"}},{"$f":"$M$2*INT('Plotting pos of raw data points'!A120/$M$2)","v":{"$error":"#VALUE!"}}]
[{"$f":"$M$2*INT('Plotting pos of raw data points'!I121/$M$2)","v":{"$error":"#VALUE!"}},{"$f":"$M$2*INT('Plotting pos of raw data points'!H121/$M$2)","v":{"$error":"#VALUE!"}},{"$f":"$M$2*INT('Plotting pos of raw data points'!G121/$M$2)","v":{"$error":"#VALUE!"}},{"$f":"$M$2*INT('Plotting pos of raw data points'!F121/$M$2)","v":{"$error":"#VALUE!"}},{"$f":"$M$2*INT('Plotting pos of raw data points'!E121/$M$2)","v":{"$error":"#VALUE!"}},{"$f":"$M$2*INT('Plotting pos of raw data points'!D121/$M$2)","v":{"$error":"#VALUE!"}},{"$f":"$M$2*INT('Plotting pos of raw data points'!C121/$M$2)","v":{"$error":"#VALUE!"}},{"$f":"$M$2*INT('Plotting pos of raw data points'!B121/$M$2)","v":{"$error":"#VALUE!"}},{"$f":"$M$2*INT('Plotting pos of raw data points'!A121/$M$2)","v":{"$error":"#VALUE!"}}]
[{"$f":"$M$2*INT('Plotting pos of raw data points'!I122/$M$2)","v":{"$error":"#VALUE!"}},{"$f":"$M$2*INT('Plotting pos of raw data points'!H122/$M$2)","v":{"$error":"#VALUE!"}},{"$f":"$M$2*INT('Plotting pos of raw data points'!G122/$M$2)","v":{"$error":"#VALUE!"}},{"$f":"$M$2*INT('Plotting pos of raw data points'!F122/$M$2)","v":{"$error":"#VALUE!"}},{"$f":"$M$2*INT('Plotting pos of raw data points'!E122/$M$2)","v":{"$error":"#VALUE!"}},{"$f":"$M$2*INT('Plotting pos of raw data points'!D122/$M$2)","v":{"$error":"#VALUE!"}},{"$f":"$M$2*INT('Plotting pos of raw data points'!C122/$M$2)","v":{"$error":"#VALUE!"}},{"$f":"$M$2*INT('Plotting pos of raw data points'!B122/$M$2)","v":{"$error":"#VALUE!"}},{"$f":"$M$2*INT('Plotting pos of raw data points'!A122/$M$2)","v":{"$error":"#VALUE!"}}]
[{"$f":"$M$2*INT('Plotting pos of raw data points'!I123/$M$2)","v":{"$error":"#VALUE!"}},{"$f":"$M$2*INT('Plotting pos of raw data points'!H123/$M$2)","v":{"$error":"#VALUE!"}},{"$f":"$M$2*INT('Plotting pos of raw data points'!G123/$M$2)","v":{"$error":"#VALUE!"}},{"$f":"$M$2*INT('Plotting pos of raw data points'!F123/$M$2)","v":{"$error":"#VALUE!"}},{"$f":"$M$2*INT('Plotting pos of raw data points'!E123/$M$2)","v":{"$error":"#VALUE!"}},{"$f":"$M$2*INT('Plotting pos of raw data points'!D123/$M$2)","v":{"$error":"#VALUE!"}},{"$f":"$M$2*INT('Plotting pos of raw data points'!C123/$M$2)","v":{"$error":"#VALUE!"}},{"$f":"$M$2*INT('Plotting pos of raw data points'!B123/$M$2)","v":{"$error":"#VALUE!"}},{"$f":"$M$2*INT('Plotting pos of raw data points'!A123/$M$2)","v":{"$error":"#VALUE!"}}]
[{"$f":"$M$2*INT('Plotting pos of raw data points'!I124/$M$2)","v":{"$error":"#VALUE!"}},{"$f":"$M$2*INT('Plotting pos of raw data points'!H124/$M$2)","v":{"$error":"#VALUE!"}},{"$f":"$M$2*INT('Plotting pos of raw data points'!G124/$M$2)","v":{"$error":"#VALUE!"}},{"$f":"$M$2*INT('Plotting pos of raw data points'!F124/$M$2)","v":{"$error":"#VALUE!"}},{"$f":"$M$2*INT('Plotting pos of raw data points'!E124/$M$2)","v":{"$error":"#VALUE!"}},{"$f":"$M$2*INT('Plotting pos of raw data points'!D124/$M$2)","v":{"$error":"#VALUE!"}},{"$f":"$M$2*INT('Plotting pos of raw data points'!C124/$M$2)","v":{"$error":"#VALUE!"}},{"$f":"$M$2*INT('Plotting pos of raw data points'!B124/$M$2)","v":{"$error":"#VALUE!"}},{"$f":"$M$2*INT('Plotting pos of raw data points'!A124/$M$2)","v":{"$error":"#VALUE!"}}]
[{"$f":"$M$2*INT('Plotting pos of raw data points'!I125/$M$2)","v":{"$error":"#VALUE!"}},{"$f":"$M$2*INT('Plotting pos of raw data points'!H125/$M$2)","v":{"$error":"#VALUE!"}},{"$f":"$M$2*INT('Plotting pos of raw data points'!G125/$M$2)","v":{"$error":"#VALUE!"}},{"$f":"$M$2*INT('Plotting pos of raw data points'!F125/$M$2)","v":{"$error":"#VALUE!"}},{"$f":"$M$2*INT('Plotting pos of raw data points'!E125/$M$2)","v":{"$error":"#VALUE!"}},{"$f":"$M$2*INT('Plotting pos of raw data points'!D125/$M$2)","v":{"$error":"#VALUE!"}},{"$f":"$M$2*INT('Plotting pos of raw data points'!C125/$M$2)","v":{"$error":"#VALUE!"}},{"$f":"$M$2*INT('Plotting pos of raw data points'!B125/$M$2)","v":{"$error":"#VALUE!"}},{"$f":"$M$2*INT('Plotting pos of raw data points'!A125/$M$2)","v":{"$error":"#VALUE!"}}]
[{"$f":"$M$2*INT('Plotting pos of raw data points'!I126/$M$2)","v":{"$error":"#VALUE!"}},{"$f":"$M$2*INT('Plotting pos of raw data points'!H126/$M$2)","v":{"$error":"#VALUE!"}},{"$f":"$M$2*INT('Plotting pos of raw data points'!G126/$M$2)","v":{"$error":"#VALUE!"}},{"$f":"$M$2*INT('Plotting pos of raw data points'!F126/$M$2)","v":{"$error":"#VALUE!"}},{"$f":"$M$2*INT('Plotting pos of raw data points'!E126/$M$2)","v":{"$error":"#VALUE!"}},{"$f":"$M$2*INT('Plotting pos of raw data points'!D126/$M$2)","v":{"$error":"#VALUE!"}},{"$f":"$M$2*INT('Plotting pos of raw data points'!C126/$M$2)","v":{"$error":"#VALUE!"}},{"$f":"$M$2*INT('Plotting pos of raw data points'!B126/$M$2)","v":{"$error":"#VALUE!"}},{"$f":"$M$2*INT('Plotting pos of raw data points'!A126/$M$2)","v":{"$error":"#VALUE!"}}]
[{"$f":"$M$2*INT('Plotting pos of raw data points'!I127/$M$2)","v":{"$error":"#VALUE!"}},{"$f":"$M$2*INT('Plotting pos of raw data points'!H127/$M$2)","v":{"$error":"#VALUE!"}},{"$f":"$M$2*INT('Plotting pos of raw data points'!G127/$M$2)","v":{"$error":"#VALUE!"}},{"$f":"$M$2*INT('Plotting pos of raw data points'!F127/$M$2)","v":{"$error":"#VALUE!"}},{"$f":"$M$2*INT('Plotting pos of raw data points'!E127/$M$2)","v":{"$error":"#VALUE!"}},{"$f":"$M$2*INT('Plotting pos of raw data points'!D127/$M$2)","v":{"$error":"#VALUE!"}},{"$f":"$M$2*INT('Plotting pos of raw data points'!C127/$M$2)","v":{"$error":"#VALUE!"}},{"$f":"$M$2*INT('Plotting pos of raw data points'!B127/$M$2)","v":{"$error":"#VALUE!"}},{"$f":"$M$2*INT('Plotting pos of raw data points'!A127/$M$2)","v":{"$error":"#VALUE!"}}]
[{"$f":"$M$2*INT('Plotting pos of raw data points'!I128/$M$2)","v":{"$error":"#VALUE!"}},{"$f":"$M$2*INT('Plotting pos of raw data points'!H128/$M$2)","v":{"$error":"#VALUE!"}},{"$f":"$M$2*INT('Plotting pos of raw data points'!G128/$M$2)","v":{"$error":"#VALUE!"}},{"$f":"$M$2*INT('Plotting pos of raw data points'!F128/$M$2)","v":{"$error":"#VALUE!"}},{"$f":"$M$2*INT('Plotting pos of raw data points'!E128/$M$2)","v":{"$error":"#VALUE!"}},{"$f":"$M$2*INT('Plotting pos of raw data points'!D128/$M$2)","v":{"$error":"#VALUE!"}},{"$f":"$M$2*INT('Plotting pos of raw data points'!C128/$M$2)","v":{"$error":"#VALUE!"}},{"$f":"$M$2*INT('Plotting pos of raw data points'!B128/$M$2)","v":{"$error":"#VALUE!"}},{"$f":"$M$2*INT('Plotting pos of raw data points'!A128/$M$2)","v":{"$error":"#VALUE!"}}]
[{"$f":"$M$2*INT('Plotting pos of raw data points'!I129/$M$2)","v":{"$error":"#VALUE!"}},{"$f":"$M$2*INT('Plotting pos of raw data points'!H129/$M$2)","v":{"$error":"#VALUE!"}},{"$f":"$M$2*INT('Plotting pos of raw data points'!G129/$M$2)","v":{"$error":"#VALUE!"}},{"$f":"$M$2*INT('Plotting pos of raw data points'!F129/$M$2)","v":{"$error":"#VALUE!"}},{"$f":"$M$2*INT('Plotting pos of raw data points'!E129/$M$2)","v":{"$error":"#VALUE!"}},{"$f":"$M$2*INT('Plotting pos of raw data points'!D129/$M$2)","v":{"$error":"#VALUE!"}},{"$f":"$M$2*INT('Plotting pos of raw data points'!C129/$M$2)","v":{"$error":"#VALUE!"}},{"$f":"$M$2*INT('Plotting pos of raw data points'!B129/$M$2)","v":{"$error":"#VALUE!"}},{"$f":"$M$2*INT('Plotting pos of raw data points'!A129/$M$2)","v":{"$error":"#VALUE!"}}]
[{"$f":"$M$2*INT('Plotting pos of raw data points'!I130/$M$2)","v":{"$error":"#VALUE!"}},{"$f":"$M$2*INT('Plotting pos of raw data points'!H130/$M$2)","v":{"$error":"#VALUE!"}},{"$f":"$M$2*INT('Plotting pos of raw data points'!G130/$M$2)","v":{"$error":"#VALUE!"}},{"$f":"$M$2*INT('Plotting pos of raw data points'!F130/$M$2)","v":{"$error":"#VALUE!"}},{"$f":"$M$2*INT('Plotting pos of raw data points'!E130/$M$2)","v":{"$error":"#VALUE!"}},{"$f":"$M$2*INT('Plotting pos of raw data points'!D130/$M$2)","v":{"$error":"#VALUE!"}},{"$f":"$M$2*INT('Plotting pos of raw data points'!C130/$M$2)","v":{"$error":"#VALUE!"}},{"$f":"$M$2*INT('Plotting pos of raw data points'!B130/$M$2)","v":{"$error":"#VALUE!"}},{"$f":"$M$2*INT('Plotting pos of raw data points'!A130/$M$2)","v":{"$error":"#VALUE!"}}]

{"sheet":"Table","index":2,"n_rows":29,"n_cols":10,"rows_kept":29,"cut":false,"hidden":false,"merged":[]}
[null,{"$f":"Foglio1!I$1","v":"Platform on which software developers can learn"},{"$f":"Foglio1!J$1","v":"Means to train quantum engineers"},{"$f":"Foglio1!K$1","v":"Unknown yet"},{"$f":"Foglio1!L$1","v":"Other known educational value"},{"$f":"Foglio1!M$1","v":"Cat5"},{"$f":"Foglio1!N$1","v":"Cat6"},{"$f":"Foglio1!O$1","v":"Cat7"},{"$f":"Foglio1!P$1","v":"Cat8"},{"$f":"Foglio1!Q$1","v":"Cat9"}]
["MODA",{"$f":"MODE(OFFSET(Foglio1!I$2,0,0,$B$11,1))","v":80},{"$f":"MODE(OFFSET(Foglio1!J$2,0,0,$B$11,1))","v":100},{"$f":"MODE(OFFSET(Foglio1!K$2,0,0,$B$11,1))","v":60},{"$f":"MODE(OFFSET(Foglio1!L$2,0,0,$B$11,1))","v":0},{"$f":"MODE(OFFSET(Foglio1!R$2,0,0,$B$11,1))","v":{"$error":"#N/A"}},{"$f":"MODE(OFFSET(Foglio1!S$2,0,0,$B$11,1))","v":{"$error":"#N/A"}},{"$f":"MODE(OFFSET(Foglio1!O$2,0,0,$B$11,1))","v":{"$error":"#N/A"}},{"$f":"MODE(OFFSET(Foglio1!P$2,0,0,$B$11,1))","v":{"$error":"#N/A"}},{"$f":"MODE(OFFSET(Foglio1!Q$2,0,0,$B$11,1))","v":{"$error":"#N/A"}}]
["MEDIANA",{"$f":"MEDIAN(OFFSET(Foglio1!I$2,0,0,$B$11,1))","v":80},{"$f":"MEDIAN(OFFSET(Foglio1!J$2,0,0,$B$11,1))","v":80},{"$f":"MEDIAN(OFFSET(Foglio1!K$2,0,0,$B$11,1))","v":60},{"$f":"MEDIAN(OFFSET(Foglio1!L$2,0,0,$B$11,1))","v":25},{"$f":"MEDIAN(OFFSET(Foglio1!R$2,0,0,$B$11,1))","v":{"$error":"#NUM!"}},{"$f":"MEDIAN(OFFSET(Foglio1!S$2,0,0,$B$11,1))","v":{"$error":"#NUM!"}},{"$f":"MEDIAN(OFFSET(Foglio1!O$2,0,0,$B$11,1))","v":{"$error":"#NUM!"}},{"$f":"MEDIAN(OFFSET(Foglio1!P$2,0,0,$B$11,1))","v":{"$error":"#NUM!"}},{"$f":"MEDIAN(OFFSET(Foglio1!Q$2,0,0,$B$11,1))","v":{"$error":"#NUM!"}}]
["Q1",{"$f":"_xlfn.QUARTILE.EXC(OFFSET(Foglio1!I$2,0,0,$B$11,1),1)","v":60},{"$f":"_xlfn.QUARTILE.EXC(OFFSET(Foglio1!J$2,0,0,$B$11,1),1)","v":71},{"$f":"_xlfn.QUARTILE.EXC(OFFSET(Foglio1!K$2,0,0,$B$11,1),1)","v":30},{"$f":"_xlfn.QUARTILE.EXC(OFFSET(Foglio1!L$2,0,0,$B$11,1),1)","v":0},{"$f":"_xlfn.QUARTILE.EXC(OFFSET(Foglio1!R$2,0,0,$B$11,1),1)","v":{"$error":"#NUM!"}},{"$f":"_xlfn.QUARTILE.EXC(OFFSET(Foglio1!S$2,0,0,$B$11,1),1)","v":{"$error":"#NUM!"}},{"$f":"_xlfn.QUARTILE.EXC(OFFSET(Foglio1!O$2,0,0,$B$11,1),1)","v":{"$error":"#NUM!"}},{"$f":"_xlfn.QUARTILE.EXC(OFFSET(Foglio1!P$2,0,0,$B$11,1),1)","v":{"$error":"#NUM!"}},{"$f":"_xlfn.QUARTILE.EXC(OFFSET(Foglio1!Q$2,0,0,$B$11,1),1)","v":{"$error":"#NUM!"}}]
["Q3",{"$f":"_xlfn.QUARTILE.EXC(OFFSET(Foglio1!I$2,0,0,$B$11,1),3)","v":83.75},{"$f":"_xlfn.QUARTILE.EXC(OFFSET(Foglio1!J$2,0,0,$B$11,1),3)","v":100},{"$f":"_xlfn.QUARTILE.EXC(OFFSET(Foglio1!K$2,0,0,$B$11,1),3)","v":80},{"$f":"_xlfn.QUARTILE.EXC(OFFSET(Foglio1!L$2,0,0,$B$11,1),3)","v":70},{"$f":"_xlfn.QUARTILE.EXC(OFFSET(Foglio1!R$2,0,0,$B$11,1),3)","v":{"$error":"#NUM!"}},{"$f":"_xlfn.QUARTILE.EXC(OFFSET(Foglio1!S$2,0,0,$B$11,1),3)","v":{"$error":"#NUM!"}},{"$f":"_xlfn.QUARTILE.EXC(OFFSET(Foglio1!O$2,0,0,$B$11,1),3)","v":{"$error":"#NUM!"}},{"$f":"_xlfn.QUARTILE.EXC(OFFSET(Foglio1!P$2,0,0,$B$11,1),3)","v":{"$error":"#NUM!"}},{"$f":"_xlfn.QUARTILE.EXC(OFFSET(Foglio1!Q$2,0,0,$B$11,1),3)","v":{"$error":"#NUM!"}}]
["MEDIA",{"$f":"AVERAGE(OFFSET(Foglio1!I$2,0,0,$B$11,1))","v":71.152777777777771},{"$f":"AVERAGE(OFFSET(Foglio1!J$2,0,0,$B$11,1))","v":81.985915492957744},{"$f":"AVERAGE(OFFSET(Foglio1!K$2,0,0,$B$11,1))","v":54},{"$f":"AVERAGE(OFFSET(Foglio1!L$2,0,0,$B$11,1))","v":35},{"$f":"AVERAGE(OFFSET(Foglio1!R$2,0,0,$B$11,1))","v":{"$error":"#DIV/0!"}},{"$f":"AVERAGE(OFFSET(Foglio1!S$2,0,0,$B$11,1))","v":{"$error":"#DIV/0!"}},{"$f":"AVERAGE(OFFSET(Foglio1!O$2,0,0,$B$11,1))","v":{"$error":"#DIV/0!"}},{"$f":"AVERAGE(OFFSET(Foglio1!P$2,0,0,$B$11,1))","v":{"$error":"#DIV/0!"}},{"$f":"AVERAGE(OFFSET(Foglio1!Q$2,0,0,$B$11,1))","v":{"$error":"#DIV/0!"}}]
["MEDIA PESATA",{"$f":"SUMPRODUCT(OFFSET(Foglio1!I$2,0,0,$B$11,1),OFFSET(Foglio1!$X$2,0,0,$B$11,1))/SUM(OFFSET(Foglio1!$X$2,0,0,$B$11,1))","v":{"$error":"#DIV/0!"}},{"$f":"SUMPRODUCT(OFFSET(Foglio1!J$2,0,0,$B$11,1),OFFSET(Foglio1!$X$2,0,0,$B$11,1))/SUM(OFFSET(Foglio1!$X$2,0,0,$B$11,1))","v":{"$error":"#DIV/0!"}},{"$f":"SUMPRODUCT(OFFSET(Foglio1!K$2,0,0,$B$11,1),OFFSET(Foglio1!$X$2,0,0,$B$11,1))/SUM(OFFSET(Foglio1!$X$2,0,0,$B$11,1))","v":{"$error":"#DIV/0!"}},{"$f":"SUMPRODUCT(OFFSET(Foglio1!L$2,0,0,$B$11,1),OFFSET(Foglio1!$X$2,0,0,$B$11,1))/SUM(OFFSET(Foglio1!$X$2,0,0,$B$11,1))","v":{"$error":"#DIV/0!"}},{"$f":"SUMPRODUCT(OFFSET(Foglio1!R$2,0,0,$B$11,1),OFFSET(Foglio1!$X$2,0,0,$B$11,1))/SUM(OFFSET(Foglio1!$X$2,0,0,$B$11,1))","v":{"$error":"#DIV/0!"}},{"$f":"SUMPRODUCT(OFFSET(Foglio1!S$2,0,0,$B$11,1),OFFSET(Foglio1!$X$2,0,0,$B$11,1))/SUM(OFFSET(Foglio1!$X$2,0,0,$B$11,1))","v":{"$error":"#DIV/0!"}},{"$f":"SUMPRODUCT(OFFSET(Foglio1!O$2,0,0,$B$11,1),OFFSET(Foglio1!$X$2,0,0,$B$11,1))/SUM(OFFSET(Foglio1!$X$2,0,0,$B$11,1))","v":{"$error":"#DIV/0!"}},{"$f":"SUMPRODUCT(OFFSET(Foglio1!P$2,0,0,$B$11,1),OFFSET(Foglio1!$X$2,0,0,$B$11,1))/SUM(OFFSET(Foglio1!$X$2,0,0,$B$11,1))","v":{"$error":"#DIV/0!"}},{"$f":"SUMPRODUCT(OFFSET(Foglio1!Q$2,0,0,$B$11,1),OFFSET(Foglio1!$X$2,0,0,$B$11,1))/SUM(OFFSET(Foglio1!$X$2,0,0,$B$11,1))","v":{"$error":"#DIV/0!"}}]
[]
["No of responses to subquestion",{"$f":"COUNTA(OFFSET(Foglio1!I$2,0,0,$B$11,1))","v":72},{"$f":"COUNTA(OFFSET(Foglio1!J$2,0,0,$B$11,1))","v":71},{"$f":"COUNTA(OFFSET(Foglio1!K$2,0,0,$B$11,1))","v":40},{"$f":"COUNTA(OFFSET(Foglio1!L$2,0,0,$B$11,1))","v":6},{"$f":"COUNTA(OFFSET(Foglio1!R$2,0,0,$B$11,1))","v":7},{"$f":"COUNTA(OFFSET(Foglio1!S$2,0,0,$B$11,1))","v":5},{"$f":"COUNTA(OFFSET(Foglio1!O$2,0,0,$B$11,1))","v":0},{"$f":"COUNTA(OFFSET(Foglio1!P$2,0,0,$B$11,1))","v":0},{"$f":"COUNTA(OFFSET(Foglio1!Q$2,0,0,$B$11,1))","v":0}]
[]
["Total number of respondents to question",{"$f":"COUNTA(Foglio1!$D$2:$D$1002)","v":99}]
[]
[null,"Transposed for table in report"]
[null,"No. of responses","Mean","Median","IQR"]
[{"$f":"Foglio1!I$1","v":"Platform on which software developers can learn"},{"$f":"COUNTA(OFFSET(Foglio1!I$2,0,0,$B$11,1))","v":72},{"$f":"AVERAGE(OFFSET(Foglio1!I$2,0,0,$B$11,1))","v":71.152777777777771},{"$f":"MEDIAN(OFFSET(Foglio1!I$2,0,0,$B$11,1))","v":80},{"$f":"_xlfn.QUARTILE.EXC(OFFSET(Foglio1!I$2,0,0,$B$11,1),3)-_xlfn.QUARTILE.EXC(OFFSET(Foglio1!I$2,0,0,$B$11,1),1)","v":23.75}]
[{"$f":"Foglio1!J$1","v":"Means to train quantum engineers"},{"$f":"COUNTA(OFFSET(Foglio1!J$2,0,0,$B$11,1))","v":71},{"$f":"AVERAGE(OFFSET(Foglio1!J$2,0,0,$B$11,1))","v":81.985915492957744},{"$f":"MEDIAN(OFFSET(Foglio1!J$2,0,0,$B$11,1))","v":80},{"$f":"_xlfn.QUARTILE.EXC(OFFSET(Foglio1!J$2,0,0,$B$11,1),3)-_xlfn.QUARTILE.EXC(OFFSET(Foglio1!J$2,0,0,$B$11,1),1)","v":29}]
[{"$f":"Foglio1!K$1","v":"Unknown yet"},{"$f":"COUNTA(OFFSET(Foglio1!K$2,0,0,$B$11,1))","v":40},{"$f":"AVERAGE(OFFSET(Foglio1!K$2,0,0,$B$11,1))","v":54},{"$f":"MEDIAN(OFFSET(Foglio1!K$2,0,0,$B$11,1))","v":60},{"$f":"_xlfn.QUARTILE.EXC(OFFSET(Foglio1!K$2,0,0,$B$11,1),3)-_xlfn.QUARTILE.EXC(OFFSET(Foglio1!K$2,0,0,$B$11,1),1)","v":50}]
[{"$f":"Foglio1!L$1","v":"Other known educational value"},{"$f":"COUNTA(OFFSET(Foglio1!L$2,0,0,$B$11,1))","v":6},{"$f":"AVERAGE(OFFSET(Foglio1!L$2,0,0,$B$11,1))","v":35},{"$f":"MEDIAN(OFFSET(Foglio1!L$2,0,0,$B$11,1))","v":25},{"$f":"_xlfn.QUARTILE.EXC(OFFSET(Foglio1!L$2,0,0,$B$11,1),3)-_xlfn.QUARTILE.EXC(OFFSET(Foglio1!L$2,0,0,$B$11,1),1)","v":70}]
[{"$f":"Foglio1!M$1","v":"Cat5"},{"$f":"COUNTA(OFFSET(Foglio1!R$2,0,0,$B$11,1))","v":7},{"$f":"AVERAGE(OFFSET(Foglio1!R$2,0,0,$B$11,1))","v":{"$error":"#DIV/0!"}},{"$f":"MEDIAN(OFFSET(Foglio1!R$2,0,0,$B$11,1))","v":{"$error":"#NUM!"}},{"$f":"_xlfn.QUARTILE.EXC(OFFSET(Foglio1!R$2,0,0,$B$11,1),3)-_xlfn.QUARTILE.EXC(OFFSET(Foglio1!R$2,0,0,$B$11,1),1)","v":{"$error":"#NUM!"}}]
[{"$f":"Foglio1!N$1","v":"Cat6"},{"$f":"COUNTA(OFFSET(Foglio1!S$2,0,0,$B$11,1))","v":5},{"$f":"AVERAGE(OFFSET(Foglio1!S$2,0,0,$B$11,1))","v":{"$error":"#DIV/0!"}},{"$f":"MEDIAN(OFFSET(Foglio1!S$2,0,0,$B$11,1))","v":{"$error":"#NUM!"}},{"$f":"_xlfn.QUARTILE.EXC(OFFSET(Foglio1!S$2,0,0,$B$11,1),3)-_xlfn.QUARTILE.EXC(OFFSET(Foglio1!S$2,0,0,$B$11,1),1)","v":{"$error":"#NUM!"}}]
[{"$f":"Foglio1!O$1","v":"Cat7"},{"$f":"COUNTA(OFFSET(Foglio1!O$2,0,0,$B$11,1))","v":0},{"$f":"AVERAGE(OFFSET(Foglio1!O$2,0,0,$B$11,1))","v":{"$error":"#DIV/0!"}},{"$f":"MEDIAN(OFFSET(Foglio1!O$2,0,0,$B$11,1))","v":{"$error":"#NUM!"}},{"$f":"_xlfn.QUARTILE.EXC(OFFSET(Foglio1!O$2,0,0,$B$11,1),3)-_xlfn.QUARTILE.EXC(OFFSET(Foglio1!O$2,0,0,$B$11,1),1)","v":{"$error":"#NUM!"}}]
[{"$f":"Foglio1!P$1","v":"Cat8"},{"$f":"COUNTA(OFFSET(Foglio1!P$2,0,0,$B$11,1))","v":0},{"$f":"AVERAGE(OFFSET(Foglio1!P$2,0,0,$B$11,1))","v":{"$error":"#DIV/0!"}},{"$f":"MEDIAN(OFFSET(Foglio1!P$2,0,0,$B$11,1))","v":{"$error":"#NUM!"}},{"$f":"_xlfn.QUARTILE.EXC(OFFSET(Foglio1!P$2,0,0,$B$11,1),3)-_xlfn.QUARTILE.EXC(OFFSET(Foglio1!P$2,0,0,$B$11,1),1)","v":{"$error":"#NUM!"}}]
[{"$f":"Foglio1!Q$1","v":"Cat9"},{"$f":"COUNTA(OFFSET(Foglio1!Q$2,0,0,$B$11,1))","v":0},{"$f":"AVERAGE(OFFSET(Foglio1!Q$2,0,0,$B$11,1))","v":{"$error":"#DIV/0!"}},{"$f":"MEDIAN(OFFSET(Foglio1!Q$2,0,0,$B$11,1))","v":{"$error":"#NUM!"}},"         -"]
[]
["Not used in current version"]
["MEDIA DEV. ASS.",{"$f":"AVEDEV(OFFSET(Foglio1!I$2,0,0,$B$11,1))","v":16.913580246913572},{"$f":"AVEDEV(OFFSET(Foglio1!J$2,0,0,$B$11,1))","v":12.379289823447726},{"$f":"AVEDEV(OFFSET(Foglio1!K$2,0,0,$B$11,1))","v":26.5},{"$f":"AVEDEV(OFFSET(Foglio1!L$2,0,0,$B$11,1))","v":35},{"$f":"AVEDEV(OFFSET(Foglio1!R$2,0,0,$B$11,1))","v":{"$error":"#NUM!"}},{"$f":"AVEDEV(OFFSET(Foglio1!S$2,0,0,$B$11,1))","v":{"$error":"#NUM!"}},{"$f":"AVEDEV(OFFSET(Foglio1!O$2,0,0,$B$11,1))","v":{"$error":"#NUM!"}},{"$f":"AVEDEV(OFFSET(Foglio1!P$2,0,0,$B$11,1))","v":{"$error":"#NUM!"}},{"$f":"AVEDEV(OFFSET(Foglio1!Q$2,0,0,$B$11,1))","v":{"$error":"#NUM!"}}]
["StErr",{"$f":"_xlfn.STDEV.S(OFFSET(Foglio1!I$2,0,0,$B$11,1))/SQRT(B9)","v":2.609994912590619},{"$f":"_xlfn.STDEV.S(OFFSET(Foglio1!J$2,0,0,$B$11,1))/SQRT(C9)","v":1.8791980992101487},{"$f":"_xlfn.STDEV.S(OFFSET(Foglio1!K$2,0,0,$B$11,1))/SQRT(D9)","v":5.0389508472523961},{"$f":"_xlfn.STDEV.S(OFFSET(Foglio1!L$2,0,0,$B$11,1))/SQRT(E9)","v":17.078251276599332},{"$f":"_xlfn.STDEV.S(OFFSET(Foglio1!R$2,0,0,$B$11,1))/SQRT(F9)","v":{"$error":"#DIV/0!"}},{"$f":"_xlfn.STDEV.S(OFFSET(Foglio1!S$2,0,0,$B$11,1))/SQRT(G9)","v":{"$error":"#DIV/0!"}},{"$f":"_xlfn.STDEV.S(OFFSET(Foglio1!O$2,0,0,$B$11,1))/SQRT(H9)","v":{"$error":"#DIV/0!"}},{"$f":"_xlfn.STDEV.S(OFFSET(Foglio1!P$2,0,0,$B$11,1))/SQRT(I9)","v":{"$error":"#DIV/0!"}},{"$f":"_xlfn.STDEV.S(OFFSET(Foglio1!Q$2,0,0,$B$11,1))/SQRT(J9)","v":{"$error":"#DIV/0!"}}]
["MEDIA+2*StErr",{"$f":"B6+2*B27","v":76.372767602959016},85.744311691378044,64.077901694504789,69.156502553198663,{"$error":"#DIV/0!"},{"$error":"#DIV/0!"},{"$error":"#DIV/0!"},{"$error":"#DIV/0!"},{"$error":"#DIV/0!"}]
["MEDIA-2*StErr",{"$f":"B6-2*B27","v":65.932787952596527},78.227519294537444,43.922098305495211,0.84349744680133654,{"$error":"#DIV/0!"},{"$error":"#DIV/0!"},{"$error":"#DIV/0!"},{"$error":"#DIV/0!"},{"$error":"#DIV/0!"}]

{"sheet":"Plotting pos of raw data points","index":3,"n_rows":130,"n_cols":19,"rows_kept":130,"cut":false,"hidden":false,"merged":[]}
[{"$f":"Foglio1!I$1","v":"Platform on which software developers can learn"},{"$f":"Foglio1!J$1","v":"Means to train quantum engineers"},{"$f":"Foglio1!K$1","v":"Unknown yet"},{"$f":"Foglio1!L$1","v":"Other known educational value"},{"$f":"Foglio1!M$1","v":"Cat5"},{"$f":"Foglio1!N$1","v":"Cat6"},{"$f":"Foglio1!O$1","v":"Cat7"},{"$f":"Foglio1!P$1","v":"Cat8"},{"$f":"Foglio1!Q$1","v":"Cat9"},null,{"$f":"Charting!$M$9","v":3},{"$f":"K$1-1","v":2},{"$f":"L$1-1","v":1},0,-1,-2,-3,-4,-5]
[{"$f":"IF(ROW(A2)-1<=$J$5,IF(Foglio1!I2=\"\",-10,Foglio1!I2),\"\")","v":-10},{"$f":"IF(ROW(B2)-1<=$J$5,IF(Foglio1!J2=\"\",-10,Foglio1!J2),\"\")","v":-10},{"$f":"IF(ROW(C2)-1<=$J$5,IF(Foglio1!K2=\"\",-10,Foglio1!K2),\"\")","v":-10},{"$f":"IF(ROW(D2)-1<=$J$5,IF(Foglio1!L2=\"\",-10,Foglio1!L2),\"\")","v":-10},{"$f":"IF(ROW(E2)-1<=$J$5,IF(Foglio1!M2=\"\",-10,Foglio1!M2),\"\")","v":-10},{"$f":"IF(ROW(F2)-1<=$J$5,IF(Foglio1!N2=\"\",-10,Foglio1!N2),\"\")","v":-10},{"$f":"IF(ROW(G2)-1<=$J$5,IF(Foglio1!O2=\"\",-10,Foglio1!O2),\"\")","v":-10},{"$f":"IF(ROW(H2)-1<=$J$5,IF(Foglio1!P2=\"\",-10,Foglio1!P2),\"\")","v":-10},{"$f":"IF(ROW(I2)-1<=$J$5,IF(Foglio1!Q2=\"\",-10,Foglio1!Q2),\"\")","v":-10},null,{"$f":"IF(ROW(K2)-1<=$J$5,K$1+COUNTIF(A$2:A2,A2)*$J$7,\"\")","v":3.03},{"$f":"IF(ROW(L2)-1<=$J$5,L$1+COUNTIF(B$2:B2,B2)*$J$7,\"\")","v":2.0299999999999998},{"$f":"IF(ROW(M2)-1<=$J$5,M$1+COUNTIF(C$2:C2,C2)*$J$7,\"\")","v":1.03},{"$f":"IF(ROW(N2)-1<=$J$5,N$1+COUNTIF(D$2:D2,D2)*$J$7,\"\")","v":0.03},{"$f":"IF(ROW(O2)-1<=$J$5,O$1+COUNTIF(E$2:E2,E2)*$J$7,\"\")","v":-0.97},{"$f":"IF(ROW(P2)-1<=$J$5,P$1+COUNTIF(F$2:F2,F2)*$J$7,\"\")","v":-1.97},{"$f":"IF(ROW(Q2)-1<=$J$5,Q$1+COUNTIF(G$2:G2,G2)*$J$7,\"\")","v":-2.97},{"$f":"IF(ROW(R2)-1<=$J$5,R$1+COUNTIF(H$2:H2,H2)*$J$7,\"\")","v":-3.97},{"$f":"IF(ROW(S2)-1<=$J$5,S$1+COUNTIF(I$2:I2,I2)*$J$7,\"\")","v":-4.97}]
[{"$f":"IF(ROW(A3)-1<=$J$5,IF(Foglio1!I3=\"\",-10,Foglio1!I3),\"\")","v":100},{"$f":"IF(ROW(B3)-1<=$J$5,IF(Foglio1!J3=\"\",-10,Foglio1!J3),\"\")","v":100},{"$f":"IF(ROW(C3)-1<=$J$5,IF(Foglio1!K3=\"\",-10,Foglio1!K3),\"\")","v":-10},{"$f":"IF(ROW(D3)-1<=$J$5,IF(Foglio1!L3=\"\",-10,Foglio1!L3),\"\")","v":100},{"$f":"IF(ROW(E3)-1<=$J$5,IF(Foglio1!M3=\"\",-10,Foglio1!M3),\"\")","v":-10},{"$f":"IF(ROW(F3)-1<=$J$5,IF(Foglio1!N3=\"\",-10,Foglio1!N3),\"\")","v":-10},{"$f":"IF(ROW(G3)-1<=$J$5,IF(Foglio1!O3=\"\",-10,Foglio1!O3),\"\")","v":-10},{"$f":"IF(ROW(H3)-1<=$J$5,IF(Foglio1!P3=\"\",-10,Foglio1!P3),\"\")","v":-10},{"$f":"IF(ROW(I3)-1<=$J$5,IF(Foglio1!Q3=\"\",-10,Foglio1!Q3),\"\")","v":-10},null,{"$f":"IF(ROW(K3)-1<=$J$5,K$1+COUNTIF(A$2:A3,A3)*$J$7,\"\")","v":3.03},{"$f":"IF(ROW(L3)-1<=$J$5,L$1+COUNTIF(B$2:B3,B3)*$J$7,\"\")","v":2.0299999999999998},{"$f":"IF(ROW(M3)-1<=$J$5,M$1+COUNTIF(C$2:C3,C3)*$J$7,\"\")","v":1.06},{"$f":"IF(ROW(N3)-1<=$J$5,N$1+COUNTIF(D$2:D3,D3)*$J$7,\"\")","v":0.03},{"$f":"IF(ROW(O3)-1<=$J$5,O$1+COUNTIF(E$2:E3,E3)*$J$7,\"\")","v":-0.94},{"$f":"IF(ROW(P3)-1<=$J$5,P$1+COUNTIF(F$2:F3,F3)*$J$7,\"\")","v":-1.94},{"$f":"IF(ROW(Q3)-1<=$J$5,Q$1+COUNTIF(G$2:G3,G3)*$J$7,\"\")","v":-2.94},{"$f":"IF(ROW(R3)-1<=$J$5,R$1+COUNTIF(H$2:H3,H3)*$J$7,\"\")","v":-3.94},{"$f":"IF(ROW(S3)-1<=$J$5,S$1+COUNTIF(I$2:I3,I3)*$J$7,\"\")","v":-4.9400000000000004}]
[{"$f":"IF(ROW(A4)-1<=$J$5,IF(Foglio1!I4=\"\",-10,Foglio1!I4),\"\")","v":85},{"$f":"IF(ROW(B4)-1<=$J$5,IF(Foglio1!J4=\"\",-10,Foglio1!J4),\"\")","v":85},{"$f":"IF(ROW(C4)-1<=$J$5,IF(Foglio1!K4=\"\",-10,Foglio1!K4),\"\")","v":0},{"$f":"IF(ROW(D4)-1<=$J$5,IF(Foglio1!L4=\"\",-10,Foglio1!L4),\"\")","v":-10},{"$f":"IF(ROW(E4)-1<=$J$5,IF(Foglio1!M4=\"\",-10,Foglio1!M4),\"\")","v":-10},{"$f":"IF(ROW(F4)-1<=$J$5,IF(Foglio1!N4=\"\",-10,Foglio1!N4),\"\")","v":-10},{"$f":"IF(ROW(G4)-1<=$J$5,IF(Foglio1!O4=\"\",-10,Foglio1!O4),\"\")","v":-10},{"$f":"IF(ROW(H4)-1<=$J$5,IF(Foglio1!P4=\"\",-10,Foglio1!P4),\"\")","v":-10},{"$f":"IF(ROW(I4)-1<=$J$5,IF(Foglio1!Q4=\"\",-10,Foglio1!Q4),\"\")","v":-10},"Total number of respondents to question",{"$f":"IF(ROW(K4)-1<=$J$5,K$1+COUNTIF(A$2:A4,A4)*$J$7,\"\")","v":3.03},{"$f":"IF(ROW(L4)-1<=$J$5,L$1+COUNTIF(B$2:B4,B4)*$J$7,\"\")","v":2.0299999999999998},{"$f":"IF(ROW(M4)-1<=$J$5,M$1+COUNTIF(C$2:C4,C4)*$J$7,\"\")","v":1.03},{"$f":"IF(ROW(N4)-1<=$J$5,N$1+COUNTIF(D$2:D4,D4)*$J$7,\"\")","v":0.06},{"$f":"IF(ROW(O4)-1<=$J$5,O$1+COUNTIF(E$2:E4,E4)*$J$7,\"\")","v":-0.91},{"$f":"IF(ROW(P4)-1<=$J$5,P$1+COUNTIF(F$2:F4,F4)*$J$7,\"\")","v":-1.91},{"$f":"IF(ROW(Q4)-1<=$J$5,Q$1+COUNTIF(G$2:G4,G4)*$J$7,\"\")","v":-2.91},{"$f":"IF(ROW(R4)-1<=$J$5,R$1+COUNTIF(H$2:H4,H4)*$J$7,\"\")","v":-3.91},{"$f":"IF(ROW(S4)-1<=$J$5,S$1+COUNTIF(I$2:I4,I4)*$J$7,\"\")","v":-4.91}]
[{"$f":"IF(ROW(A5)-1<=$J$5,IF(Foglio1!I5=\"\",-10,Foglio1!I5),\"\")","v":80},{"$f":"IF(ROW(B5)-1<=$J$5,IF(Foglio1!J5=\"\",-10,Foglio1!J5),\"\")","v":100},{"$f":"IF(ROW(C5)-1<=$J$5,IF(Foglio1!K5=\"\",-10,Foglio1!K5),\"\")","v":0},{"$f":"IF(ROW(D5)-1<=$J$5,IF(Foglio1!L5=\"\",-10,Foglio1!L5),\"\")","v":-10},{"$f":"IF(ROW(E5)-1<=$J$5,IF(Foglio1!M5=\"\",-10,Foglio1!M5),\"\")","v":-10},{"$f":"IF(ROW(F5)-1<=$J$5,IF(Foglio1!N5=\"\",-10,Foglio1!N5),\"\")","v":-10},{"$f":"IF(ROW(G5)-1<=$J$5,IF(Foglio1!O5=\"\",-10,Foglio1!O5),\"\")","v":-10},{"$f":"IF(ROW(H5)-1<=$J$5,IF(Foglio1!P5=\"\",-10,Foglio1!P5),\"\")","v":-10},{"$f":"IF(ROW(I5)-1<=$J$5,IF(Foglio1!Q5=\"\",-10,Foglio1!Q5),\"\")","v":-10},{"$f":"COUNTA(Foglio1!D2:D529)","v":99},{"$f":"IF(ROW(K5)-1<=$J$5,K$1+COUNTIF(A$2:A5,A5)*$J$7,\"\")","v":3.03},{"$f":"IF(ROW(L5)-1<=$J$5,L$1+COUNTIF(B$2:B5,B5)*$J$7,\"\")","v":2.06},{"$f":"IF(ROW(M5)-1<=$J$5,M$1+COUNTIF(C$2:C5,C5)*$J$7,\"\")","v":1.06},{"$f":"IF(ROW(N5)-1<=$J$5,N$1+COUNTIF(D$2:D5,D5)*$J$7,\"\")","v":0.09},{"$f":"IF(ROW(O5)-1<=$J$5,O$1+COUNTIF(E$2:E5,E5)*$J$7,\"\")","v":-0.88},{"$f":"IF(ROW(P5)-1<=$J$5,P$1+COUNTIF(F$2:F5,F5)*$J$7,\"\")","v":-1.88},{"$f":"IF(ROW(Q5)-1<=$J$5,Q$1+COUNTIF(G$2:G5,G5)*$J$7,\"\")","v":-2.88},{"$f":"IF(ROW(R5)-1<=$J$5,R$1+COUNTIF(H$2:H5,H5)*$J$7,\"\")","v":-3.88},{"$f":"IF(ROW(S5)-1<=$J$5,S$1+COUNTIF(I$2:I5,I5)*$J$7,\"\")","v":-4.88}]
[{"$f":"IF(ROW(A6)-1<=$J$5,IF(Foglio1!I6=\"\",-10,Foglio1!I6),\"\")","v":40},{"$f":"IF(ROW(B6)-1<=$J$5,IF(Foglio1!J6=\"\",-10,Foglio1!J6),\"\")","v":75},{"$f":"IF(ROW(C6)-1<=$J$5,IF(Foglio1!K6=\"\",-10,Foglio1!K6),\"\")","v":75},{"$f":"IF(ROW(D6)-1<=$J$5,IF(Foglio1!L6=\"\",-10,Foglio1!L6),\"\")","v":-10},{"$f":"IF(ROW(E6)-1<=$J$5,IF(Foglio1!M6=\"\",-10,Foglio1!M6),\"\")","v":-10},{"$f":"IF(ROW(F6)-1<=$J$5,IF(Foglio1!N6=\"\",-10,Foglio1!N6),\"\")","v":-10},{"$f":"IF(ROW(G6)-1<=$J$5,IF(Foglio1!O6=\"\",-10,Foglio1!O6),\"\")","v":-10},{"$f":"IF(ROW(H6)-1<=$J$5,IF(Foglio1!P6=\"\",-10,Foglio1!P6),\"\")","v":-10},{"$f":"IF(ROW(I6)-1<=$J$5,IF(Foglio1!Q6=\"\",-10,Foglio1!Q6),\"\")","v":-10},"Compression",{"$f":"IF(ROW(K6)-1<=$J$5,K$1+COUNTIF(A$2:A6,A6)*$J$7,\"\")","v":3.03},{"$f":"IF(ROW(L6)-1<=$J$5,L$1+COUNTIF(B$2:B6,B6)*$J$7,\"\")","v":2.0299999999999998},{"$f":"IF(ROW(M6)-1<=$J$5,M$1+COUNTIF(C$2:C6,C6)*$J$7,\"\")","v":1.03},{"$f":"IF(ROW(N6)-1<=$J$5,N$1+COUNTIF(D$2:D6,D6)*$J$7,\"\")","v":0.12},{"$f":"IF(ROW(O6)-1<=$J$5,O$1+COUNTIF(E$2:E6,E6)*$J$7,\"\")","v":-0.85},{"$f":"IF(ROW(P6)-1<=$J$5,P$1+COUNTIF(F$2:F6,F6)*$J$7,\"\")","v":-1.85},{"$f":"IF(ROW(Q6)-1<=$J$5,Q$1+COUNTIF(G$2:G6,G6)*$J$7,\"\")","v":-2.85},{"$f":"IF(ROW(R6)-1<=$J$5,R$1+COUNTIF(H$2:H6,H6)*$J$7,\"\")","v":-3.85},{"$f":"IF(ROW(S6)-1<=$J$5,S$1+COUNTIF(I$2:I6,I6)*$J$7,\"\")","v":-4.8499999999999996}]
[{"$f":"IF(ROW(A7)-1<=$J$5,IF(Foglio1!I7=\"\",-10,Foglio1!I7),\"\")","v":70},{"$f":"IF(ROW(B7)-1<=$J$5,IF(Foglio1!J7=\"\",-10,Foglio1!J7),\"\")","v":90},{"$f":"IF(ROW(C7)-1<=$J$5,IF(Foglio1!K7=\"\",-10,Foglio1!K7),\"\")","v":30},{"$f":"IF(ROW(D7)-1<=$J$5,IF(Foglio1!L7=\"\",-10,Foglio1!L7),\"\")","v":-10},{"$f":"IF(ROW(E7)-1<=$J$5,IF(Foglio1!M7=\"\",-10,Foglio1!M7),\"\")","v":-10},{"$f":"IF(ROW(F7)-1<=$J$5,IF(Foglio1!N7=\"\",-10,Foglio1!N7),\"\")","v":-10},{"$f":"IF(ROW(G7)-1<=$J$5,IF(Foglio1!O7=\"\",-10,Foglio1!O7),\"\")","v":-10},{"$f":"IF(ROW(H7)-1<=$J$5,IF(Foglio1!P7=\"\",-10,Foglio1!P7),\"\")","v":-10},{"$f":"IF(ROW(I7)-1<=$J$5,IF(Foglio1!Q7=\"\",-10,Foglio1!Q7),\"\")","v":-10},0.03,{"$f":"IF(ROW(K7)-1<=$J$5,K$1+COUNTIF(A$2:A7,A7)*$J$7,\"\")","v":3.03},{"$f":"IF(ROW(L7)-1<=$J$5,L$1+COUNTIF(B$2:B7,B7)*$J$7,\"\")","v":2.0299999999999998},{"$f":"IF(ROW(M7)-1<=$J$5,M$1+COUNTIF(C$2:C7,C7)*$J$7,\"\")","v":1.03},{"$f":"IF(ROW(N7)-1<=$J$5,N$1+COUNTIF(D$2:D7,D7)*$J$7,\"\")","v":0.15},{"$f":"IF(ROW(O7)-1<=$J$5,O$1+COUNTIF(E$2:E7,E7)*$J$7,\"\")","v":-0.82000000000000006},{"$f":"IF(ROW(P7)-1<=$J$5,P$1+COUNTIF(F$2:F7,F7)*$J$7,\"\")","v":-1.82},{"$f":"IF(ROW(Q7)-1<=$J$5,Q$1+COUNTIF(G$2:G7,G7)*$J$7,\"\")","v":-2.82},{"$f":"IF(ROW(R7)-1<=$J$5,R$1+COUNTIF(H$2:H7,H7)*$J$7,\"\")","v":-3.82},{"$f":"IF(ROW(S7)-1<=$J$5,S$1+COUNTIF(I$2:I7,I7)*$J$7,\"\")","v":-4.82}]
[{"$f":"IF(ROW(A8)-1<=$J$5,IF(Foglio1!I8=\"\",-10,Foglio1!I8),\"\")","v":80},{"$f":"IF(ROW(B8)-1<=$J$5,IF(Foglio1!J8=\"\",-10,Foglio1!J8),\"\")","v":80},{"$f":"IF(ROW(C8)-1<=$J$5,IF(Foglio1!K8=\"\",-10,Foglio1!K8),\"\")","v":-10},{"$f":"IF(ROW(D8)-1<=$J$5,IF(Foglio1!L8=\"\",-10,Foglio1!L8),\"\")","v":-10},{"$f":"IF(ROW(E8)-1<=$J$5,IF(Foglio1!M8=\"\",-10,Foglio1!M8),\"\")","v":-10},{"$f":"IF(ROW(F8)-1<=$J$5,IF(Foglio1!N8=\"\",-10,Foglio1!N8),\"\")","v":-10},{"$f":"IF(ROW(G8)-1<=$J$5,IF(Foglio1!O8=\"\",-10,Foglio1!O8),\"\")","v":-10},{"$f":"IF(ROW(H8)-1<=$J$5,IF(Foglio1!P8=\"\",-10,Foglio1!P8),\"\")","v":-10},{"$f":"IF(ROW(I8)-1<=$J$5,IF(Foglio1!Q8=\"\",-10,Foglio1!Q8),\"\")","v":-10},null,{"$f":"IF(ROW(K8)-1<=$J$5,K$1+COUNTIF(A$2:A8,A8)*$J$7,\"\")","v":3.06},{"$f":"IF(ROW(L8)-1<=$J$5,L$1+COUNTIF(B$2:B8,B8)*$J$7,\"\")","v":2.0299999999999998},{"$f":"IF(ROW(M8)-1<=$J$5,M$1+COUNTIF(C$2:C8,C8)*$J$7,\"\")","v":1.0900000000000001},{"$f":"IF(ROW(N8)-1<=$J$5,N$1+COUNTIF(D$2:D8,D8)*$J$7,\"\")","v":0.18},{"$f":"IF(ROW(O8)-1<=$J$5,O$1+COUNTIF(E$2:E8,E8)*$J$7,\"\")","v":-0.79},{"$f":"IF(ROW(P8)-1<=$J$5,P$1+COUNTIF(F$2:F8,F8)*$J$7,\"\")","v":-1.79},{"$f":"IF(ROW(Q8)-1<=$J$5,Q$1+COUNTIF(G$2:G8,G8)*$J$7,\"\")","v":-2.79},{"$f":"IF(ROW(R8)-1<=$J$5,R$1+COUNTIF(H$2:H8,H8)*$J$7,\"\")","v":-3.79},{"$f":"IF(ROW(S8)-1<=$J$5,S$1+COUNTIF(I$2:I8,I8)*$J$7,\"\")","v":-4.79}]
[{"$f":"IF(ROW(A9)-1<=$J$5,IF(Foglio1!I9=\"\",-10,Foglio1!I9),\"\")","v":100},{"$f":"IF(ROW(B9)-1<=$J$5,IF(Foglio1!J9=\"\",-10,Foglio1!J9),\"\")","v":100},{"$f":"IF(ROW(C9)-1<=$J$5,IF(Foglio1!K9=\"\",-10,Foglio1!K9),\"\")","v":-10},{"$f":"IF(ROW(D9)-1<=$J$5,IF(Foglio1!L9=\"\",-10,Foglio1!L9),\"\")","v":-10},{"$f":"IF(ROW(E9)-1<=$J$5,IF(Foglio1!M9=\"\",-10,Foglio1!M9),\"\")","v":-10},{"$f":"IF(ROW(F9)-1<=$J$5,IF(Foglio1!N9=\"\",-10,Foglio1!N9),\"\")","v":-10},{"$f":"IF(ROW(G9)-1<=$J$5,IF(Foglio1!O9=\"\",-10,Foglio1!O9),\"\")","v":-10},{"$f":"IF(ROW(H9)-1<=$J$5,IF(Foglio1!P9=\"\",-10,Foglio1!P9),\"\")","v":-10},{"$f":"IF(ROW(I9)-1<=$J$5,IF(Foglio1!Q9=\"\",-10,Foglio1!Q9),\"\")","v":-10},null,{"$f":"IF(ROW(K9)-1<=$J$5,K$1+COUNTIF(A$2:A9,A9)*$J$7,\"\")","v":3.06},{"$f":"IF(ROW(L9)-1<=$J$5,L$1+COUNTIF(B$2:B9,B9)*$J$7,\"\")","v":2.09},{"$f":"IF(ROW(M9)-1<=$J$5,M$1+COUNTIF(C$2:C9,C9)*$J$7,\"\")","v":1.1200000000000001},{"$f":"IF(ROW(N9)-1<=$J$5,N$1+COUNTIF(D$2:D9,D9)*$J$7,\"\")","v":0.21},{"$f":"IF(ROW(O9)-1<=$J$5,O$1+COUNTIF(E$2:E9,E9)*$J$7,\"\")","v":-0.76},{"$f":"IF(ROW(P9)-1<=$J$5,P$1+COUNTIF(F$2:F9,F9)*$J$7,\"\")","v":-1.76},{"$f":"IF(ROW(Q9)-1<=$J$5,Q$1+COUNTIF(G$2:G9,G9)*$J$7,\"\")","v":-2.76},{"$f":"IF(ROW(R9)-1<=$J$5,R$1+COUNTIF(H$2:H9,H9)*$J$7,\"\")","v":-3.76},{"$f":"IF(ROW(S9)-1<=$J$5,S$1+COUNTIF(I$2:I9,I9)*$J$7,\"\")","v":-4.76}]
[{"$f":"IF(ROW(A10)-1<=$J$5,IF(Foglio1!I10=\"\",-10,Foglio1!I10),\"\")","v":-10},{"$f":"IF(ROW(B10)-1<=$J$5,IF(Foglio1!J10=\"\",-10,Foglio1!J10),\"\")","v":-10},{"$f":"IF(ROW(C10)-1<=$J$5,IF(Foglio1!K10=\"\",-10,Foglio1!K10),\"\")","v":-10},{"$f":"IF(ROW(D10)-1<=$J$5,IF(Foglio1!L10=\"\",-10,Foglio1!L10),\"\")","v":-10},{"$f":"IF(ROW(E10)-1<=$J$5,IF(Foglio1!M10=\"\",-10,Foglio1!M10),\"\")","v":-10},{"$f":"IF(ROW(F10)-1<=$J$5,IF(Foglio1!N10=\"\",-10,Foglio1!N10),\"\")","v":-10},{"$f":"IF(ROW(G10)-1<=$J$5,IF(Foglio1!O10=\"\",-10,Foglio1!O10),\"\")","v":-10},{"$f":"IF(ROW(H10)-1<=$J$5,IF(Foglio1!P10=\"\",-10,Foglio1!P10),\"\")","v":-10},{"$f":"IF(ROW(I10)-1<=$J$5,IF(Foglio1!Q10=\"\",-10,Foglio1!Q10),\"\")","v":-10},null,{"$f":"IF(ROW(K10)-1<=$J$5,K$1+COUNTIF(A$2:A10,A10)*$J$7,\"\")","v":3.06},{"$f":"IF(ROW(L10)-1<=$J$5,L$1+COUNTIF(B$2:B10,B10)*$J$7,\"\")","v":2.06},{"$f":"IF(ROW(M10)-1<=$J$5,M$1+COUNTIF(C$2:C10,C10)*$J$7,\"\")","v":1.1499999999999999},{"$f":"IF(ROW(N10)-1<=$J$5,N$1+COUNTIF(D$2:D10,D10)*$J$7,\"\")","v":0.24},{"$f":"IF(ROW(O10)-1<=$J$5,O$1+COUNTIF(E$2:E10,E10)*$J$7,\"\")","v":-0.73},{"$f":"IF(ROW(P10)-1<=$J$5,P$1+COUNTIF(F$2:F10,F10)*$J$7,\"\")","v":-1.73},{"$f":"IF(ROW(Q10)-1<=$J$5,Q$1+COUNTIF(G$2:G10,G10)*$J$7,\"\")","v":-2.73},{"$f":"IF(ROW(R10)-1<=$J$5,R$1+COUNTIF(H$2:H10,H10)*$J$7,\"\")","v":-3.73},{"$f":"IF(ROW(S10)-1<=$J$5,S$1+COUNTIF(I$2:I10,I10)*$J$7,\"\")","v":-4.7300000000000004}]
[{"$f":"IF(ROW(A11)-1<=$J$5,IF(Foglio1!I11=\"\",-10,Foglio1!I11),\"\")","v":100},{"$f":"IF(ROW(B11)-1<=$J$5,IF(Foglio1!J11=\"\",-10,Foglio1!J11),\"\")","v":100},{"$f":"IF(ROW(C11)-1<=$J$5,IF(Foglio1!K11=\"\",-10,Foglio1!K11),\"\")","v":0},{"$f":"IF(ROW(D11)-1<=$J$5,IF(Foglio1!L11=\"\",-10,Foglio1!L11),\"\")","v":0},{"$f":"IF(ROW(E11)-1<=$J$5,IF(Foglio1!M11=\"\",-10,Foglio1!M11),\"\")","v":-10},{"$f":"IF(ROW(F11)-1<=$J$5,IF(Foglio1!N11=\"\",-10,Foglio1!N11),\"\")","v":-10},{"$f":"IF(ROW(G11)-1<=$J$5,IF(Foglio1!O11=\"\",-10,Foglio1!O11),\"\")","v":-10},{"$f":"IF(ROW(H11)-1<=$J$5,IF(Foglio1!P11=\"\",-10,Foglio1!P11),\"\")","v":-10},{"$f":"IF(ROW(I11)-1<=$J$5,IF(Foglio1!Q11=\"\",-10,Foglio1!Q11),\"\")","v":-10},null,{"$f":"IF(ROW(K11)-1<=$J$5,K$1+COUNTIF(A$2:A11,A11)*$J$7,\"\")","v":3.09},{"$f":"IF(ROW(L11)-1<=$J$5,L$1+COUNTIF(B$2:B11,B11)*$J$7,\"\")","v":2.12},{"$f":"IF(ROW(M11)-1<=$J$5,M$1+COUNTIF(C$2:C11,C11)*$J$7,\"\")","v":1.0900000000000001},{"$f":"IF(ROW(N11)-1<=$J$5,N$1+COUNTIF(D$2:D11,D11)*$J$7,\"\")","v":0.03},{"$f":"IF(ROW(O11)-1<=$J$5,O$1+COUNTIF(E$2:E11,E11)*$J$7,\"\")","v":-0.7},{"$f":"IF(ROW(P11)-1<=$J$5,P$1+COUNTIF(F$2:F11,F11)*$J$7,\"\")","v":-1.7},{"$f":"IF(ROW(Q11)-1<=$J$5,Q$1+COUNTIF(G$2:G11,G11)*$J$7,\"\")","v":-2.7},{"$f":"IF(ROW(R11)-1<=$J$5,R$1+COUNTIF(H$2:H11,H11)*$J$7,\"\")","v":-3.7},{"$f":"IF(ROW(S11)-1<=$J$5,S$1+COUNTIF(I$2:I11,I11)*$J$7,\"\")","v":-4.7}]
[{"$f":"IF(ROW(A12)-1<=$J$5,IF(Foglio1!I12=\"\",-10,Foglio1!I12),\"\")","v":50},{"$f":"IF(ROW(B12)-1<=$J$5,IF(Foglio1!J12=\"\",-10,Foglio1!J12),\"\")","v":50},{"$f":"IF(ROW(C12)-1<=$J$5,IF(Foglio1!K12=\"\",-10,Foglio1!K12),\"\")","v":100},{"$f":"IF(ROW(D12)-1<=$J$5,IF(Foglio1!L12=\"\",-10,Foglio1!L12),\"\")","v":-10},{"$f":"IF(ROW(E12)-1<=$J$5,IF(Foglio1!M12=\"\",-10,Foglio1!M12),\"\")","v":-10},{"$f":"IF(ROW(F12)-1<=$J$5,IF(Foglio1!N12=\"\",-10,Foglio1!N12),\"\")","v":-10},{"$f":"IF(ROW(G12)-1<=$J$5,IF(Foglio1!O12=\"\",-10,Foglio1!O12),\"\")","v":-10},{"$f":"IF(ROW(H12)-1<=$J$5,IF(Foglio1!P12=\"\",-10,Foglio1!P12),\"\")","v":-10},{"$f":"IF(ROW(I12)-1<=$J$5,IF(Foglio1!Q12=\"\",-10,Foglio1!Q12),\"\")","v":-10},null,{"$f":"IF(ROW(K12)-1<=$J$5,K$1+COUNTIF(A$2:A12,A12)*$J$7,\"\")","v":3.03},{"$f":"IF(ROW(L12)-1<=$J$5,L$1+COUNTIF(B$2:B12,B12)*$J$7,\"\")","v":2.0299999999999998},{"$f":"IF(ROW(M12)-1<=$J$5,M$1+COUNTIF(C$2:C12,C12)*$J$7,\"\")","v":1.03},{"$f":"IF(ROW(N12)-1<=$J$5,N$1+COUNTIF(D$2:D12,D12)*$J$7,\"\")","v":0.27},{"$f":"IF(ROW(O12)-1<=$J$5,O$1+COUNTIF(E$2:E12,E12)*$J$7,\"\")","v":-0.67},{"$f":"IF(ROW(P12)-1<=$J$5,P$1+COUNTIF(F$2:F12,F12)*$J$7,\"\")","v":-1.67},{"$f":"IF(ROW(Q12)-1<=$J$5,Q$1+COUNTIF(G$2:G12,G12)*$J$7,\"\")","v":-2.67},{"$f":"IF(ROW(R12)-1<=$J$5,R$1+COUNTIF(H$2:H12,H12)*$J$7,\"\")","v":-3.67},{"$f":"IF(ROW(S12)-1<=$J$5,S$1+COUNTIF(I$2:I12,I12)*$J$7,\"\")","v":-4.67}]
[{"$f":"IF(ROW(A13)-1<=$J$5,IF(Foglio1!I13=\"\",-10,Foglio1!I13),\"\")","v":70},{"$f":"IF(ROW(B13)-1<=$J$5,IF(Foglio1!J13=\"\",-10,Foglio1!J13),\"\")","v":70},{"$f":"IF(ROW(C13)-1<=$J$5,IF(Foglio1!K13=\"\",-10,Foglio1!K13),\"\")","v":-10},{"$f":"IF(ROW(D13)-1<=$J$5,IF(Foglio1!L13=\"\",-10,Foglio1!L13),\"\")","v":-10},{"$f":"IF(ROW(E13)-1<=$J$5,IF(Foglio1!M13=\"\",-10,Foglio1!M13),\"\")","v":-10},{"$f":"IF(ROW(F13)-1<=$J$5,IF(Foglio1!N13=\"\",-10,Foglio1!N13),\"\")","v":-10},{"$f":"IF(ROW(G13)-1<=$J$5,IF(Foglio1!O13=\"\",-10,Foglio1!O13),\"\")","v":-10},{"$f":"IF(ROW(H13)-1<=$J$5,IF(Foglio1!P13=\"\",-10,Foglio1!P13),\"\")","v":-10},{"$f":"IF(ROW(I13)-1<=$J$5,IF(Foglio1!Q13=\"\",-10,Foglio1!Q13),\"\")","v":-10},null,{"$f":"IF(ROW(K13)-1<=$J$5,K$1+COUNTIF(A$2:A13,A13)*$J$7,\"\")","v":3.06},{"$f":"IF(ROW(L13)-1<=$J$5,L$1+COUNTIF(B$2:B13,B13)*$J$7,\"\")","v":2.0299999999999998},{"$f":"IF(ROW(M13)-1<=$J$5,M$1+COUNTIF(C$2:C13,C13)*$J$7,\"\")","v":1.18},{"$f":"IF(ROW(N13)-1<=$J$5,N$1+COUNTIF(D$2:D13,D13)*$J$7,\"\")","v":0.3},{"$f":"IF(ROW(O13)-1<=$J$5,O$1+COUNTIF(E$2:E13,E13)*$J$7,\"\")","v":-0.64},{"$f":"IF(ROW(P13)-1<=$J$5,P$1+COUNTIF(F$2:F13,F13)*$J$7,\"\")","v":-1.6400000000000001},{"$f":"IF(ROW(Q13)-1<=$J$5,Q$1+COUNTIF(G$2:G13,G13)*$J$7,\"\")","v":-2.64},{"$f":"IF(ROW(R13)-1<=$J$5,R$1+COUNTIF(H$2:H13,H13)*$J$7,\"\")","v":-3.64},{"$f":"IF(ROW(S13)-1<=$J$5,S$1+COUNTIF(I$2:I13,I13)*$J$7,\"\")","v":-4.6399999999999997}]
[{"$f":"IF(ROW(A14)-1<=$J$5,IF(Foglio1!I14=\"\",-10,Foglio1!I14),\"\")","v":90},{"$f":"IF(ROW(B14)-1<=$J$5,IF(Foglio1!J14=\"\",-10,Foglio1!J14),\"\")","v":90},{"$f":"IF(ROW(C14)-1<=$J$5,IF(Foglio1!K14=\"\",-10,Foglio1!K14),\"\")","v":70},{"$f":"IF(ROW(D14)-1<=$J$5,IF(Foglio1!L14=\"\",-10,Foglio1!L14),\"\")","v":0},{"$f":"IF(ROW(E14)-1<=$J$5,IF(Foglio1!M14=\"\",-10,Foglio1!M14),\"\")","v":-10},{"$f":"IF(ROW(F14)-1<=$J$5,IF(Foglio1!N14=\"\",-10,Foglio1!N14),\"\")","v":-10},{"$f":"IF(ROW(G14)-1<=$J$5,IF(Foglio1!O14=\"\",-10,Foglio1!O14),\"\")","v":-10},{"$f":"IF(ROW(H14)-1<=$J$5,IF(Foglio1!P14=\"\",-10,Foglio1!P14),\"\")","v":-10},{"$f":"IF(ROW(I14)-1<=$J$5,IF(Foglio1!Q14=\"\",-10,Foglio1!Q14),\"\")","v":-10},null,{"$f":"IF(ROW(K14)-1<=$J$5,K$1+COUNTIF(A$2:A14,A14)*$J$7,\"\")","v":3.03},{"$f":"IF(ROW(L14)-1<=$J$5,L$1+COUNTIF(B$2:B14,B14)*$J$7,\"\")","v":2.06},{"$f":"IF(ROW(M14)-1<=$J$5,M$1+COUNTIF(C$2:C14,C14)*$J$7,\"\")","v":1.03},{"$f":"IF(ROW(N14)-1<=$J$5,N$1+COUNTIF(D$2:D14,D14)*$J$7,\"\")","v":0.06},{"$f":"IF(ROW(O14)-1<=$J$5,O$1+COUNTIF(E$2:E14,E14)*$J$7,\"\")","v":-0.61},{"$f":"IF(ROW(P14)-1<=$J$5,P$1+COUNTIF(F$2:F14,F14)*$J$7,\"\")","v":-1.6099999999999999},{"$f":"IF(ROW(Q14)-1<=$J$5,Q$1+COUNTIF(G$2:G14,G14)*$J$7,\"\")","v":-2.61},{"$f":"IF(ROW(R14)-1<=$J$5,R$1+COUNTIF(H$2:H14,H14)*$J$7,\"\")","v":-3.61},{"$f":"IF(ROW(S14)-1<=$J$5,S$1+COUNTIF(I$2:I14,I14)*$J$7,\"\")","v":-4.6100000000000003}]
[{"$f":"IF(ROW(A15)-1<=$J$5,IF(Foglio1!I15=\"\",-10,Foglio1!I15),\"\")","v":50},{"$f":"IF(ROW(B15)-1<=$J$5,IF(Foglio1!J15=\"\",-10,Foglio1!J15),\"\")","v":80},{"$f":"IF(ROW(C15)-1<=$J$5,IF(Foglio1!K15=\"\",-10,Foglio1!K15),\"\")","v":60},{"$f":"IF(ROW(D15)-1<=$J$5,IF(Foglio1!L15=\"\",-10,Foglio1!L15),\"\")","v":60},{"$f":"IF(ROW(E15)-1<=$J$5,IF(Foglio1!M15=\"\",-10,Foglio1!M15),\"\")","v":-10},{"$f":"IF(ROW(F15)-1<=$J$5,IF(Foglio1!N15=\"\",-10,Foglio1!N15),\"\")","v":-10},{"$f":"IF(ROW(G15)-1<=$J$5,IF(Foglio1!O15=\"\",-10,Foglio1!O15),\"\")","v":-10},{"$f":"IF(ROW(H15)-1<=$J$5,IF(Foglio1!P15=\"\",-10,Foglio1!P15),\"\")","v":-10},{"$f":"IF(ROW(I15)-1<=$J$5,IF(Foglio1!Q15=\"\",-10,Foglio1!Q15),\"\")","v":-10},null,{"$f":"IF(ROW(K15)-1<=$J$5,K$1+COUNTIF(A$2:A15,A15)*$J$7,\"\")","v":3.06},{"$f":"IF(ROW(L15)-1<=$J$5,L$1+COUNTIF(B$2:B15,B15)*$J$7,\"\")","v":2.06},{"$f":"IF(ROW(M15)-1<=$J$5,M$1+COUNTIF(C$2:C15,C15)*$J$7,\"\")","v":1.03},{"$f":"IF(ROW(N15)-1<=$J$5,N$1+COUNTIF(D$2:D15,D15)*$J$7,\"\")","v":0.03},{"$f":"IF(ROW(O15)-1<=$J$5,O$1+COUNTIF(E$2:E15,E15)*$J$7,\"\")","v":-0.58000000000000007},{"$f":"IF(ROW(P15)-1<=$J$5,P$1+COUNTIF(F$2:F15,F15)*$J$7,\"\")","v":-1.58},{"$f":"IF(ROW(Q15)-1<=$J$5,Q$1+COUNTIF(G$2:G15,G15)*$J$7,\"\")","v":-2.58},{"$f":"IF(ROW(R15)-1<=$J$5,R$1+COUNTIF(H$2:H15,H15)*$J$7,\"\")","v":-3.58},{"$f":"IF(ROW(S15)-1<=$J$5,S$1+COUNTIF(I$2:I15,I15)*$J$7,\"\")","v":-4.58}]
[{"$f":"IF(ROW(A16)-1<=$J$5,IF(Foglio1!I16=\"\",-10,Foglio1!I16),\"\")","v":-10},{"$f":"IF(ROW(B16)-1<=$J$5,IF(Foglio1!J16=\"\",-10,Foglio1!J16),\"\")","v":-10},{"$f":"IF(ROW(C16)-1<=$J$5,IF(Foglio1!K16=\"\",-10,Foglio1!K16),\"\")","v":-10},{"$f":"IF(ROW(D16)-1<=$J$5,IF(Foglio1!L16=\"\",-10,Foglio1!L16),\"\")","v":-10},{"$f":"IF(ROW(E16)-1<=$J$5,IF(Foglio1!M16=\"\",-10,Foglio1!M16),\"\")","v":-10},{"$f":"IF(ROW(F16)-1<=$J$5,IF(Foglio1!N16=\"\",-10,Foglio1!N16),\"\")","v":-10},{"$f":"IF(ROW(G16)-1<=$J$5,IF(Foglio1!O16=\"\",-10,Foglio1!O16),\"\")","v":-10},{"$f":"IF(ROW(H16)-1<=$J$5,IF(Foglio1!P16=\"\",-10,Foglio1!P16),\"\")","v":-10},{"$f":"IF(ROW(I16)-1<=$J$5,IF(Foglio1!Q16=\"\",-10,Foglio1!Q16),\"\")","v":-10},null,{"$f":"IF(ROW(K16)-1<=$J$5,K$1+COUNTIF(A$2:A16,A16)*$J$7,\"\")","v":3.09},{"$f":"IF(ROW(L16)-1<=$J$5,L$1+COUNTIF(B$2:B16,B16)*$J$7,\"\")","v":2.09},{"$f":"IF(ROW(M16)-1<=$J$5,M$1+COUNTIF(C$2:C16,C16)*$J$7,\"\")","v":1.21},{"$f":"IF(ROW(N16)-1<=$J$5,N$1+COUNTIF(D$2:D16,D16)*$J$7,\"\")","v":0.32999999999999996},{"$f":"IF(ROW(O16)-1<=$J$5,O$1+COUNTIF(E$2:E16,E16)*$J$7,\"\")","v":-0.55000000000000004},{"$f":"IF(ROW(P16)-1<=$J$5,P$1+COUNTIF(F$2:F16,F16)*$J$7,\"\")","v":-1.55},{"$f":"IF(ROW(Q16)-1<=$J$5,Q$1+COUNTIF(G$2:G16,G16)*$J$7,\"\")","v":-2.5499999999999998},{"$f":"IF(ROW(R16)-1<=$J$5,R$1+COUNTIF(H$2:H16,H16)*$J$7,\"\")","v":-3.55},{"$f":"IF(ROW(S16)-1<=$J$5,S$1+COUNTIF(I$2:I16,I16)*$J$7,\"\")","v":-4.55}]
[{"$f":"IF(ROW(A17)-1<=$J$5,IF(Foglio1!I17=\"\",-10,Foglio1!I17),\"\")","v":80},{"$f":"IF(ROW(B17)-1<=$J$5,IF(Foglio1!J17=\"\",-10,Foglio1!J17),\"\")","v":80},{"$f":"IF(ROW(C17)-1<=$J$5,IF(Foglio1!K17=\"\",-10,Foglio1!K17),\"\")","v":60},{"$f":"IF(ROW(D17)-1<=$J$5,IF(Foglio1!L17=\"\",-10,Foglio1!L17),\"\")","v":-10},{"$f":"IF(ROW(E17)-1<=$J$5,IF(Foglio1!M17=\"\",-10,Foglio1!M17),\"\")","v":-10},{"$f":"IF(ROW(F17)-1<=$J$5,IF(Foglio1!N17=\"\",-10,Foglio1!N17),\"\")","v":-10},{"$f":"IF(ROW(G17)-1<=$J$5,IF(Foglio1!O17=\"\",-10,Foglio1!O17),\"\")","v":-10},{"$f":"IF(ROW(H17)-1<=$J$5,IF(Foglio1!P17=\"\",-10,Foglio1!P17),\"\")","v":-10},{"$f":"IF(ROW(I17)-1<=$J$5,IF(Foglio1!Q17=\"\",-10,Foglio1!Q17),\"\")","v":-10},null,{"$f":"IF(ROW(K17)-1<=$J$5,K$1+COUNTIF(A$2:A17,A17)*$J$7,\"\")","v":3.09},{"$f":"IF(ROW(L17)-1<=$J$5,L$1+COUNTIF(B$2:B17,B17)*$J$7,\"\")","v":2.09},{"$f":"IF(ROW(M17)-1<=$J$5,M$1+COUNTIF(C$2:C17,C17)*$J$7,\"\")","v":1.06},{"$f":"IF(ROW(N17)-1<=$J$5,N$1+COUNTIF(D$2:D17,D17)*$J$7,\"\")","v":0.36},{"$f":"IF(ROW(O17)-1<=$J$5,O$1+COUNTIF(E$2:E17,E17)*$J$7,\"\")","v":-0.52},{"$f":"IF(ROW(P17)-1<=$J$5,P$1+COUNTIF(F$2:F17,F17)*$J$7,\"\")","v":-1.52},{"$f":"IF(ROW(Q17)-1<=$J$5,Q$1+COUNTIF(G$2:G17,G17)*$J$7,\"\")","v":-2.52},{"$f":"IF(ROW(R17)-1<=$J$5,R$1+COUNTIF(H$2:H17,H17)*$J$7,\"\")","v":-3.52},{"$f":"IF(ROW(S17)-1<=$J$5,S$1+COUNTIF(I$2:I17,I17)*$J$7,\"\")","v":-4.5199999999999996}]
[{"$f":"IF(ROW(A18)-1<=$J$5,IF(Foglio1!I18=\"\",-10,Foglio1!I18),\"\")","v":50},{"$f":"IF(ROW(B18)-1<=$J$5,IF(Foglio1!J18=\"\",-10,Foglio1!J18),\"\")","v":50},{"$f":"IF(ROW(C18)-1<=$J$5,IF(Foglio1!K18=\"\",-10,Foglio1!K18),\"\")","v":100},{"$f":"IF(ROW(D18)-1<=$J$5,IF(Foglio1!L18=\"\",-10,Foglio1!L18),\"\")","v":0},{"$f":"IF(ROW(E18)-1<=$J$5,IF(Foglio1!M18=\"\",-10,Foglio1!M18),\"\")","v":-10},{"$f":"IF(ROW(F18)-1<=$J$5,IF(Foglio1!N18=\"\",-10,Foglio1!N18),\"\")","v":-10},{"$f":"IF(ROW(G18)-1<=$J$5,IF(Foglio1!O18=\"\",-10,Foglio1!O18),\"\")","v":-10},{"$f":"IF(ROW(H18)-1<=$J$5,IF(Foglio1!P18=\"\",-10,Foglio1!P18),\"\")","v":-10},{"$f":"IF(ROW(I18)-1<=$J$5,IF(Foglio1!Q18=\"\",-10,Foglio1!Q18),\"\")","v":-10},null,{"$f":"IF(ROW(K18)-1<=$J$5,K$1+COUNTIF(A$2:A18,A18)*$J$7,\"\")","v":3.09},{"$f":"IF(ROW(L18)-1<=$J$5,L$1+COUNTIF(B$2:B18,B18)*$J$7,\"\")","v":2.06},{"$f":"IF(ROW(M18)-1<=$J$5,M$1+COUNTIF(C$2:C18,C18)*$J$7,\"\")","v":1.06},{"$f":"IF(ROW(N18)-1<=$J$5,N$1+COUNTIF(D$2:D18,D18)*$J$7,\"\")","v":0.09},{"$f":"IF(ROW(O18)-1<=$J$5,O$1+COUNTIF(E$2:E18,E18)*$J$7,\"\")","v":-0.49},{"$f":"IF(ROW(P18)-1<=$J$5,P$1+COUNTIF(F$2:F18,F18)*$J$7,\"\")","v":-1.49},{"$f":"IF(ROW(Q18)-1<=$J$5,Q$1+COUNTIF(G$2:G18,G18)*$J$7,\"\")","v":-2.4900000000000002},{"$f":"IF(ROW(R18)-1<=$J$5,R$1+COUNTIF(H$2:H18,H18)*$J$7,\"\")","v":-3.49},{"$f":"IF(ROW(S18)-1<=$J$5,S$1+COUNTIF(I$2:I18,I18)*$J$7,\"\")","v":-4.49}]
[{"$f":"IF(ROW(A19)-1<=$J$5,IF(Foglio1!I19=\"\",-10,Foglio1!I19),\"\")","v":-10},{"$f":"IF(ROW(B19)-1<=$J$5,IF(Foglio1!J19=\"\",-10,Foglio1!J19),\"\")","v":-10},{"$f":"IF(ROW(C19)-1<=$J$5,IF(Foglio1!K19=\"\",-10,Foglio1!K19),\"\")","v":80},{"$f":"IF(ROW(D19)-1<=$J$5,IF(Foglio1!L19=\"\",-10,Foglio1!L19),\"\")","v":-10},{"$f":"IF(ROW(E19)-1<=$J$5,IF(Foglio1!M19=\"\",-10,Foglio1!M19),\"\")","v":-10},{"$f":"IF(ROW(F19)-1<=$J$5,IF(Foglio1!N19=\"\",-10,Foglio1!N19),\"\")","v":-10},{"$f":"IF(ROW(G19)-1<=$J$5,IF(Foglio1!O19=\"\",-10,Foglio1!O19),\"\")","v":-10},{"$f":"IF(ROW(H19)-1<=$J$5,IF(Foglio1!P19=\"\",-10,Foglio1!P19),\"\")","v":-10},{"$f":"IF(ROW(I19)-1<=$J$5,IF(Foglio1!Q19=\"\",-10,Foglio1!Q19),\"\")","v":-10},null,{"$f":"IF(ROW(K19)-1<=$J$5,K$1+COUNTIF(A$2:A19,A19)*$J$7,\"\")","v":3.12},{"$f":"IF(ROW(L19)-1<=$J$5,L$1+COUNTIF(B$2:B19,B19)*$J$7,\"\")","v":2.12},{"$f":"IF(ROW(M19)-1<=$J$5,M$1+COUNTIF(C$2:C19,C19)*$J$7,\"\")","v":1.03},{"$f":"IF(ROW(N19)-1<=$J$5,N$1+COUNTIF(D$2:D19,D19)*$J$7,\"\")","v":0.39},{"$f":"IF(ROW(O19)-1<=$J$5,O$1+COUNTIF(E$2:E19,E19)*$J$7,\"\")","v":-0.45999999999999996},{"$f":"IF(ROW(P19)-1<=$J$5,P$1+COUNTIF(F$2:F19,F19)*$J$7,\"\")","v":-1.46},{"$f":"IF(ROW(Q19)-1<=$J$5,Q$1+COUNTIF(G$2:G19,G19)*$J$7,\"\")","v":-2.46},{"$f":"IF(ROW(R19)-1<=$J$5,R$1+COUNTIF(H$2:H19,H19)*$J$7,\"\")","v":-3.46},{"$f":"IF(ROW(S19)-1<=$J$5,S$1+COUNTIF(I$2:I19,I19)*$J$7,\"\")","v":-4.46}]
[{"$f":"IF(ROW(A20)-1<=$J$5,IF(Foglio1!I20=\"\",-10,Foglio1!I20),\"\")","v":90},{"$f":"IF(ROW(B20)-1<=$J$5,IF(Foglio1!J20=\"\",-10,Foglio1!J20),\"\")","v":90},{"$f":"IF(ROW(C20)-1<=$J$5,IF(Foglio1!K20=\"\",-10,Foglio1!K20),\"\")","v":-10},{"$f":"IF(ROW(D20)-1<=$J$5,IF(Foglio1!L20=\"\",-10,Foglio1!L20),\"\")","v":-10},{"$f":"IF(ROW(E20)-1<=$J$5,IF(Foglio1!M20=\"\",-10,Foglio1!M20),\"\")","v":-10},{"$f":"IF(ROW(F20)-1<=$J$5,IF(Foglio1!N20=\"\",-10,Foglio1!N20),\"\")","v":-10},{"$f":"IF(ROW(G20)-1<=$J$5,IF(Foglio1!O20=\"\",-10,Foglio1!O20),\"\")","v":-10},{"$f":"IF(ROW(H20)-1<=$J$5,IF(Foglio1!P20=\"\",-10,Foglio1!P20),\"\")","v":-10},{"$f":"IF(ROW(I20)-1<=$J$5,IF(Foglio1!Q20=\"\",-10,Foglio1!Q20),\"\")","v":-10},null,{"$f":"IF(ROW(K20)-1<=$J$5,K$1+COUNTIF(A$2:A20,A20)*$J$7,\"\")","v":3.06},{"$f":"IF(ROW(L20)-1<=$J$5,L$1+COUNTIF(B$2:B20,B20)*$J$7,\"\")","v":2.09},{"$f":"IF(ROW(M20)-1<=$J$5,M$1+COUNTIF(C$2:C20,C20)*$J$7,\"\")","v":1.24},{"$f":"IF(ROW(N20)-1<=$J$5,N$1+COUNTIF(D$2:D20,D20)*$J$7,\"\")","v":0.42},{"$f":"IF(ROW(O20)-1<=$J$5,O$1+COUNTIF(E$2:E20,E20)*$J$7,\"\")","v":-0.43000000000000005},{"$f":"IF(ROW(P20)-1<=$J$5,P$1+COUNTIF(F$2:F20,F20)*$J$7,\"\")","v":-1.4300000000000002},{"$f":"IF(ROW(Q20)-1<=$J$5,Q$1+COUNTIF(G$2:G20,G20)*$J$7,\"\")","v":-2.4300000000000002},{"$f":"IF(ROW(R20)-1<=$J$5,R$1+COUNTIF(H$2:H20,H20)*$J$7,\"\")","v":-3.43},{"$f":"IF(ROW(S20)-1<=$J$5,S$1+COUNTIF(I$2:I20,I20)*$J$7,\"\")","v":-4.43}]
[{"$f":"IF(ROW(A21)-1<=$J$5,IF(Foglio1!I21=\"\",-10,Foglio1!I21),\"\")","v":20},{"$f":"IF(ROW(B21)-1<=$J$5,IF(Foglio1!J21=\"\",-10,Foglio1!J21),\"\")","v":70},{"$f":"IF(ROW(C21)-1<=$J$5,IF(Foglio1!K21=\"\",-10,Foglio1!K21),\"\")","v":20},{"$f":"IF(ROW(D21)-1<=$J$5,IF(Foglio1!L21=\"\",-10,Foglio1!L21),\"\")","v":-10},{"$f":"IF(ROW(E21)-1<=$J$5,IF(Foglio1!M21=\"\",-10,Foglio1!M21),\"\")","v":-10},{"$f":"IF(ROW(F21)-1<=$J$5,IF(Foglio1!N21=\"\",-10,Foglio1!N21),\"\")","v":-10},{"$f":"IF(ROW(G21)-1<=$J$5,IF(Foglio1!O21=\"\",-10,Foglio1!O21),\"\")","v":-10},{"$f":"IF(ROW(H21)-1<=$J$5,IF(Foglio1!P21=\"\",-10,Foglio1!P21),\"\")","v":-10},{"$f":"IF(ROW(I21)-1<=$J$5,IF(Foglio1!Q21=\"\",-10,Foglio1!Q21),\"\")","v":-10},null,{"$f":"IF(ROW(K21)-1<=$J$5,K$1+COUNTIF(A$2:A21,A21)*$J$7,\"\")","v":3.03},{"$f":"IF(ROW(L21)-1<=$J$5,L$1+COUNTIF(B$2:B21,B21)*$J$7,\"\")","v":2.06},{"$f":"IF(ROW(M21)-1<=$J$5,M$1+COUNTIF(C$2:C21,C21)*$J$7,\"\")","v":1.03},{"$f":"IF(ROW(N21)-1<=$J$5,N$1+COUNTIF(D$2:D21,D21)*$J$7,\"\")","v":0.44999999999999996},{"$f":"IF(ROW(O21)-1<=$J$5,O$1+COUNTIF(E$2:E21,E21)*$J$7,\"\")","v":-0.4},{"$f":"IF(ROW(P21)-1<=$J$5,P$1+COUNTIF(F$2:F21,F21)*$J$7,\"\")","v":-1.4},{"$f":"IF(ROW(Q21)-1<=$J$5,Q$1+COUNTIF(G$2:G21,G21)*$J$7,\"\")","v":-2.4},{"$f":"IF(ROW(R21)-1<=$J$5,R$1+COUNTIF(H$2:H21,H21)*$J$7,\"\")","v":-3.4},{"$f":"IF(ROW(S21)-1<=$J$5,S$1+COUNTIF(I$2:I21,I21)*$J$7,\"\")","v":-4.4000000000000004}]
[{"$f":"IF(ROW(A22)-1<=$J$5,IF(Foglio1!I22=\"\",-10,Foglio1!I22),\"\")","v":100},{"$f":"IF(ROW(B22)-1<=$J$5,IF(Foglio1!J22=\"\",-10,Foglio1!J22),\"\")","v":90},{"$f":"IF(ROW(C22)-1<=$J$5,IF(Foglio1!K22=\"\",-10,Foglio1!K22),\"\")","v":-10},{"$f":"IF(ROW(D22)-1<=$J$5,IF(Foglio1!L22=\"\",-10,Foglio1!L22),\"\")","v":-10},{"$f":"IF(ROW(E22)-1<=$J$5,IF(Foglio1!M22=\"\",-10,Foglio1!M22),\"\")","v":-10},{"$f":"IF(ROW(F22)-1<=$J$5,IF(Foglio1!N22=\"\",-10,Foglio1!N22),\"\")","v":-10},{"$f":"IF(ROW(G22)-1<=$J$5,IF(Foglio1!O22=\"\",-10,Foglio1!O22),\"\")","v":-10},{"$f":"IF(ROW(H22)-1<=$J$5,IF(Foglio1!P22=\"\",-10,Foglio1!P22),\"\")","v":-10},{"$f":"IF(ROW(I22)-1<=$J$5,IF(Foglio1!Q22=\"\",-10,Foglio1!Q22),\"\")","v":-10},null,{"$f":"IF(ROW(K22)-1<=$J$5,K$1+COUNTIF(A$2:A22,A22)*$J$7,\"\")","v":3.12},{"$f":"IF(ROW(L22)-1<=$J$5,L$1+COUNTIF(B$2:B22,B22)*$J$7,\"\")","v":2.12},{"$f":"IF(ROW(M22)-1<=$J$5,M$1+COUNTIF(C$2:C22,C22)*$J$7,\"\")","v":1.27},{"$f":"IF(ROW(N22)-1<=$J$5,N$1+COUNTIF(D$2:D22,D22)*$J$7,\"\")","v":0.48},{"$f":"IF(ROW(O22)-1<=$J$5,O$1+COUNTIF(E$2:E22,E22)*$J$7,\"\")","v":-0.37},{"$f":"IF(ROW(P22)-1<=$J$5,P$1+COUNTIF(F$2:F22,F22)*$J$7,\"\")","v":-1.37},{"$f":"IF(ROW(Q22)-1<=$J$5,Q$1+COUNTIF(G$2:G22,G22)*$J$7,\"\")","v":-2.37},{"$f":"IF(ROW(R22)-1<=$J$5,R$1+COUNTIF(H$2:H22,H22)*$J$7,\"\")","v":-3.37},{"$f":"IF(ROW(S22)-1<=$J$5,S$1+COUNTIF(I$2:I22,I22)*$J$7,\"\")","v":-4.37}]
[{"$f":"IF(ROW(A23)-1<=$J$5,IF(Foglio1!I23=\"\",-10,Foglio1!I23),\"\")","v":-10},{"$f":"IF(ROW(B23)-1<=$J$5,IF(Foglio1!J23=\"\",-10,Foglio1!J23),\"\")","v":-10},{"$f":"IF(ROW(C23)-1<=$J$5,IF(Foglio1!K23=\"\",-10,Foglio1!K23),\"\")","v":-10},{"$f":"IF(ROW(D23)-1<=$J$5,IF(Foglio1!L23=\"\",-10,Foglio1!L23),\"\")","v":-10},{"$f":"IF(ROW(E23)-1<=$J$5,IF(Foglio1!M23=\"\",-10,Foglio1!M23),\"\")","v":-10},{"$f":"IF(ROW(F23)-1<=$J$5,IF(Foglio1!N23=\"\",-10,Foglio1!N23),\"\")","v":-10},{"$f":"IF(ROW(G23)-1<=$J$5,IF(Foglio1!O23=\"\",-10,Foglio1!O23),\"\")","v":-10},{"$f":"IF(ROW(H23)-1<=$J$5,IF(Foglio1!P23=\"\",-10,Foglio1!P23),\"\")","v":-10},{"$f":"IF(ROW(I23)-1<=$J$5,IF(Foglio1!Q23=\"\",-10,Foglio1!Q23),\"\")","v":-10},null,{"$f":"IF(ROW(K23)-1<=$J$5,K$1+COUNTIF(A$2:A23,A23)*$J$7,\"\")","v":3.15},{"$f":"IF(ROW(L23)-1<=$J$5,L$1+COUNTIF(B$2:B23,B23)*$J$7,\"\")","v":2.15},{"$f":"IF(ROW(M23)-1<=$J$5,M$1+COUNTIF(C$2:C23,C23)*$J$7,\"\")","v":1.3},{"$f":"IF(ROW(N23)-1<=$J$5,N$1+COUNTIF(D$2:D23,D23)*$J$7,\"\")","v":0.51},{"$f":"IF(ROW(O23)-1<=$J$5,O$1+COUNTIF(E$2:E23,E23)*$J$7,\"\")","v":-0.34000000000000008},{"$f":"IF(ROW(P23)-1<=$J$5,P$1+COUNTIF(F$2:F23,F23)*$J$7,\"\")","v":-1.34},{"$f":"IF(ROW(Q23)-1<=$J$5,Q$1+COUNTIF(G$2:G23,G23)*$J$7,\"\")","v":-2.34},{"$f":"IF(ROW(R23)-1<=$J$5,R$1+COUNTIF(H$2:H23,H23)*$J$7,\"\")","v":-3.34},{"$f":"IF(ROW(S23)-1<=$J$5,S$1+COUNTIF(I$2:I23,I23)*$J$7,\"\")","v":-4.34}]
[{"$f":"IF(ROW(A24)-1<=$J$5,IF(Foglio1!I24=\"\",-10,Foglio1!I24),\"\")","v":60},{"$f":"IF(ROW(B24)-1<=$J$5,IF(Foglio1!J24=\"\",-10,Foglio1!J24),\"\")","v":80},{"$f":"IF(ROW(C24)-1<=$J$5,IF(Foglio1!K24=\"\",-10,Foglio1!K24),\"\")","v":100},{"$f":"IF(ROW(D24)-1<=$J$5,IF(Foglio1!L24=\"\",-10,Foglio1!L24),\"\")","v":-10},{"$f":"IF(ROW(E24)-1<=$J$5,IF(Foglio1!M24=\"\",-10,Foglio1!M24),\"\")","v":-10},{"$f":"IF(ROW(F24)-1<=$J$5,IF(Foglio1!N24=\"\",-10,Foglio1!N24),\"\")","v":-10},{"$f":"IF(ROW(G24)-1<=$J$5,IF(Foglio1!O24=\"\",-10,Foglio1!O24),\"\")","v":-10},{"$f":"IF(ROW(H24)-1<=$J$5,IF(Foglio1!P24=\"\",-10,Foglio1!P24),\"\")","v":-10},{"$f":"IF(ROW(I24)-1<=$J$5,IF(Foglio1!Q24=\"\",-10,Foglio1!Q24),\"\")","v":-10},null,{"$f":"IF(ROW(K24)-1<=$J$5,K$1+COUNTIF(A$2:A24,A24)*$J$7,\"\")","v":3.03},{"$f":"IF(ROW(L24)-1<=$J$5,L$1+COUNTIF(B$2:B24,B24)*$J$7,\"\")","v":2.12},{"$f":"IF(ROW(M24)-1<=$J$5,M$1+COUNTIF(C$2:C24,C24)*$J$7,\"\")","v":1.0900000000000001},{"$f":"IF(ROW(N24)-1<=$J$5,N$1+COUNTIF(D$2:D24,D24)*$J$7,\"\")","v":0.54},{"$f":"IF(ROW(O24)-1<=$J$5,O$1+COUNTIF(E$2:E24,E24)*$J$7,\"\")","v":-0.31000000000000005},{"$f":"IF(ROW(P24)-1<=$J$5,P$1+COUNTIF(F$2:F24,F24)*$J$7,\"\")","v":-1.31},{"$f":"IF(ROW(Q24)-1<=$J$5,Q$1+COUNTIF(G$2:G24,G24)*$J$7,\"\")","v":-2.31},{"$f":"IF(ROW(R24)-1<=$J$5,R$1+COUNTIF(H$2:H24,H24)*$J$7,\"\")","v":-3.31},{"$f":"IF(ROW(S24)-1<=$J$5,S$1+COUNTIF(I$2:I24,I24)*$J$7,\"\")","v":-4.3100000000000005}]
[{"$f":"IF(ROW(A25)-1<=$J$5,IF(Foglio1!I25=\"\",-10,Foglio1!I25),\"\")","v":70},{"$f":"IF(ROW(B25)-1<=$J$5,IF(Foglio1!J25=\"\",-10,Foglio1!J25),\"\")","v":60},{"$f":"IF(ROW(C25)-1<=$J$5,IF(Foglio1!K25=\"\",-10,Foglio1!K25),\"\")","v":-10},{"$f":"IF(ROW(D25)-1<=$J$5,IF(Foglio1!L25=\"\",-10,Foglio1!L25),\"\")","v":-10},{"$f":"IF(ROW(E25)-1<=$J$5,IF(Foglio1!M25=\"\",-10,Foglio1!M25),\"\")","v":-10},{"$f":"IF(ROW(F25)-1<=$J$5,IF(Foglio1!N25=\"\",-10,Foglio1!N25),\"\")","v":-10},{"$f":"IF(ROW(G25)-1<=$J$5,IF(Foglio1!O25=\"\",-10,Foglio1!O25),\"\")","v":-10},{"$f":"IF(ROW(H25)-1<=$J$5,IF(Foglio1!P25=\"\",-10,Foglio1!P25),\"\")","v":-10},{"$f":"IF(ROW(I25)-1<=$J$5,IF(Foglio1!Q25=\"\",-10,Foglio1!Q25),\"\")","v":-10},null,{"$f":"IF(ROW(K25)-1<=$J$5,K$1+COUNTIF(A$2:A25,A25)*$J$7,\"\")","v":3.09},{"$f":"IF(ROW(L25)-1<=$J$5,L$1+COUNTIF(B$2:B25,B25)*$J$7,\"\")","v":2.0299999999999998},{"$f":"IF(ROW(M25)-1<=$J$5,M$1+COUNTIF(C$2:C25,C25)*$J$7,\"\")","v":1.33},{"$f":"IF(ROW(N25)-1<=$J$5,N$1+COUNTIF(D$2:D25,D25)*$J$7,\"\")","v":0.56999999999999995},{"$f":"IF(ROW(O25)-1<=$J$5,O$1+COUNTIF(E$2:E25,E25)*$J$7,\"\")","v":-0.28000000000000003},{"$f":"IF(ROW(P25)-1<=$J$5,P$1+COUNTIF(F$2:F25,F25)*$J$7,\"\")","v":-1.28},{"$f":"IF(ROW(Q25)-1<=$J$5,Q$1+COUNTIF(G$2:G25,G25)*$J$7,\"\")","v":-2.2800000000000002},{"$f":"IF(ROW(R25)-1<=$J$5,R$1+COUNTIF(H$2:H25,H25)*$J$7,\"\")","v":-3.2800000000000002},{"$f":"IF(ROW(S25)-1<=$J$5,S$1+COUNTIF(I$2:I25,I25)*$J$7,\"\")","v":-4.28}]
[{"$f":"IF(ROW(A26)-1<=$J$5,IF(Foglio1!I26=\"\",-10,Foglio1!I26),\"\")","v":50},{"$f":"IF(ROW(B26)-1<=$J$5,IF(Foglio1!J26=\"\",-10,Foglio1!J26),\"\")","v":50},{"$f":"IF(ROW(C26)-1<=$J$5,IF(Foglio1!K26=\"\",-10,Foglio1!K26),\"\")","v":-10},{"$f":"IF(ROW(D26)-1<=$J$5,IF(Foglio1!L26=\"\",-10,Foglio1!L26),\"\")","v":-10},{"$f":"IF(ROW(E26)-1<=$J$5,IF(Foglio1!M26=\"\",-10,Foglio1!M26),\"\")","v":-10},{"$f":"IF(ROW(F26)-1<=$J$5,IF(Foglio1!N26=\"\",-10,Foglio1!N26),\"\")","v":-10},{"$f":"IF(ROW(G26)-1<=$J$5,IF(Foglio1!O26=\"\",-10,Foglio1!O26),\"\")","v":-10},{"$f":"IF(ROW(H26)-1<=$J$5,IF(Foglio1!P26=\"\",-10,Foglio1!P26),\"\")","v":-10},{"$f":"IF(ROW(I26)-1<=$J$5,IF(Foglio1!Q26=\"\",-10,Foglio1!Q26),\"\")","v":-10},null,{"$f":"IF(ROW(K26)-1<=$J$5,K$1+COUNTIF(A$2:A26,A26)*$J$7,\"\")","v":3.12},{"$f":"IF(ROW(L26)-1<=$J$5,L$1+COUNTIF(B$2:B26,B26)*$J$7,\"\")","v":2.09},{"$f":"IF(ROW(M26)-1<=$J$5,M$1+COUNTIF(C$2:C26,C26)*$J$7,\"\")","v":1.3599999999999999},{"$f":"IF(ROW(N26)-1<=$J$5,N$1+COUNTIF(D$2:D26,D26)*$J$7,\"\")","v":0.6},{"$f":"IF(ROW(O26)-1<=$J$5,O$1+COUNTIF(E$2:E26,E26)*$J$7,\"\")","v":-0.25},{"$f":"IF(ROW(P26)-1<=$J$5,P$1+COUNTIF(F$2:F26,F26)*$J$7,\"\")","v":-1.25},{"$f":"IF(ROW(Q26)-1<=$J$5,Q$1+COUNTIF(G$2:G26,G26)*$J$7,\"\")","v":-2.25},{"$f":"IF(ROW(R26)-1<=$J$5,R$1+COUNTIF(H$2:H26,H26)*$J$7,\"\")","v":-3.25},{"$f":"IF(ROW(S26)-1<=$J$5,S$1+COUNTIF(I$2:I26,I26)*$J$7,\"\")","v":-4.25}]
[{"$f":"IF(ROW(A27)-1<=$J$5,IF(Foglio1!I27=\"\",-10,Foglio1!I27),\"\")","v":80},{"$f":"IF(ROW(B27)-1<=$J$5,IF(Foglio1!J27=\"\",-10,Foglio1!J27),\"\")","v":80},{"$f":"IF(ROW(C27)-1<=$J$5,IF(Foglio1!K27=\"\",-10,Foglio1!K27),\"\")","v":40},{"$f":"IF(ROW(D27)-1<=$J$5,IF(Foglio1!L27=\"\",-10,Foglio1!L27),\"\")","v":-10},{"$f":"IF(ROW(E27)-1<=$J$5,IF(Foglio1!M27=\"\",-10,Foglio1!M27),\"\")","v":-10},{"$f":"IF(ROW(F27)-1<=$J$5,IF(Foglio1!N27=\"\",-10,Foglio1!N27),\"\")","v":-10},{"$f":"IF(ROW(G27)-1<=$J$5,IF(Foglio1!O27=\"\",-10,Foglio1!O27),\"\")","v":-10},{"$f":"IF(ROW(H27)-1<=$J$5,IF(Foglio1!P27=\"\",-10,Foglio1!P27),\"\")","v":-10},{"$f":"IF(ROW(I27)-1<=$J$5,IF(Foglio1!Q27=\"\",-10,Foglio1!Q27),\"\")","v":-10},null,{"$f":"IF(ROW(K27)-1<=$J$5,K$1+COUNTIF(A$2:A27,A27)*$J$7,\"\")","v":3.12},{"$f":"IF(ROW(L27)-1<=$J$5,L$1+COUNTIF(B$2:B27,B27)*$J$7,\"\")","v":2.15},{"$f":"IF(ROW(M27)-1<=$J$5,M$1+COUNTIF(C$2:C27,C27)*$J$7,\"\")","v":1.03},{"$f":"IF(ROW(N27)-1<=$J$5,N$1+COUNTIF(D$2:D27,D27)*$J$7,\"\")","v":0.63},{"$f":"IF(ROW(O27)-1<=$J$5,O$1+COUNTIF(E$2:E27,E27)*$J$7,\"\")","v":-0.21999999999999997},{"$f":"IF(ROW(P27)-1<=$J$5,P$1+COUNTIF(F$2:F27,F27)*$J$7,\"\")","v":-1.22},{"$f":"IF(ROW(Q27)-1<=$J$5,Q$1+COUNTIF(G$2:G27,G27)*$J$7,\"\")","v":-2.2199999999999998},{"$f":"IF(ROW(R27)-1<=$J$5,R$1+COUNTIF(H$2:H27,H27)*$J$7,\"\")","v":-3.2199999999999998},{"$f":"IF(ROW(S27)-1<=$J$5,S$1+COUNTIF(I$2:I27,I27)*$J$7,\"\")","v":-4.22}]
[{"$f":"IF(ROW(A28)-1<=$J$5,IF(Foglio1!I28=\"\",-10,Foglio1!I28),\"\")","v":80},{"$f":"IF(ROW(B28)-1<=$J$5,IF(Foglio1!J28=\"\",-10,Foglio1!J28),\"\")","v":80},{"$f":"IF(ROW(C28)-1<=$J$5,IF(Foglio1!K28=\"\",-10,Foglio1!K28),\"\")","v":-10},{"$f":"IF(ROW(D28)-1<=$J$5,IF(Foglio1!L28=\"\",-10,Foglio1!L28),\"\")","v":-10},{"$f":"IF(ROW(E28)-1<=$J$5,IF(Foglio1!M28=\"\",-10,Foglio1!M28),\"\")","v":-10},{"$f":"IF(ROW(F28)-1<=$J$5,IF(Foglio1!N28=\"\",-10,Foglio1!N28),\"\")","v":-10},{"$f":"IF(ROW(G28)-1<=$J$5,IF(Foglio1!O28=\"\",-10,Foglio1!O28),\"\")","v":-10},{"$f":"IF(ROW(H28)-1<=$J$5,IF(Foglio1!P28=\"\",-10,Foglio1!P28),\"\")","v":-10},{"$f":"IF(ROW(I28)-1<=$J$5,IF(Foglio1!Q28=\"\",-10,Foglio1!Q28),\"\")","v":-10},null,{"$f":"IF(ROW(K28)-1<=$J$5,K$1+COUNTIF(A$2:A28,A28)*$J$7,\"\")","v":3.15},{"$f":"IF(ROW(L28)-1<=$J$5,L$1+COUNTIF(B$2:B28,B28)*$J$7,\"\")","v":2.1800000000000002},{"$f":"IF(ROW(M28)-1<=$J$5,M$1+COUNTIF(C$2:C28,C28)*$J$7,\"\")","v":1.3900000000000001},{"$f":"IF(ROW(N28)-1<=$J$5,N$1+COUNTIF(D$2:D28,D28)*$J$7,\"\")","v":0.65999999999999992},{"$f":"IF(ROW(O28)-1<=$J$5,O$1+COUNTIF(E$2:E28,E28)*$J$7,\"\")","v":-0.19000000000000006},{"$f":"IF(ROW(P28)-1<=$J$5,P$1+COUNTIF(F$2:F28,F28)*$J$7,\"\")","v":-1.19},{"$f":"IF(ROW(Q28)-1<=$J$5,Q$1+COUNTIF(G$2:G28,G28)*$J$7,\"\")","v":-2.19},{"$f":"IF(ROW(R28)-1<=$J$5,R$1+COUNTIF(H$2:H28,H28)*$J$7,\"\")","v":-3.19},{"$f":"IF(ROW(S28)-1<=$J$5,S$1+COUNTIF(I$2:I28,I28)*$J$7,\"\")","v":-4.1900000000000004}]
[{"$f":"IF(ROW(A29)-1<=$J$5,IF(Foglio1!I29=\"\",-10,Foglio1!I29),\"\")","v":-10},{"$f":"IF(ROW(B29)-1<=$J$5,IF(Foglio1!J29=\"\",-10,Foglio1!J29),\"\")","v":-10},{"$f":"IF(ROW(C29)-1<=$J$5,IF(Foglio1!K29=\"\",-10,Foglio1!K29),\"\")","v":-10},{"$f":"IF(ROW(D29)-1<=$J$5,IF(Foglio1!L29=\"\",-10,Foglio1!L29),\"\")","v":-10},{"$f":"IF(ROW(E29)-1<=$J$5,IF(Foglio1!M29=\"\",-10,Foglio1!M29),\"\")","v":-10},{"$f":"IF(ROW(F29)-1<=$J$5,IF(Foglio1!N29=\"\",-10,Foglio1!N29),\"\")","v":-10},{"$f":"IF(ROW(G29)-1<=$J$5,IF(Foglio1!O29=\"\",-10,Foglio1!O29),\"\")","v":-10},{"$f":"IF(ROW(H29)-1<=$J$5,IF(Foglio1!P29=\"\",-10,Foglio1!P29),\"\")","v":-10},{"$f":"IF(ROW(I29)-1<=$J$5,IF(Foglio1!Q29=\"\",-10,Foglio1!Q29),\"\")","v":-10},null,{"$f":"IF(ROW(K29)-1<=$J$5,K$1+COUNTIF(A$2:A29,A29)*$J$7,\"\")","v":3.18},{"$f":"IF(ROW(L29)-1<=$J$5,L$1+COUNTIF(B$2:B29,B29)*$J$7,\"\")","v":2.1800000000000002},{"$f":"IF(ROW(M29)-1<=$J$5,M$1+COUNTIF(C$2:C29,C29)*$J$7,\"\")","v":1.42},{"$f":"IF(ROW(N29)-1<=$J$5,N$1+COUNTIF(D$2:D29,D29)*$J$7,\"\")","v":0.69},{"$f":"IF(ROW(O29)-1<=$J$5,O$1+COUNTIF(E$2:E29,E29)*$J$7,\"\")","v":-0.16000000000000003},{"$f":"IF(ROW(P29)-1<=$J$5,P$1+COUNTIF(F$2:F29,F29)*$J$7,\"\")","v":-1.1600000000000001},{"$f":"IF(ROW(Q29)-1<=$J$5,Q$1+COUNTIF(G$2:G29,G29)*$J$7,\"\")","v":-2.16},{"$f":"IF(ROW(R29)-1<=$J$5,R$1+COUNTIF(H$2:H29,H29)*$J$7,\"\")","v":-3.16},{"$f":"IF(ROW(S29)-1<=$J$5,S$1+COUNTIF(I$2:I29,I29)*$J$7,\"\")","v":-4.16}]
[{"$f":"IF(ROW(A30)-1<=$J$5,IF(Foglio1!I30=\"\",-10,Foglio1!I30),\"\")","v":20},{"$f":"IF(ROW(B30)-1<=$J$5,IF(Foglio1!J30=\"\",-10,Foglio1!J30),\"\")","v":100},{"$f":"IF(ROW(C30)-1<=$J$5,IF(Foglio1!K30=\"\",-10,Foglio1!K30),\"\")","v":-10},{"$f":"IF(ROW(D30)-1<=$J$5,IF(Foglio1!L30=\"\",-10,Foglio1!L30),\"\")","v":-10},{"$f":"IF(ROW(E30)-1<=$J$5,IF(Foglio1!M30=\"\",-10,Foglio1!M30),\"\")","v":-10},{"$f":"IF(ROW(F30)-1<=$J$5,IF(Foglio1!N30=\"\",-10,Foglio1!N30),\"\")","v":-10},{"$f":"IF(ROW(G30)-1<=$J$5,IF(Foglio1!O30=\"\",-10,Foglio1!O30),\"\")","v":-10},{"$f":"IF(ROW(H30)-1<=$J$5,IF(Foglio1!P30=\"\",-10,Foglio1!P30),\"\")","v":-10},{"$f":"IF(ROW(I30)-1<=$J$5,IF(Foglio1!Q30=\"\",-10,Foglio1!Q30),\"\")","v":-10},null,{"$f":"IF(ROW(K30)-1<=$J$5,K$1+COUNTIF(A$2:A30,A30)*$J$7,\"\")","v":3.06},{"$f":"IF(ROW(L30)-1<=$J$5,L$1+COUNTIF(B$2:B30,B30)*$J$7,\"\")","v":2.15},{"$f":"IF(ROW(M30)-1<=$J$5,M$1+COUNTIF(C$2:C30,C30)*$J$7,\"\")","v":1.45},{"$f":"IF(ROW(N30)-1<=$J$5,N$1+COUNTIF(D$2:D30,D30)*$J$7,\"\")","v":0.72},{"$f":"IF(ROW(O30)-1<=$J$5,O$1+COUNTIF(E$2:E30,E30)*$J$7,\"\")","v":-0.13},{"$f":"IF(ROW(P30)-1<=$J$5,P$1+COUNTIF(F$2:F30,F30)*$J$7,\"\")","v":-1.1299999999999999},{"$f":"IF(ROW(Q30)-1<=$J$5,Q$1+COUNTIF(G$2:G30,G30)*$J$7,\"\")","v":-2.13},{"$f":"IF(ROW(R30)-1<=$J$5,R$1+COUNTIF(H$2:H30,H30)*$J$7,\"\")","v":-3.13},{"$f":"IF(ROW(S30)-1<=$J$5,S$1+COUNTIF(I$2:I30,I30)*$J$7,\"\")","v":-4.13}]
[{"$f":"IF(ROW(A31)-1<=$J$5,IF(Foglio1!I31=\"\",-10,Foglio1!I31),\"\")","v":-10},{"$f":"IF(ROW(B31)-1<=$J$5,IF(Foglio1!J31=\"\",-10,Foglio1!J31),\"\")","v":-10},{"$f":"IF(ROW(C31)-1<=$J$5,IF(Foglio1!K31=\"\",-10,Foglio1!K31),\"\")","v":-10},{"$f":"IF(ROW(D31)-1<=$J$5,IF(Foglio1!L31=\"\",-10,Foglio1!L31),\"\")","v":-10},{"$f":"IF(ROW(E31)-1<=$J$5,IF(Foglio1!M31=\"\",-10,Foglio1!M31),\"\")","v":-10},{"$f":"IF(ROW(F31)-1<=$J$5,IF(Foglio1!N31=\"\",-10,Foglio1!N31),\"\")","v":-10},{"$f":"IF(ROW(G31)-1<=$J$5,IF(Foglio1!O31=\"\",-10,Foglio1!O31),\"\")","v":-10},{"$f":"IF(ROW(H31)-1<=$J$5,IF(Foglio1!P31=\"\",-10,Foglio1!P31),\"\")","v":-10},{"$f":"IF(ROW(I31)-1<=$J$5,IF(Foglio1!Q31=\"\",-10,Foglio1!Q31),\"\")","v":-10},null,{"$f":"IF(ROW(K31)-1<=$J$5,K$1+COUNTIF(A$2:A31,A31)*$J$7,\"\")","v":3.21},{"$f":"IF(ROW(L31)-1<=$J$5,L$1+COUNTIF(B$2:B31,B31)*$J$7,\"\")","v":2.21},{"$f":"IF(ROW(M31)-1<=$J$5,M$1+COUNTIF(C$2:C31,C31)*$J$7,\"\")","v":1.48},{"$f":"IF(ROW(N31)-1<=$J$5,N$1+COUNTIF(D$2:D31,D31)*$J$7,\"\")","v":0.75},{"$f":"IF(ROW(O31)-1<=$J$5,O$1+COUNTIF(E$2:E31,E31)*$J$7,\"\")","v":-0.10000000000000009},{"$f":"IF(ROW(P31)-1<=$J$5,P$1+COUNTIF(F$2:F31,F31)*$J$7,\"\")","v":-1.1000000000000001},{"$f":"IF(ROW(Q31)-1<=$J$5,Q$1+COUNTIF(G$2:G31,G31)*$J$7,\"\")","v":-2.1},{"$f":"IF(ROW(R31)-1<=$J$5,R$1+COUNTIF(H$2:H31,H31)*$J$7,\"\")","v":-3.1},{"$f":"IF(ROW(S31)-1<=$J$5,S$1+COUNTIF(I$2:I31,I31)*$J$7,\"\")","v":-4.0999999999999996}]
[{"$f":"IF(ROW(A32)-1<=$J$5,IF(Foglio1!I32=\"\",-10,Foglio1!I32),\"\")","v":30},{"$f":"IF(ROW(B32)-1<=$J$5,IF(Foglio1!J32=\"\",-10,Foglio1!J32),\"\")","v":100},{"$f":"IF(ROW(C32)-1<=$J$5,IF(Foglio1!K32=\"\",-10,Foglio1!K32),\"\")","v":70},{"$f":"IF(ROW(D32)-1<=$J$5,IF(Foglio1!L32=\"\",-10,Foglio1!L32),\"\")","v":-10},{"$f":"IF(ROW(E32)-1<=$J$5,IF(Foglio1!M32=\"\",-10,Foglio1!M32),\"\")","v":-10},{"$f":"IF(ROW(F32)-1<=$J$5,IF(Foglio1!N32=\"\",-10,Foglio1!N32),\"\")","v":-10},{"$f":"IF(ROW(G32)-1<=$J$5,IF(Foglio1!O32=\"\",-10,Foglio1!O32),\"\")","v":-10},{"$f":"IF(ROW(H32)-1<=$J$5,IF(Foglio1!P32=\"\",-10,Foglio1!P32),\"\")","v":-10},{"$f":"IF(ROW(I32)-1<=$J$5,IF(Foglio1!Q32=\"\",-10,Foglio1!Q32),\"\")","v":-10},null,{"$f":"IF(ROW(K32)-1<=$J$5,K$1+COUNTIF(A$2:A32,A32)*$J$7,\"\")","v":3.03},{"$f":"IF(ROW(L32)-1<=$J$5,L$1+COUNTIF(B$2:B32,B32)*$J$7,\"\")","v":2.1800000000000002},{"$f":"IF(ROW(M32)-1<=$J$5,M$1+COUNTIF(C$2:C32,C32)*$J$7,\"\")","v":1.06},{"$f":"IF(ROW(N32)-1<=$J$5,N$1+COUNTIF(D$2:D32,D32)*$J$7,\"\")","v":0.78},{"$f":"IF(ROW(O32)-1<=$J$5,O$1+COUNTIF(E$2:E32,E32)*$J$7,\"\")","v":-7.0000000000000062E-2},{"$f":"IF(ROW(P32)-1<=$J$5,P$1+COUNTIF(F$2:F32,F32)*$J$7,\"\")","v":-1.07},{"$f":"IF(ROW(Q32)-1<=$J$5,Q$1+COUNTIF(G$2:G32,G32)*$J$7,\"\")","v":-2.0700000000000003},{"$f":"IF(ROW(R32)-1<=$J$5,R$1+COUNTIF(H$2:H32,H32)*$J$7,\"\")","v":-3.0700000000000003},{"$f":"IF(ROW(S32)-1<=$J$5,S$1+COUNTIF(I$2:I32,I32)*$J$7,\"\")","v":-4.07}]
[{"$f":"IF(ROW(A33)-1<=$J$5,IF(Foglio1!I33=\"\",-10,Foglio1!I33),\"\")","v":50},{"$f":"IF(ROW(B33)-1<=$J$5,IF(Foglio1!J33=\"\",-10,Foglio1!J33),\"\")","v":100},{"$f":"IF(ROW(C33)-1<=$J$5,IF(Foglio1!K33=\"\",-10,Foglio1!K33),\"\")","v":-10},{"$f":"IF(ROW(D33)-1<=$J$5,IF(Foglio1!L33=\"\",-10,Foglio1!L33),\"\")","v":-10},{"$f":"IF(ROW(E33)-1<=$J$5,IF(Foglio1!M33=\"\",-10,Foglio1!M33),\"\")","v":-10},{"$f":"IF(ROW(F33)-1<=$J$5,IF(Foglio1!N33=\"\",-10,Foglio1!N33),\"\")","v":-10},{"$f":"IF(ROW(G33)-1<=$J$5,IF(Foglio1!O33=\"\",-10,Foglio1!O33),\"\")","v":-10},{"$f":"IF(ROW(H33)-1<=$J$5,IF(Foglio1!P33=\"\",-10,Foglio1!P33),\"\")","v":-10},{"$f":"IF(ROW(I33)-1<=$J$5,IF(Foglio1!Q33=\"\",-10,Foglio1!Q33),\"\")","v":-10},null,{"$f":"IF(ROW(K33)-1<=$J$5,K$1+COUNTIF(A$2:A33,A33)*$J$7,\"\")","v":3.15},{"$f":"IF(ROW(L33)-1<=$J$5,L$1+COUNTIF(B$2:B33,B33)*$J$7,\"\")","v":2.21},{"$f":"IF(ROW(M33)-1<=$J$5,M$1+COUNTIF(C$2:C33,C33)*$J$7,\"\")","v":1.51},{"$f":"IF(ROW(N33)-1<=$J$5,N$1+COUNTIF(D$2:D33,D33)*$J$7,\"\")","v":0.80999999999999994},{"$f":"IF(ROW(O33)-1<=$J$5,O$1+COUNTIF(E$2:E33,E33)*$J$7,\"\")","v":-4.0000000000000036E-2},{"$f":"IF(ROW(P33)-1<=$J$5,P$1+COUNTIF(F$2:F33,F33)*$J$7,\"\")","v":-1.04},{"$f":"IF(ROW(Q33)-1<=$J$5,Q$1+COUNTIF(G$2:G33,G33)*$J$7,\"\")","v":-2.04},{"$f":"IF(ROW(R33)-1<=$J$5,R$1+COUNTIF(H$2:H33,H33)*$J$7,\"\")","v":-3.04},{"$f":"IF(ROW(S33)-1<=$J$5,S$1+COUNTIF(I$2:I33,I33)*$J$7,\"\")","v":-4.04}]
[{"$f":"IF(ROW(A34)-1<=$J$5,IF(Foglio1!I34=\"\",-10,Foglio1!I34),\"\")","v":60},{"$f":"IF(ROW(B34)-1<=$J$5,IF(Foglio1!J34=\"\",-10,Foglio1!J34),\"\")","v":80},{"$f":"IF(ROW(C34)-1<=$J$5,IF(Foglio1!K34=\"\",-10,Foglio1!K34),\"\")","v":60},{"$f":"IF(ROW(D34)-1<=$J$5,IF(Foglio1!L34=\"\",-10,Foglio1!L34),\"\")","v":-10},{"$f":"IF(ROW(E34)-1<=$J$5,IF(Foglio1!M34=\"\",-10,Foglio1!M34),\"\")","v":-10},{"$f":"IF(ROW(F34)-1<=$J$5,IF(Foglio1!N34=\"\",-10,Foglio1!N34),\"\")","v":-10},{"$f":"IF(ROW(G34)-1<=$J$5,IF(Foglio1!O34=\"\",-10,Foglio1!O34),\"\")","v":-10},{"$f":"IF(ROW(H34)-1<=$J$5,IF(Foglio1!P34=\"\",-10,Foglio1!P34),\"\")","v":-10},{"$f":"IF(ROW(I34)-1<=$J$5,IF(Foglio1!Q34=\"\",-10,Foglio1!Q34),\"\")","v":-10},null,{"$f":"IF(ROW(K34)-1<=$J$5,K$1+COUNTIF(A$2:A34,A34)*$J$7,\"\")","v":3.06},{"$f":"IF(ROW(L34)-1<=$J$5,L$1+COUNTIF(B$2:B34,B34)*$J$7,\"\")","v":2.21},{"$f":"IF(ROW(M34)-1<=$J$5,M$1+COUNTIF(C$2:C34,C34)*$J$7,\"\")","v":1.0900000000000001},{"$f":"IF(ROW(N34)-1<=$J$5,N$1+COUNTIF(D$2:D34,D34)*$J$7,\"\")","v":0.84},{"$f":"IF(ROW(O34)-1<=$J$5,O$1+COUNTIF(E$2:E34,E34)*$J$7,\"\")","v":-1.0000000000000009E-2},{"$f":"IF(ROW(P34)-1<=$J$5,P$1+COUNTIF(F$2:F34,F34)*$J$7,\"\")","v":-1.01},{"$f":"IF(ROW(Q34)-1<=$J$5,Q$1+COUNTIF(G$2:G34,G34)*$J$7,\"\")","v":-2.0099999999999998},{"$f":"IF(ROW(R34)-1<=$J$5,R$1+COUNTIF(H$2:H34,H34)*$J$7,\"\")","v":-3.01},{"$f":"IF(ROW(S34)-1<=$J$5,S$1+COUNTIF(I$2:I34,I34)*$J$7,\"\")","v":-4.01}]
[{"$f":"IF(ROW(A35)-1<=$J$5,IF(Foglio1!I35=\"\",-10,Foglio1!I35),\"\")","v":70},{"$f":"IF(ROW(B35)-1<=$J$5,IF(Foglio1!J35=\"\",-10,Foglio1!J35),\"\")","v":70},{"$f":"IF(ROW(C35)-1<=$J$5,IF(Foglio1!K35=\"\",-10,Foglio1!K35),\"\")","v":-10},{"$f":"IF(ROW(D35)-1<=$J$5,IF(Foglio1!L35=\"\",-10,Foglio1!L35),\"\")","v":-10},{"$f":"IF(ROW(E35)-1<=$J$5,IF(Foglio1!M35=\"\",-10,Foglio1!M35),\"\")","v":-10},{"$f":"IF(ROW(F35)-1<=$J$5,IF(Foglio1!N35=\"\",-10,Foglio1!N35),\"\")","v":-10},{"$f":"IF(ROW(G35)-1<=$J$5,IF(Foglio1!O35=\"\",-10,Foglio1!O35),\"\")","v":-10},{"$f":"IF(ROW(H35)-1<=$J$5,IF(Foglio1!P35=\"\",-10,Foglio1!P35),\"\")","v":-10},{"$f":"IF(ROW(I35)-1<=$J$5,IF(Foglio1!Q35=\"\",-10,Foglio1!Q35),\"\")","v":-10},null,{"$f":"IF(ROW(K35)-1<=$J$5,K$1+COUNTIF(A$2:A35,A35)*$J$7,\"\")","v":3.12},{"$f":"IF(ROW(L35)-1<=$J$5,L$1+COUNTIF(B$2:B35,B35)*$J$7,\"\")","v":2.09},{"$f":"IF(ROW(M35)-1<=$J$5,M$1+COUNTIF(C$2:C35,C35)*$J$7,\"\")","v":1.54},{"$f":"IF(ROW(N35)-1<=$J$5,N$1+COUNTIF(D$2:D35,D35)*$J$7,\"\")","v":0.87},{"$f":"IF(ROW(O35)-1<=$J$5,O$1+COUNTIF(E$2:E35,E35)*$J$7,\"\")","v":2.0000000000000018E-2},{"$f":"IF(ROW(P35)-1<=$J$5,P$1+COUNTIF(F$2:F35,F35)*$J$7,\"\")","v":-0.98},{"$f":"IF(ROW(Q35)-1<=$J$5,Q$1+COUNTIF(G$2:G35,G35)*$J$7,\"\")","v":-1.98},{"$f":"IF(ROW(R35)-1<=$J$5,R$1+COUNTIF(H$2:H35,H35)*$J$7,\"\")","v":-2.98},{"$f":"IF(ROW(S35)-1<=$J$5,S$1+COUNTIF(I$2:I35,I35)*$J$7,\"\")","v":-3.98}]
[{"$f":"IF(ROW(A36)-1<=$J$5,IF(Foglio1!I36=\"\",-10,Foglio1!I36),\"\")","v":75},{"$f":"IF(ROW(B36)-1<=$J$5,IF(Foglio1!J36=\"\",-10,Foglio1!J36),\"\")","v":65},{"$f":"IF(ROW(C36)-1<=$J$5,IF(Foglio1!K36=\"\",-10,Foglio1!K36),\"\")","v":-10},{"$f":"IF(ROW(D36)-1<=$J$5,IF(Foglio1!L36=\"\",-10,Foglio1!L36),\"\")","v":-10},{"$f":"IF(ROW(E36)-1<=$J$5,IF(Foglio1!M36=\"\",-10,Foglio1!M36),\"\")","v":-10},{"$f":"IF(ROW(F36)-1<=$J$5,IF(Foglio1!N36=\"\",-10,Foglio1!N36),\"\")","v":-10},{"$f":"IF(ROW(G36)-1<=$J$5,IF(Foglio1!O36=\"\",-10,Foglio1!O36),\"\")","v":-10},{"$f":"IF(ROW(H36)-1<=$J$5,IF(Foglio1!P36=\"\",-10,Foglio1!P36),\"\")","v":-10},{"$f":"IF(ROW(I36)-1<=$J$5,IF(Foglio1!Q36=\"\",-10,Foglio1!Q36),\"\")","v":-10},null,{"$f":"IF(ROW(K36)-1<=$J$5,K$1+COUNTIF(A$2:A36,A36)*$J$7,\"\")","v":3.03},{"$f":"IF(ROW(L36)-1<=$J$5,L$1+COUNTIF(B$2:B36,B36)*$J$7,\"\")","v":2.0299999999999998},{"$f":"IF(ROW(M36)-1<=$J$5,M$1+COUNTIF(C$2:C36,C36)*$J$7,\"\")","v":1.5699999999999998},{"$f":"IF(ROW(N36)-1<=$J$5,N$1+COUNTIF(D$2:D36,D36)*$J$7,\"\")","v":0.89999999999999991},{"$f":"IF(ROW(O36)-1<=$J$5,O$1+COUNTIF(E$2:E36,E36)*$J$7,\"\")","v":5.0000000000000044E-2},{"$f":"IF(ROW(P36)-1<=$J$5,P$1+COUNTIF(F$2:F36,F36)*$J$7,\"\")","v":-0.95},{"$f":"IF(ROW(Q36)-1<=$J$5,Q$1+COUNTIF(G$2:G36,G36)*$J$7,\"\")","v":-1.95},{"$f":"IF(ROW(R36)-1<=$J$5,R$1+COUNTIF(H$2:H36,H36)*$J$7,\"\")","v":-2.95},{"$f":"IF(ROW(S36)-1<=$J$5,S$1+COUNTIF(I$2:I36,I36)*$J$7,\"\")","v":-3.95}]
[{"$f":"IF(ROW(A37)-1<=$J$5,IF(Foglio1!I37=\"\",-10,Foglio1!I37),\"\")","v":80},{"$f":"IF(ROW(B37)-1<=$J$5,IF(Foglio1!J37=\"\",-10,Foglio1!J37),\"\")","v":90},{"$f":"IF(ROW(C37)-1<=$J$5,IF(Foglio1!K37=\"\",-10,Foglio1!K37),\"\")","v":70},{"$f":"IF(ROW(D37)-1<=$J$5,IF(Foglio1!L37=\"\",-10,Foglio1!L37),\"\")","v":-10},{"$f":"IF(ROW(E37)-1<=$J$5,IF(Foglio1!M37=\"\",-10,Foglio1!M37),\"\")","v":-10},{"$f":"IF(ROW(F37)-1<=$J$5,IF(Foglio1!N37=\"\",-10,Foglio1!N37),\"\")","v":-10},{"$f":"IF(ROW(G37)-1<=$J$5,IF(Foglio1!O37=\"\",-10,Foglio1!O37),\"\")","v":-10},{"$f":"IF(ROW(H37)-1<=$J$5,IF(Foglio1!P37=\"\",-10,Foglio1!P37),\"\")","v":-10},{"$f":"IF(ROW(I37)-1<=$J$5,IF(Foglio1!Q37=\"\",-10,Foglio1!Q37),\"\")","v":-10},null,{"$f":"IF(ROW(K37)-1<=$J$5,K$1+COUNTIF(A$2:A37,A37)*$J$7,\"\")","v":3.18},{"$f":"IF(ROW(L37)-1<=$J$5,L$1+COUNTIF(B$2:B37,B37)*$J$7,\"\")","v":2.15},{"$f":"IF(ROW(M37)-1<=$J$5,M$1+COUNTIF(C$2:C37,C37)*$J$7,\"\")","v":1.0900000000000001},{"$f":"IF(ROW(N37)-1<=$J$5,N$1+COUNTIF(D$2:D37,D37)*$J$7,\"\")","v":0.92999999999999994},{"$f":"IF(ROW(O37)-1<=$J$5,O$1+COUNTIF(E$2:E37,E37)*$J$7,\"\")","v":8.0000000000000071E-2},{"$f":"IF(ROW(P37)-1<=$J$5,P$1+COUNTIF(F$2:F37,F37)*$J$7,\"\")","v":-0.91999999999999993},{"$f":"IF(ROW(Q37)-1<=$J$5,Q$1+COUNTIF(G$2:G37,G37)*$J$7,\"\")","v":-1.92},{"$f":"IF(ROW(R37)-1<=$J$5,R$1+COUNTIF(H$2:H37,H37)*$J$7,\"\")","v":-2.92},{"$f":"IF(ROW(S37)-1<=$J$5,S$1+COUNTIF(I$2:I37,I37)*$J$7,\"\")","v":-3.92}]
[{"$f":"IF(ROW(A38)-1<=$J$5,IF(Foglio1!I38=\"\",-10,Foglio1!I38),\"\")","v":80},{"$f":"IF(ROW(B38)-1<=$J$5,IF(Foglio1!J38=\"\",-10,Foglio1!J38),\"\")","v":100},{"$f":"IF(ROW(C38)-1<=$J$5,IF(Foglio1!K38=\"\",-10,Foglio1!K38),\"\")","v":50},{"$f":"IF(ROW(D38)-1<=$J$5,IF(Foglio1!L38=\"\",-10,Foglio1!L38),\"\")","v":-10},{"$f":"IF(ROW(E38)-1<=$J$5,IF(Foglio1!M38=\"\",-10,Foglio1!M38),\"\")","v":-10},{"$f":"IF(ROW(F38)-1<=$J$5,IF(Foglio1!N38=\"\",-10,Foglio1!N38),\"\")","v":-10},{"$f":"IF(ROW(G38)-1<=$J$5,IF(Foglio1!O38=\"\",-10,Foglio1!O38),\"\")","v":-10},{"$f":"IF(ROW(H38)-1<=$J$5,IF(Foglio1!P38=\"\",-10,Foglio1!P38),\"\")","v":-10},{"$f":"IF(ROW(I38)-1<=$J$5,IF(Foglio1!Q38=\"\",-10,Foglio1!Q38),\"\")","v":-10},null,{"$f":"IF(ROW(K38)-1<=$J$5,K$1+COUNTIF(A$2:A38,A38)*$J$7,\"\")","v":3.21},{"$f":"IF(ROW(L38)-1<=$J$5,L$1+COUNTIF(B$2:B38,B38)*$J$7,\"\")","v":2.2400000000000002},{"$f":"IF(ROW(M38)-1<=$J$5,M$1+COUNTIF(C$2:C38,C38)*$J$7,\"\")","v":1.03},{"$f":"IF(ROW(N38)-1<=$J$5,N$1+COUNTIF(D$2:D38,D38)*$J$7,\"\")","v":0.96},{"$f":"IF(ROW(O38)-1<=$J$5,O$1+COUNTIF(E$2:E38,E38)*$J$7,\"\")","v":0.10999999999999988},{"$f":"IF(ROW(P38)-1<=$J$5,P$1+COUNTIF(F$2:F38,F38)*$J$7,\"\")","v":-0.89000000000000012},{"$f":"IF(ROW(Q38)-1<=$J$5,Q$1+COUNTIF(G$2:G38,G38)*$J$7,\"\")","v":-1.8900000000000001},{"$f":"IF(ROW(R38)-1<=$J$5,R$1+COUNTIF(H$2:H38,H38)*$J$7,\"\")","v":-2.89},{"$f":"IF(ROW(S38)-1<=$J$5,S$1+COUNTIF(I$2:I38,I38)*$J$7,\"\")","v":-3.89}]
[{"$f":"IF(ROW(A39)-1<=$J$5,IF(Foglio1!I39=\"\",-10,Foglio1!I39),\"\")","v":10},{"$f":"IF(ROW(B39)-1<=$J$5,IF(Foglio1!J39=\"\",-10,Foglio1!J39),\"\")","v":80},{"$f":"IF(ROW(C39)-1<=$J$5,IF(Foglio1!K39=\"\",-10,Foglio1!K39),\"\")","v":-10},{"$f":"IF(ROW(D39)-1<=$J$5,IF(Foglio1!L39=\"\",-10,Foglio1!L39),\"\")","v":-10},{"$f":"IF(ROW(E39)-1<=$J$5,IF(Foglio1!M39=\"\",-10,Foglio1!M39),\"\")","v":-10},{"$f":"IF(ROW(F39)-1<=$J$5,IF(Foglio1!N39=\"\",-10,Foglio1!N39),\"\")","v":-10},{"$f":"IF(ROW(G39)-1<=$J$5,IF(Foglio1!O39=\"\",-10,Foglio1!O39),\"\")","v":-10},{"$f":"IF(ROW(H39)-1<=$J$5,IF(Foglio1!P39=\"\",-10,Foglio1!P39),\"\")","v":-10},{"$f":"IF(ROW(I39)-1<=$J$5,IF(Foglio1!Q39=\"\",-10,Foglio1!Q39),\"\")","v":-10},null,{"$f":"IF(ROW(K39)-1<=$J$5,K$1+COUNTIF(A$2:A39,A39)*$J$7,\"\")","v":3.03},{"$f":"IF(ROW(L39)-1<=$J$5,L$1+COUNTIF(B$2:B39,B39)*$J$7,\"\")","v":2.2400000000000002},{"$f":"IF(ROW(M39)-1<=$J$5,M$1+COUNTIF(C$2:C39,C39)*$J$7,\"\")","v":1.6},{"$f":"IF(ROW(N39)-1<=$J$5,N$1+COUNTIF(D$2:D39,D39)*$J$7,\"\")","v":0.99},{"$f":"IF(ROW(O39)-1<=$J$5,O$1+COUNTIF(E$2:E39,E39)*$J$7,\"\")","v":0.1399999999999999},{"$f":"IF(ROW(P39)-1<=$J$5,P$1+COUNTIF(F$2:F39,F39)*$J$7,\"\")","v":-0.8600000000000001},{"$f":"IF(ROW(Q39)-1<=$J$5,Q$1+COUNTIF(G$2:G39,G39)*$J$7,\"\")","v":-1.86},{"$f":"IF(ROW(R39)-1<=$J$5,R$1+COUNTIF(H$2:H39,H39)*$J$7,\"\")","v":-2.8600000000000003},{"$f":"IF(ROW(S39)-1<=$J$5,S$1+COUNTIF(I$2:I39,I39)*$J$7,\"\")","v":-3.8600000000000003}]
[{"$f":"IF(ROW(A40)-1<=$J$5,IF(Foglio1!I40=\"\",-10,Foglio1!I40),\"\")","v":-10},{"$f":"IF(ROW(B40)-1<=$J$5,IF(Foglio1!J40=\"\",-10,Foglio1!J40),\"\")","v":-10},{"$f":"IF(ROW(C40)-1<=$J$5,IF(Foglio1!K40=\"\",-10,Foglio1!K40),\"\")","v":-10},{"$f":"IF(ROW(D40)-1<=$J$5,IF(Foglio1!L40=\"\",-10,Foglio1!L40),\"\")","v":-10},{"$f":"IF(ROW(E40)-1<=$J$5,IF(Foglio1!M40=\"\",-10,Foglio1!M40),\"\")","v":-10},{"$f":"IF(ROW(F40)-1<=$J$5,IF(Foglio1!N40=\"\",-10,Foglio1!N40),\"\")","v":-10},{"$f":"IF(ROW(G40)-1<=$J$5,IF(Foglio1!O40=\"\",-10,Foglio1!O40),\"\")","v":-10},{"$f":"IF(ROW(H40)-1<=$J$5,IF(Foglio1!P40=\"\",-10,Foglio1!P40),\"\")","v":-10},{"$f":"IF(ROW(I40)-1<=$J$5,IF(Foglio1!Q40=\"\",-10,Foglio1!Q40),\"\")","v":-10},null,{"$f":"IF(ROW(K40)-1<=$J$5,K$1+COUNTIF(A$2:A40,A40)*$J$7,\"\")","v":3.24},{"$f":"IF(ROW(L40)-1<=$J$5,L$1+COUNTIF(B$2:B40,B40)*$J$7,\"\")","v":2.2400000000000002},{"$f":"IF(ROW(M40)-1<=$J$5,M$1+COUNTIF(C$2:C40,C40)*$J$7,\"\")","v":1.63},{"$f":"IF(ROW(N40)-1<=$J$5,N$1+COUNTIF(D$2:D40,D40)*$J$7,\"\")","v":1.02},{"$f":"IF(ROW(O40)-1<=$J$5,O$1+COUNTIF(E$2:E40,E40)*$J$7,\"\")","v":0.16999999999999993},{"$f":"IF(ROW(P40)-1<=$J$5,P$1+COUNTIF(F$2:F40,F40)*$J$7,\"\")","v":-0.83000000000000007},{"$f":"IF(ROW(Q40)-1<=$J$5,Q$1+COUNTIF(G$2:G40,G40)*$J$7,\"\")","v":-1.83},{"$f":"IF(ROW(R40)-1<=$J$5,R$1+COUNTIF(H$2:H40,H40)*$J$7,\"\")","v":-2.83},{"$f":"IF(ROW(S40)-1<=$J$5,S$1+COUNTIF(I$2:I40,I40)*$J$7,\"\")","v":-3.83}]
[{"$f":"IF(ROW(A41)-1<=$J$5,IF(Foglio1!I41=\"\",-10,Foglio1!I41),\"\")","v":80},{"$f":"IF(ROW(B41)-1<=$J$5,IF(Foglio1!J41=\"\",-10,Foglio1!J41),\"\")","v":80},{"$f":"IF(ROW(C41)-1<=$J$5,IF(Foglio1!K41=\"\",-10,Foglio1!K41),\"\")","v":80},{"$f":"IF(ROW(D41)-1<=$J$5,IF(Foglio1!L41=\"\",-10,Foglio1!L41),\"\")","v":-10},{"$f":"IF(ROW(E41)-1<=$J$5,IF(Foglio1!M41=\"\",-10,Foglio1!M41),\"\")","v":-10},{"$f":"IF(ROW(F41)-1<=$J$5,IF(Foglio1!N41=\"\",-10,Foglio1!N41),\"\")","v":-10},{"$f":"IF(ROW(G41)-1<=$J$5,IF(Foglio1!O41=\"\",-10,Foglio1!O41),\"\")","v":-10},{"$f":"IF(ROW(H41)-1<=$J$5,IF(Foglio1!P41=\"\",-10,Foglio1!P41),\"\")","v":-10},{"$f":"IF(ROW(I41)-1<=$J$5,IF(Foglio1!Q41=\"\",-10,Foglio1!Q41),\"\")","v":-10},null,{"$f":"IF(ROW(K41)-1<=$J$5,K$1+COUNTIF(A$2:A41,A41)*$J$7,\"\")","v":3.24},{"$f":"IF(ROW(L41)-1<=$J$5,L$1+COUNTIF(B$2:B41,B41)*$J$7,\"\")","v":2.27},{"$f":"IF(ROW(M41)-1<=$J$5,M$1+COUNTIF(C$2:C41,C41)*$J$7,\"\")","v":1.06},{"$f":"IF(ROW(N41)-1<=$J$5,N$1+COUNTIF(D$2:D41,D41)*$J$7,\"\")","v":1.05},{"$f":"IF(ROW(O41)-1<=$J$5,O$1+COUNTIF(E$2:E41,E41)*$J$7,\"\")","v":0.19999999999999996},{"$f":"IF(ROW(P41)-1<=$J$5,P$1+COUNTIF(F$2:F41,F41)*$J$7,\"\")","v":-0.8},{"$f":"IF(ROW(Q41)-1<=$J$5,Q$1+COUNTIF(G$2:G41,G41)*$J$7,\"\")","v":-1.8},{"$f":"IF(ROW(R41)-1<=$J$5,R$1+COUNTIF(H$2:H41,H41)*$J$7,\"\")","v":-2.8},{"$f":"IF(ROW(S41)-1<=$J$5,S$1+COUNTIF(I$2:I41,I41)*$J$7,\"\")","v":-3.8}]
[{"$f":"IF(ROW(A42)-1<=$J$5,IF(Foglio1!I42=\"\",-10,Foglio1!I42),\"\")","v":-10},{"$f":"IF(ROW(B42)-1<=$J$5,IF(Foglio1!J42=\"\",-10,Foglio1!J42),\"\")","v":-10},{"$f":"IF(ROW(C42)-1<=$J$5,IF(Foglio1!K42=\"\",-10,Foglio1!K42),\"\")","v":-10},{"$f":"IF(ROW(D42)-1<=$J$5,IF(Foglio1!L42=\"\",-10,Foglio1!L42),\"\")","v":-10},{"$f":"IF(ROW(E42)-1<=$J$5,IF(Foglio1!M42=\"\",-10,Foglio1!M42),\"\")","v":-10},{"$f":"IF(ROW(F42)-1<=$J$5,IF(Foglio1!N42=\"\",-10,Foglio1!N42),\"\")","v":-10},{"$f":"IF(ROW(G42)-1<=$J$5,IF(Foglio1!O42=\"\",-10,Foglio1!O42),\"\")","v":-10},{"$f":"IF(ROW(H42)-1<=$J$5,IF(Foglio1!P42=\"\",-10,Foglio1!P42),\"\")","v":-10},{"$f":"IF(ROW(I42)-1<=$J$5,IF(Foglio1!Q42=\"\",-10,Foglio1!Q42),\"\")","v":-10},null,{"$f":"IF(ROW(K42)-1<=$J$5,K$1+COUNTIF(A$2:A42,A42)*$J$7,\"\")","v":3.27},{"$f":"IF(ROW(L42)-1<=$J$5,L$1+COUNTIF(B$2:B42,B42)*$J$7,\"\")","v":2.27},{"$f":"IF(ROW(M42)-1<=$J$5,M$1+COUNTIF(C$2:C42,C42)*$J$7,\"\")","v":1.66},{"$f":"IF(ROW(N42)-1<=$J$5,N$1+COUNTIF(D$2:D42,D42)*$J$7,\"\")","v":1.08},{"$f":"IF(ROW(O42)-1<=$J$5,O$1+COUNTIF(E$2:E42,E42)*$J$7,\"\")","v":0.22999999999999998},{"$f":"IF(ROW(P42)-1<=$J$5,P$1+COUNTIF(F$2:F42,F42)*$J$7,\"\")","v":-0.77},{"$f":"IF(ROW(Q42)-1<=$J$5,Q$1+COUNTIF(G$2:G42,G42)*$J$7,\"\")","v":-1.77},{"$f":"IF(ROW(R42)-1<=$J$5,R$1+COUNTIF(H$2:H42,H42)*$J$7,\"\")","v":-2.77},{"$f":"IF(ROW(S42)-1<=$J$5,S$1+COUNTIF(I$2:I42,I42)*$J$7,\"\")","v":-3.77}]
[{"$f":"IF(ROW(A43)-1<=$J$5,IF(Foglio1!I43=\"\",-10,Foglio1!I43),\"\")","v":100},{"$f":"IF(ROW(B43)-1<=$J$5,IF(Foglio1!J43=\"\",-10,Foglio1!J43),\"\")","v":100},{"$f":"IF(ROW(C43)-1<=$J$5,IF(Foglio1!K43=\"\",-10,Foglio1!K43),\"\")","v":-10},{"$f":"IF(ROW(D43)-1<=$J$5,IF(Foglio1!L43=\"\",-10,Foglio1!L43),\"\")","v":-10},{"$f":"IF(ROW(E43)-1<=$J$5,IF(Foglio1!M43=\"\",-10,Foglio1!M43),\"\")","v":-10},{"$f":"IF(ROW(F43)-1<=$J$5,IF(Foglio1!N43=\"\",-10,Foglio1!N43),\"\")","v":-10},{"$f":"IF(ROW(G43)-1<=$J$5,IF(Foglio1!O43=\"\",-10,Foglio1!O43),\"\")","v":-10},{"$f":"IF(ROW(H43)-1<=$J$5,IF(Foglio1!P43=\"\",-10,Foglio1!P43),\"\")","v":-10},{"$f":"IF(ROW(I43)-1<=$J$5,IF(Foglio1!Q43=\"\",-10,Foglio1!Q43),\"\")","v":-10},null,{"$f":"IF(ROW(K43)-1<=$J$5,K$1+COUNTIF(A$2:A43,A43)*$J$7,\"\")","v":3.15},{"$f":"IF(ROW(L43)-1<=$J$5,L$1+COUNTIF(B$2:B43,B43)*$J$7,\"\")","v":2.27},{"$f":"IF(ROW(M43)-1<=$J$5,M$1+COUNTIF(C$2:C43,C43)*$J$7,\"\")","v":1.69},{"$f":"IF(ROW(N43)-1<=$J$5,N$1+COUNTIF(D$2:D43,D43)*$J$7,\"\")","v":1.1099999999999999},{"$f":"IF(ROW(O43)-1<=$J$5,O$1+COUNTIF(E$2:E43,E43)*$J$7,\"\")","v":0.26},{"$f":"IF(ROW(P43)-1<=$J$5,P$1+COUNTIF(F$2:F43,F43)*$J$7,\"\")","v":-0.74},{"$f":"IF(ROW(Q43)-1<=$J$5,Q$1+COUNTIF(G$2:G43,G43)*$J$7,\"\")","v":-1.74},{"$f":"IF(ROW(R43)-1<=$J$5,R$1+COUNTIF(H$2:H43,H43)*$J$7,\"\")","v":-2.74},{"$f":"IF(ROW(S43)-1<=$J$5,S$1+COUNTIF(I$2:I43,I43)*$J$7,\"\")","v":-3.74}]
[{"$f":"IF(ROW(A44)-1<=$J$5,IF(Foglio1!I44=\"\",-10,Foglio1!I44),\"\")","v":75},{"$f":"IF(ROW(B44)-1<=$J$5,IF(Foglio1!J44=\"\",-10,Foglio1!J44),\"\")","v":75},{"$f":"IF(ROW(C44)-1<=$J$5,IF(Foglio1!K44=\"\",-10,Foglio1!K44),\"\")","v":-10},{"$f":"IF(ROW(D44)-1<=$J$5,IF(Foglio1!L44=\"\",-10,Foglio1!L44),\"\")","v":-10},{"$f":"IF(ROW(E44)-1<=$J$5,IF(Foglio1!M44=\"\",-10,Foglio1!M44),\"\")","v":-10},{"$f":"IF(ROW(F44)-1<=$J$5,IF(Foglio1!N44=\"\",-10,Foglio1!N44),\"\")","v":-10},{"$f":"IF(ROW(G44)-1<=$J$5,IF(Foglio1!O44=\"\",-10,Foglio1!O44),\"\")","v":-10},{"$f":"IF(ROW(H44)-1<=$J$5,IF(Foglio1!P44=\"\",-10,Foglio1!P44),\"\")","v":-10},{"$f":"IF(ROW(I44)-1<=$J$5,IF(Foglio1!Q44=\"\",-10,Foglio1!Q44),\"\")","v":-10},null,{"$f":"IF(ROW(K44)-1<=$J$5,K$1+COUNTIF(A$2:A44,A44)*$J$7,\"\")","v":3.06},{"$f":"IF(ROW(L44)-1<=$J$5,L$1+COUNTIF(B$2:B44,B44)*$J$7,\"\")","v":2.06},{"$f":"IF(ROW(M44)-1<=$J$5,M$1+COUNTIF(C$2:C44,C44)*$J$7,\"\")","v":1.72},{"$f":"IF(ROW(N44)-1<=$J$5,N$1+COUNTIF(D$2:D44,D44)*$J$7,\"\")","v":1.1399999999999999},{"$f":"IF(ROW(O44)-1<=$J$5,O$1+COUNTIF(E$2:E44,E44)*$J$7,\"\")","v":0.29000000000000004},{"$f":"IF(ROW(P44)-1<=$J$5,P$1+COUNTIF(F$2:F44,F44)*$J$7,\"\")","v":-0.71},{"$f":"IF(ROW(Q44)-1<=$J$5,Q$1+COUNTIF(G$2:G44,G44)*$J$7,\"\")","v":-1.71},{"$f":"IF(ROW(R44)-1<=$J$5,R$1+COUNTIF(H$2:H44,H44)*$J$7,\"\")","v":-2.71},{"$f":"IF(ROW(S44)-1<=$J$5,S$1+COUNTIF(I$2:I44,I44)*$J$7,\"\")","v":-3.71}]
[{"$f":"IF(ROW(A45)-1<=$J$5,IF(Foglio1!I45=\"\",-10,Foglio1!I45),\"\")","v":80},{"$f":"IF(ROW(B45)-1<=$J$5,IF(Foglio1!J45=\"\",-10,Foglio1!J45),\"\")","v":100},{"$f":"IF(ROW(C45)-1<=$J$5,IF(Foglio1!K45=\"\",-10,Foglio1!K45),\"\")","v":-10},{"$f":"IF(ROW(D45)-1<=$J$5,IF(Foglio1!L45=\"\",-10,Foglio1!L45),\"\")","v":-10},{"$f":"IF(ROW(E45)-1<=$J$5,IF(Foglio1!M45=\"\",-10,Foglio1!M45),\"\")","v":-10},{"$f":"IF(ROW(F45)-1<=$J$5,IF(Foglio1!N45=\"\",-10,Foglio1!N45),\"\")","v":-10},{"$f":"IF(ROW(G45)-1<=$J$5,IF(Foglio1!O45=\"\",-10,Foglio1!O45),\"\")","v":-10},{"$f":"IF(ROW(H45)-1<=$J$5,IF(Foglio1!P45=\"\",-10,Foglio1!P45),\"\")","v":-10},{"$f":"IF(ROW(I45)-1<=$J$5,IF(Foglio1!Q45=\"\",-10,Foglio1!Q45),\"\")","v":-10},null,{"$f":"IF(ROW(K45)-1<=$J$5,K$1+COUNTIF(A$2:A45,A45)*$J$7,\"\")","v":3.27},{"$f":"IF(ROW(L45)-1<=$J$5,L$1+COUNTIF(B$2:B45,B45)*$J$7,\"\")","v":2.2999999999999998},{"$f":"IF(ROW(M45)-1<=$J$5,M$1+COUNTIF(C$2:C45,C45)*$J$7,\"\")","v":1.75},{"$f":"IF(ROW(N45)-1<=$J$5,N$1+COUNTIF(D$2:D45,D45)*$J$7,\"\")","v":1.17},{"$f":"IF(ROW(O45)-1<=$J$5,O$1+COUNTIF(E$2:E45,E45)*$J$7,\"\")","v":0.31999999999999984},{"$f":"IF(ROW(P45)-1<=$J$5,P$1+COUNTIF(F$2:F45,F45)*$J$7,\"\")","v":-0.68000000000000016},{"$f":"IF(ROW(Q45)-1<=$J$5,Q$1+COUNTIF(G$2:G45,G45)*$J$7,\"\")","v":-1.6800000000000002},{"$f":"IF(ROW(R45)-1<=$J$5,R$1+COUNTIF(H$2:H45,H45)*$J$7,\"\")","v":-2.68},{"$f":"IF(ROW(S45)-1<=$J$5,S$1+COUNTIF(I$2:I45,I45)*$J$7,\"\")","v":-3.68}]
[{"$f":"IF(ROW(A46)-1<=$J$5,IF(Foglio1!I46=\"\",-10,Foglio1!I46),\"\")","v":90},{"$f":"IF(ROW(B46)-1<=$J$5,IF(Foglio1!J46=\"\",-10,Foglio1!J46),\"\")","v":-10},{"$f":"IF(ROW(C46)-1<=$J$5,IF(Foglio1!K46=\"\",-10,Foglio1!K46),\"\")","v":90},{"$f":"IF(ROW(D46)-1<=$J$5,IF(Foglio1!L46=\"\",-10,Foglio1!L46),\"\")","v":-10},{"$f":"IF(ROW(E46)-1<=$J$5,IF(Foglio1!M46=\"\",-10,Foglio1!M46),\"\")","v":-10},{"$f":"IF(ROW(F46)-1<=$J$5,IF(Foglio1!N46=\"\",-10,Foglio1!N46),\"\")","v":-10},{"$f":"IF(ROW(G46)-1<=$J$5,IF(Foglio1!O46=\"\",-10,Foglio1!O46),\"\")","v":-10},{"$f":"IF(ROW(H46)-1<=$J$5,IF(Foglio1!P46=\"\",-10,Foglio1!P46),\"\")","v":-10},{"$f":"IF(ROW(I46)-1<=$J$5,IF(Foglio1!Q46=\"\",-10,Foglio1!Q46),\"\")","v":-10},null,{"$f":"IF(ROW(K46)-1<=$J$5,K$1+COUNTIF(A$2:A46,A46)*$J$7,\"\")","v":3.09},{"$f":"IF(ROW(L46)-1<=$J$5,L$1+COUNTIF(B$2:B46,B46)*$J$7,\"\")","v":2.2999999999999998},{"$f":"IF(ROW(M46)-1<=$J$5,M$1+COUNTIF(C$2:C46,C46)*$J$7,\"\")","v":1.03},{"$f":"IF(ROW(N46)-1<=$J$5,N$1+COUNTIF(D$2:D46,D46)*$J$7,\"\")","v":1.2},{"$f":"IF(ROW(O46)-1<=$J$5,O$1+COUNTIF(E$2:E46,E46)*$J$7,\"\")","v":0.34999999999999987},{"$f":"IF(ROW(P46)-1<=$J$5,P$1+COUNTIF(F$2:F46,F46)*$J$7,\"\")","v":-0.65000000000000013},{"$f":"IF(ROW(Q46)-1<=$J$5,Q$1+COUNTIF(G$2:G46,G46)*$J$7,\"\")","v":-1.6500000000000001},{"$f":"IF(ROW(R46)-1<=$J$5,R$1+COUNTIF(H$2:H46,H46)*$J$7,\"\")","v":-2.6500000000000004},{"$f":"IF(ROW(S46)-1<=$J$5,S$1+COUNTIF(I$2:I46,I46)*$J$7,\"\")","v":-3.6500000000000004}]
[{"$f":"IF(ROW(A47)-1<=$J$5,IF(Foglio1!I47=\"\",-10,Foglio1!I47),\"\")","v":-10},{"$f":"IF(ROW(B47)-1<=$J$5,IF(Foglio1!J47=\"\",-10,Foglio1!J47),\"\")","v":-10},{"$f":"IF(ROW(C47)-1<=$J$5,IF(Foglio1!K47=\"\",-10,Foglio1!K47),\"\")","v":-10},{"$f":"IF(ROW(D47)-1<=$J$5,IF(Foglio1!L47=\"\",-10,Foglio1!L47),\"\")","v":-10},{"$f":"IF(ROW(E47)-1<=$J$5,IF(Foglio1!M47=\"\",-10,Foglio1!M47),\"\")","v":-10},{"$f":"IF(ROW(F47)-1<=$J$5,IF(Foglio1!N47=\"\",-10,Foglio1!N47),\"\")","v":-10},{"$f":"IF(ROW(G47)-1<=$J$5,IF(Foglio1!O47=\"\",-10,Foglio1!O47),\"\")","v":-10},{"$f":"IF(ROW(H47)-1<=$J$5,IF(Foglio1!P47=\"\",-10,Foglio1!P47),\"\")","v":-10},{"$f":"IF(ROW(I47)-1<=$J$5,IF(Foglio1!Q47=\"\",-10,Foglio1!Q47),\"\")","v":-10},null,{"$f":"IF(ROW(K47)-1<=$J$5,K$1+COUNTIF(A$2:A47,A47)*$J$7,\"\")","v":3.3},{"$f":"IF(ROW(L47)-1<=$J$5,L$1+COUNTIF(B$2:B47,B47)*$J$7,\"\")","v":2.33},{"$f":"IF(ROW(M47)-1<=$J$5,M$1+COUNTIF(C$2:C47,C47)*$J$7,\"\")","v":1.78},{"$f":"IF(ROW(N47)-1<=$J$5,N$1+COUNTIF(D$2:D47,D47)*$J$7,\"\")","v":1.23},{"$f":"IF(ROW(O47)-1<=$J$5,O$1+COUNTIF(E$2:E47,E47)*$J$7,\"\")","v":0.37999999999999989},{"$f":"IF(ROW(P47)-1<=$J$5,P$1+COUNTIF(F$2:F47,F47)*$J$7,\"\")","v":-0.62000000000000011},{"$f":"IF(ROW(Q47)-1<=$J$5,Q$1+COUNTIF(G$2:G47,G47)*$J$7,\"\")","v":-1.62},{"$f":"IF(ROW(R47)-1<=$J$5,R$1+COUNTIF(H$2:H47,H47)*$J$7,\"\")","v":-2.62},{"$f":"IF(ROW(S47)-1<=$J$5,S$1+COUNTIF(I$2:I47,I47)*$J$7,\"\")","v":-3.62}]
[{"$f":"IF(ROW(A48)-1<=$J$5,IF(Foglio1!I48=\"\",-10,Foglio1!I48),\"\")","v":75},{"$f":"IF(ROW(B48)-1<=$J$5,IF(Foglio1!J48=\"\",-10,Foglio1!J48),\"\")","v":100},{"$f":"IF(ROW(C48)-1<=$J$5,IF(Foglio1!K48=\"\",-10,Foglio1!K48),\"\")","v":-10},{"$f":"IF(ROW(D48)-1<=$J$5,IF(Foglio1!L48=\"\",-10,Foglio1!L48),\"\")","v":-10},{"$f":"IF(ROW(E48)-1<=$J$5,IF(Foglio1!M48=\"\",-10,Foglio1!M48),\"\")","v":-10},{"$f":"IF(ROW(F48)-1<=$J$5,IF(Foglio1!N48=\"\",-10,Foglio1!N48),\"\")","v":-10},{"$f":"IF(ROW(G48)-1<=$J$5,IF(Foglio1!O48=\"\",-10,Foglio1!O48),\"\")","v":-10},{"$f":"IF(ROW(H48)-1<=$J$5,IF(Foglio1!P48=\"\",-10,Foglio1!P48),\"\")","v":-10},{"$f":"IF(ROW(I48)-1<=$J$5,IF(Foglio1!Q48=\"\",-10,Foglio1!Q48),\"\")","v":-10},null,{"$f":"IF(ROW(K48)-1<=$J$5,K$1+COUNTIF(A$2:A48,A48)*$J$7,\"\")","v":3.09},{"$f":"IF(ROW(L48)-1<=$J$5,L$1+COUNTIF(B$2:B48,B48)*$J$7,\"\")","v":2.33},{"$f":"IF(ROW(M48)-1<=$J$5,M$1+COUNTIF(C$2:C48,C48)*$J$7,\"\")","v":1.81},{"$f":"IF(ROW(N48)-1<=$J$5,N$1+COUNTIF(D$2:D48,D48)*$J$7,\"\")","v":1.26},{"$f":"IF(ROW(O48)-1<=$J$5,O$1+COUNTIF(E$2:E48,E48)*$J$7,\"\")","v":0.40999999999999992},{"$f":"IF(ROW(P48)-1<=$J$5,P$1+COUNTIF(F$2:F48,F48)*$J$7,\"\")","v":-0.59000000000000008},{"$f":"IF(ROW(Q48)-1<=$J$5,Q$1+COUNTIF(G$2:G48,G48)*$J$7,\"\")","v":-1.59},{"$f":"IF(ROW(R48)-1<=$J$5,R$1+COUNTIF(H$2:H48,H48)*$J$7,\"\")","v":-2.59},{"$f":"IF(ROW(S48)-1<=$J$5,S$1+COUNTIF(I$2:I48,I48)*$J$7,\"\")","v":-3.59}]
[{"$f":"IF(ROW(A49)-1<=$J$5,IF(Foglio1!I49=\"\",-10,Foglio1!I49),\"\")","v":90},{"$f":"IF(ROW(B49)-1<=$J$5,IF(Foglio1!J49=\"\",-10,Foglio1!J49),\"\")","v":100},{"$f":"IF(ROW(C49)-1<=$J$5,IF(Foglio1!K49=\"\",-10,Foglio1!K49),\"\")","v":-10},{"$f":"IF(ROW(D49)-1<=$J$5,IF(Foglio1!L49=\"\",-10,Foglio1!L49),\"\")","v":-10},{"$f":"IF(ROW(E49)-1<=$J$5,IF(Foglio1!M49=\"\",-10,Foglio1!M49),\"\")","v":-10},{"$f":"IF(ROW(F49)-1<=$J$5,IF(Foglio1!N49=\"\",-10,Foglio1!N49),\"\")","v":-10},{"$f":"IF(ROW(G49)-1<=$J$5,IF(Foglio1!O49=\"\",-10,Foglio1!O49),\"\")","v":-10},{"$f":"IF(ROW(H49)-1<=$J$5,IF(Foglio1!P49=\"\",-10,Foglio1!P49),\"\")","v":-10},{"$f":"IF(ROW(I49)-1<=$J$5,IF(Foglio1!Q49=\"\",-10,Foglio1!Q49),\"\")","v":-10},null,{"$f":"IF(ROW(K49)-1<=$J$5,K$1+COUNTIF(A$2:A49,A49)*$J$7,\"\")","v":3.12},{"$f":"IF(ROW(L49)-1<=$J$5,L$1+COUNTIF(B$2:B49,B49)*$J$7,\"\")","v":2.36},{"$f":"IF(ROW(M49)-1<=$J$5,M$1+COUNTIF(C$2:C49,C49)*$J$7,\"\")","v":1.8399999999999999},{"$f":"IF(ROW(N49)-1<=$J$5,N$1+COUNTIF(D$2:D49,D49)*$J$7,\"\")","v":1.29},{"$f":"IF(ROW(O49)-1<=$J$5,O$1+COUNTIF(E$2:E49,E49)*$J$7,\"\")","v":0.43999999999999995},{"$f":"IF(ROW(P49)-1<=$J$5,P$1+COUNTIF(F$2:F49,F49)*$J$7,\"\")","v":-0.56000000000000005},{"$f":"IF(ROW(Q49)-1<=$J$5,Q$1+COUNTIF(G$2:G49,G49)*$J$7,\"\")","v":-1.56},{"$f":"IF(ROW(R49)-1<=$J$5,R$1+COUNTIF(H$2:H49,H49)*$J$7,\"\")","v":-2.56},{"$f":"IF(ROW(S49)-1<=$J$5,S$1+COUNTIF(I$2:I49,I49)*$J$7,\"\")","v":-3.56}]
[{"$f":"IF(ROW(A50)-1<=$J$5,IF(Foglio1!I50=\"\",-10,Foglio1!I50),\"\")","v":100},{"$f":"IF(ROW(B50)-1<=$J$5,IF(Foglio1!J50=\"\",-10,Foglio1!J50),\"\")","v":80},{"$f":"IF(ROW(C50)-1<=$J$5,IF(Foglio1!K50=\"\",-10,Foglio1!K50),\"\")","v":90},{"$f":"IF(ROW(D50)-1<=$J$5,IF(Foglio1!L50=\"\",-10,Foglio1!L50),\"\")","v":-10},{"$f":"IF(ROW(E50)-1<=$J$5,IF(Foglio1!M50=\"\",-10,Foglio1!M50),\"\")","v":-10},{"$f":"IF(ROW(F50)-1<=$J$5,IF(Foglio1!N50=\"\",-10,Foglio1!N50),\"\")","v":-10},{"$f":"IF(ROW(G50)-1<=$J$5,IF(Foglio1!O50=\"\",-10,Foglio1!O50),\"\")","v":-10},{"$f":"IF(ROW(H50)-1<=$J$5,IF(Foglio1!P50=\"\",-10,Foglio1!P50),\"\")","v":-10},{"$f":"IF(ROW(I50)-1<=$J$5,IF(Foglio1!Q50=\"\",-10,Foglio1!Q50),\"\")","v":-10},null,{"$f":"IF(ROW(K50)-1<=$J$5,K$1+COUNTIF(A$2:A50,A50)*$J$7,\"\")","v":3.18},{"$f":"IF(ROW(L50)-1<=$J$5,L$1+COUNTIF(B$2:B50,B50)*$J$7,\"\")","v":2.2999999999999998},{"$f":"IF(ROW(M50)-1<=$J$5,M$1+COUNTIF(C$2:C50,C50)*$J$7,\"\")","v":1.06},{"$f":"IF(ROW(N50)-1<=$J$5,N$1+COUNTIF(D$2:D50,D50)*$J$7,\"\")","v":1.3199999999999998},{"$f":"IF(ROW(O50)-1<=$J$5,O$1+COUNTIF(E$2:E50,E50)*$J$7,\"\")","v":0.47},{"$f":"IF(ROW(P50)-1<=$J$5,P$1+COUNTIF(F$2:F50,F50)*$J$7,\"\")","v":-0.53},{"$f":"IF(ROW(Q50)-1<=$J$5,Q$1+COUNTIF(G$2:G50,G50)*$J$7,\"\")","v":-1.53},{"$f":"IF(ROW(R50)-1<=$J$5,R$1+COUNTIF(H$2:H50,H50)*$J$7,\"\")","v":-2.5300000000000002},{"$f":"IF(ROW(S50)-1<=$J$5,S$1+COUNTIF(I$2:I50,I50)*$J$7,\"\")","v":-3.5300000000000002}]
[{"$f":"IF(ROW(A51)-1<=$J$5,IF(Foglio1!I51=\"\",-10,Foglio1!I51),\"\")","v":-10},{"$f":"IF(ROW(B51)-1<=$J$5,IF(Foglio1!J51=\"\",-10,Foglio1!J51),\"\")","v":-10},{"$f":"IF(ROW(C51)-1<=$J$5,IF(Foglio1!K51=\"\",-10,Foglio1!K51),\"\")","v":-10},{"$f":"IF(ROW(D51)-1<=$J$5,IF(Foglio1!L51=\"\",-10,Foglio1!L51),\"\")","v":-10},{"$f":"IF(ROW(E51)-1<=$J$5,IF(Foglio1!M51=\"\",-10,Foglio1!M51),\"\")","v":-10},{"$f":"IF(ROW(F51)-1<=$J$5,IF(Foglio1!N51=\"\",-10,Foglio1!N51),\"\")","v":-10},{"$f":"IF(ROW(G51)-1<=$J$5,IF(Foglio1!O51=\"\",-10,Foglio1!O51),\"\")","v":-10},{"$f":"IF(ROW(H51)-1<=$J$5,IF(Foglio1!P51=\"\",-10,Foglio1!P51),\"\")","v":-10},{"$f":"IF(ROW(I51)-1<=$J$5,IF(Foglio1!Q51=\"\",-10,Foglio1!Q51),\"\")","v":-10},null,{"$f":"IF(ROW(K51)-1<=$J$5,K$1+COUNTIF(A$2:A51,A51)*$J$7,\"\")","v":3.33},{"$f":"IF(ROW(L51)-1<=$J$5,L$1+COUNTIF(B$2:B51,B51)*$J$7,\"\")","v":2.36},{"$f":"IF(ROW(M51)-1<=$J$5,M$1+COUNTIF(C$2:C51,C51)*$J$7,\"\")","v":1.87},{"$f":"IF(ROW(N51)-1<=$J$5,N$1+COUNTIF(D$2:D51,D51)*$J$7,\"\")","v":1.3499999999999999},{"$f":"IF(ROW(O51)-1<=$J$5,O$1+COUNTIF(E$2:E51,E51)*$J$7,\"\")","v":0.5},{"$f":"IF(ROW(P51)-1<=$J$5,P$1+COUNTIF(F$2:F51,F51)*$J$7,\"\")","v":-0.5},{"$f":"IF(ROW(Q51)-1<=$J$5,Q$1+COUNTIF(G$2:G51,G51)*$J$7,\"\")","v":-1.5},{"$f":"IF(ROW(R51)-1<=$J$5,R$1+COUNTIF(H$2:H51,H51)*$J$7,\"\")","v":-2.5},{"$f":"IF(ROW(S51)-1<=$J$5,S$1+COUNTIF(I$2:I51,I51)*$J$7,\"\")","v":-3.5}]
[{"$f":"IF(ROW(A52)-1<=$J$5,IF(Foglio1!I52=\"\",-10,Foglio1!I52),\"\")","v":60},{"$f":"IF(ROW(B52)-1<=$J$5,IF(Foglio1!J52=\"\",-10,Foglio1!J52),\"\")","v":70},{"$f":"IF(ROW(C52)-1<=$J$5,IF(Foglio1!K52=\"\",-10,Foglio1!K52),\"\")","v":30},{"$f":"IF(ROW(D52)-1<=$J$5,IF(Foglio1!L52=\"\",-10,Foglio1!L52),\"\")","v":-10},{"$f":"IF(ROW(E52)-1<=$J$5,IF(Foglio1!M52=\"\",-10,Foglio1!M52),\"\")","v":-10},{"$f":"IF(ROW(F52)-1<=$J$5,IF(Foglio1!N52=\"\",-10,Foglio1!N52),\"\")","v":-10},{"$f":"IF(ROW(G52)-1<=$J$5,IF(Foglio1!O52=\"\",-10,Foglio1!O52),\"\")","v":-10},{"$f":"IF(ROW(H52)-1<=$J$5,IF(Foglio1!P52=\"\",-10,Foglio1!P52),\"\")","v":-10},{"$f":"IF(ROW(I52)-1<=$J$5,IF(Foglio1!Q52=\"\",-10,Foglio1!Q52),\"\")","v":-10},null,{"$f":"IF(ROW(K52)-1<=$J$5,K$1+COUNTIF(A$2:A52,A52)*$J$7,\"\")","v":3.09},{"$f":"IF(ROW(L52)-1<=$J$5,L$1+COUNTIF(B$2:B52,B52)*$J$7,\"\")","v":2.12},{"$f":"IF(ROW(M52)-1<=$J$5,M$1+COUNTIF(C$2:C52,C52)*$J$7,\"\")","v":1.06},{"$f":"IF(ROW(N52)-1<=$J$5,N$1+COUNTIF(D$2:D52,D52)*$J$7,\"\")","v":1.38},{"$f":"IF(ROW(O52)-1<=$J$5,O$1+COUNTIF(E$2:E52,E52)*$J$7,\"\")","v":0.53},{"$f":"IF(ROW(P52)-1<=$J$5,P$1+COUNTIF(F$2:F52,F52)*$J$7,\"\")","v":-0.47},{"$f":"IF(ROW(Q52)-1<=$J$5,Q$1+COUNTIF(G$2:G52,G52)*$J$7,\"\")","v":-1.47},{"$f":"IF(ROW(R52)-1<=$J$5,R$1+COUNTIF(H$2:H52,H52)*$J$7,\"\")","v":-2.4699999999999998},{"$f":"IF(ROW(S52)-1<=$J$5,S$1+COUNTIF(I$2:I52,I52)*$J$7,\"\")","v":-3.4699999999999998}]
[{"$f":"IF(ROW(A53)-1<=$J$5,IF(Foglio1!I53=\"\",-10,Foglio1!I53),\"\")","v":70},{"$f":"IF(ROW(B53)-1<=$J$5,IF(Foglio1!J53=\"\",-10,Foglio1!J53),\"\")","v":90},{"$f":"IF(ROW(C53)-1<=$J$5,IF(Foglio1!K53=\"\",-10,Foglio1!K53),\"\")","v":-10},{"$f":"IF(ROW(D53)-1<=$J$5,IF(Foglio1!L53=\"\",-10,Foglio1!L53),\"\")","v":-10},{"$f":"IF(ROW(E53)-1<=$J$5,IF(Foglio1!M53=\"\",-10,Foglio1!M53),\"\")","v":-10},{"$f":"IF(ROW(F53)-1<=$J$5,IF(Foglio1!N53=\"\",-10,Foglio1!N53),\"\")","v":-10},{"$f":"IF(ROW(G53)-1<=$J$5,IF(Foglio1!O53=\"\",-10,Foglio1!O53),\"\")","v":-10},{"$f":"IF(ROW(H53)-1<=$J$5,IF(Foglio1!P53=\"\",-10,Foglio1!P53),\"\")","v":-10},{"$f":"IF(ROW(I53)-1<=$J$5,IF(Foglio1!Q53=\"\",-10,Foglio1!Q53),\"\")","v":-10},null,{"$f":"IF(ROW(K53)-1<=$J$5,K$1+COUNTIF(A$2:A53,A53)*$J$7,\"\")","v":3.15},{"$f":"IF(ROW(L53)-1<=$J$5,L$1+COUNTIF(B$2:B53,B53)*$J$7,\"\")","v":2.1800000000000002},{"$f":"IF(ROW(M53)-1<=$J$5,M$1+COUNTIF(C$2:C53,C53)*$J$7,\"\")","v":1.9},{"$f":"IF(ROW(N53)-1<=$J$5,N$1+COUNTIF(D$2:D53,D53)*$J$7,\"\")","v":1.41},{"$f":"IF(ROW(O53)-1<=$J$5,O$1+COUNTIF(E$2:E53,E53)*$J$7,\"\")","v":0.56000000000000005},{"$f":"IF(ROW(P53)-1<=$J$5,P$1+COUNTIF(F$2:F53,F53)*$J$7,\"\")","v":-0.43999999999999995},{"$f":"IF(ROW(Q53)-1<=$J$5,Q$1+COUNTIF(G$2:G53,G53)*$J$7,\"\")","v":-1.44},{"$f":"IF(ROW(R53)-1<=$J$5,R$1+COUNTIF(H$2:H53,H53)*$J$7,\"\")","v":-2.44},{"$f":"IF(ROW(S53)-1<=$J$5,S$1+COUNTIF(I$2:I53,I53)*$J$7,\"\")","v":-3.44}]
[{"$f":"IF(ROW(A54)-1<=$J$5,IF(Foglio1!I54=\"\",-10,Foglio1!I54),\"\")","v":90},{"$f":"IF(ROW(B54)-1<=$J$5,IF(Foglio1!J54=\"\",-10,Foglio1!J54),\"\")","v":90},{"$f":"IF(ROW(C54)-1<=$J$5,IF(Foglio1!K54=\"\",-10,Foglio1!K54),\"\")","v":-10},{"$f":"IF(ROW(D54)-1<=$J$5,IF(Foglio1!L54=\"\",-10,Foglio1!L54),\"\")","v":-10},{"$f":"IF(ROW(E54)-1<=$J$5,IF(Foglio1!M54=\"\",-10,Foglio1!M54),\"\")","v":-10},{"$f":"IF(ROW(F54)-1<=$J$5,IF(Foglio1!N54=\"\",-10,Foglio1!N54),\"\")","v":-10},{"$f":"IF(ROW(G54)-1<=$J$5,IF(Foglio1!O54=\"\",-10,Foglio1!O54),\"\")","v":-10},{"$f":"IF(ROW(H54)-1<=$J$5,IF(Foglio1!P54=\"\",-10,Foglio1!P54),\"\")","v":-10},{"$f":"IF(ROW(I54)-1<=$J$5,IF(Foglio1!Q54=\"\",-10,Foglio1!Q54),\"\")","v":-10},null,{"$f":"IF(ROW(K54)-1<=$J$5,K$1+COUNTIF(A$2:A54,A54)*$J$7,\"\")","v":3.15},{"$f":"IF(ROW(L54)-1<=$J$5,L$1+COUNTIF(B$2:B54,B54)*$J$7,\"\")","v":2.21},{"$f":"IF(ROW(M54)-1<=$J$5,M$1+COUNTIF(C$2:C54,C54)*$J$7,\"\")","v":1.93},{"$f":"IF(ROW(N54)-1<=$J$5,N$1+COUNTIF(D$2:D54,D54)*$J$7,\"\")","v":1.44},{"$f":"IF(ROW(O54)-1<=$J$5,O$1+COUNTIF(E$2:E54,E54)*$J$7,\"\")","v":0.58999999999999986},{"$f":"IF(ROW(P54)-1<=$J$5,P$1+COUNTIF(F$2:F54,F54)*$J$7,\"\")","v":-0.41000000000000014},{"$f":"IF(ROW(Q54)-1<=$J$5,Q$1+COUNTIF(G$2:G54,G54)*$J$7,\"\")","v":-1.4100000000000001},{"$f":"IF(ROW(R54)-1<=$J$5,R$1+COUNTIF(H$2:H54,H54)*$J$7,\"\")","v":-2.41},{"$f":"IF(ROW(S54)-1<=$J$5,S$1+COUNTIF(I$2:I54,I54)*$J$7,\"\")","v":-3.41}]
[{"$f":"IF(ROW(A55)-1<=$J$5,IF(Foglio1!I55=\"\",-10,Foglio1!I55),\"\")","v":80},{"$f":"IF(ROW(B55)-1<=$J$5,IF(Foglio1!J55=\"\",-10,Foglio1!J55),\"\")","v":90},{"$f":"IF(ROW(C55)-1<=$J$5,IF(Foglio1!K55=\"\",-10,Foglio1!K55),\"\")","v":30},{"$f":"IF(ROW(D55)-1<=$J$5,IF(Foglio1!L55=\"\",-10,Foglio1!L55),\"\")","v":-10},{"$f":"IF(ROW(E55)-1<=$J$5,IF(Foglio1!M55=\"\",-10,Foglio1!M55),\"\")","v":-10},{"$f":"IF(ROW(F55)-1<=$J$5,IF(Foglio1!N55=\"\",-10,Foglio1!N55),\"\")","v":-10},{"$f":"IF(ROW(G55)-1<=$J$5,IF(Foglio1!O55=\"\",-10,Foglio1!O55),\"\")","v":-10},{"$f":"IF(ROW(H55)-1<=$J$5,IF(Foglio1!P55=\"\",-10,Foglio1!P55),\"\")","v":-10},{"$f":"IF(ROW(I55)-1<=$J$5,IF(Foglio1!Q55=\"\",-10,Foglio1!Q55),\"\")","v":-10},null,{"$f":"IF(ROW(K55)-1<=$J$5,K$1+COUNTIF(A$2:A55,A55)*$J$7,\"\")","v":3.3},{"$f":"IF(ROW(L55)-1<=$J$5,L$1+COUNTIF(B$2:B55,B55)*$J$7,\"\")","v":2.2400000000000002},{"$f":"IF(ROW(M55)-1<=$J$5,M$1+COUNTIF(C$2:C55,C55)*$J$7,\"\")","v":1.0900000000000001},{"$f":"IF(ROW(N55)-1<=$J$5,N$1+COUNTIF(D$2:D55,D55)*$J$7,\"\")","v":1.47},{"$f":"IF(ROW(O55)-1<=$J$5,O$1+COUNTIF(E$2:E55,E55)*$J$7,\"\")","v":0.61999999999999988},{"$f":"IF(ROW(P55)-1<=$J$5,P$1+COUNTIF(F$2:F55,F55)*$J$7,\"\")","v":-0.38000000000000012},{"$f":"IF(ROW(Q55)-1<=$J$5,Q$1+COUNTIF(G$2:G55,G55)*$J$7,\"\")","v":-1.3800000000000001},{"$f":"IF(ROW(R55)-1<=$J$5,R$1+COUNTIF(H$2:H55,H55)*$J$7,\"\")","v":-2.38},{"$f":"IF(ROW(S55)-1<=$J$5,S$1+COUNTIF(I$2:I55,I55)*$J$7,\"\")","v":-3.38}]
[{"$f":"IF(ROW(A56)-1<=$J$5,IF(Foglio1!I56=\"\",-10,Foglio1!I56),\"\")","v":100},{"$f":"IF(ROW(B56)-1<=$J$5,IF(Foglio1!J56=\"\",-10,Foglio1!J56),\"\")","v":100},{"$f":"IF(ROW(C56)-1<=$J$5,IF(Foglio1!K56=\"\",-10,Foglio1!K56),\"\")","v":0},{"$f":"IF(ROW(D56)-1<=$J$5,IF(Foglio1!L56=\"\",-10,Foglio1!L56),\"\")","v":-10},{"$f":"IF(ROW(E56)-1<=$J$5,IF(Foglio1!M56=\"\",-10,Foglio1!M56),\"\")","v":-10},{"$f":"IF(ROW(F56)-1<=$J$5,IF(Foglio1!N56=\"\",-10,Foglio1!N56),\"\")","v":-10},{"$f":"IF(ROW(G56)-1<=$J$5,IF(Foglio1!O56=\"\",-10,Foglio1!O56),\"\")","v":-10},{"$f":"IF(ROW(H56)-1<=$J$5,IF(Foglio1!P56=\"\",-10,Foglio1!P56),\"\")","v":-10},{"$f":"IF(ROW(I56)-1<=$J$5,IF(Foglio1!Q56=\"\",-10,Foglio1!Q56),\"\")","v":-10},null,{"$f":"IF(ROW(K56)-1<=$J$5,K$1+COUNTIF(A$2:A56,A56)*$J$7,\"\")","v":3.21},{"$f":"IF(ROW(L56)-1<=$J$5,L$1+COUNTIF(B$2:B56,B56)*$J$7,\"\")","v":2.39},{"$f":"IF(ROW(M56)-1<=$J$5,M$1+COUNTIF(C$2:C56,C56)*$J$7,\"\")","v":1.1200000000000001},{"$f":"IF(ROW(N56)-1<=$J$5,N$1+COUNTIF(D$2:D56,D56)*$J$7,\"\")","v":1.5},{"$f":"IF(ROW(O56)-1<=$J$5,O$1+COUNTIF(E$2:E56,E56)*$J$7,\"\")","v":0.64999999999999991},{"$f":"IF(ROW(P56)-1<=$J$5,P$1+COUNTIF(F$2:F56,F56)*$J$7,\"\")","v":-0.35000000000000009},{"$f":"IF(ROW(Q56)-1<=$J$5,Q$1+COUNTIF(G$2:G56,G56)*$J$7,\"\")","v":-1.35},{"$f":"IF(ROW(R56)-1<=$J$5,R$1+COUNTIF(H$2:H56,H56)*$J$7,\"\")","v":-2.35},{"$f":"IF(ROW(S56)-1<=$J$5,S$1+COUNTIF(I$2:I56,I56)*$J$7,\"\")","v":-3.35}]
[{"$f":"IF(ROW(A57)-1<=$J$5,IF(Foglio1!I57=\"\",-10,Foglio1!I57),\"\")","v":-10},{"$f":"IF(ROW(B57)-1<=$J$5,IF(Foglio1!J57=\"\",-10,Foglio1!J57),\"\")","v":-10},{"$f":"IF(ROW(C57)-1<=$J$5,IF(Foglio1!K57=\"\",-10,Foglio1!K57),\"\")","v":-10},{"$f":"IF(ROW(D57)-1<=$J$5,IF(Foglio1!L57=\"\",-10,Foglio1!L57),\"\")","v":-10},{"$f":"IF(ROW(E57)-1<=$J$5,IF(Foglio1!M57=\"\",-10,Foglio1!M57),\"\")","v":-10},{"$f":"IF(ROW(F57)-1<=$J$5,IF(Foglio1!N57=\"\",-10,Foglio1!N57),\"\")","v":-10},{"$f":"IF(ROW(G57)-1<=$J$5,IF(Foglio1!O57=\"\",-10,Foglio1!O57),\"\")","v":-10},{"$f":"IF(ROW(H57)-1<=$J$5,IF(Foglio1!P57=\"\",-10,Foglio1!P57),\"\")","v":-10},{"$f":"IF(ROW(I57)-1<=$J$5,IF(Foglio1!Q57=\"\",-10,Foglio1!Q57),\"\")","v":-10},null,{"$f":"IF(ROW(K57)-1<=$J$5,K$1+COUNTIF(A$2:A57,A57)*$J$7,\"\")","v":3.36},{"$f":"IF(ROW(L57)-1<=$J$5,L$1+COUNTIF(B$2:B57,B57)*$J$7,\"\")","v":2.39},{"$f":"IF(ROW(M57)-1<=$J$5,M$1+COUNTIF(C$2:C57,C57)*$J$7,\"\")","v":1.96},{"$f":"IF(ROW(N57)-1<=$J$5,N$1+COUNTIF(D$2:D57,D57)*$J$7,\"\")","v":1.53},{"$f":"IF(ROW(O57)-1<=$J$5,O$1+COUNTIF(E$2:E57,E57)*$J$7,\"\")","v":0.67999999999999994},{"$f":"IF(ROW(P57)-1<=$J$5,P$1+COUNTIF(F$2:F57,F57)*$J$7,\"\")","v":-0.32000000000000006},{"$f":"IF(ROW(Q57)-1<=$J$5,Q$1+COUNTIF(G$2:G57,G57)*$J$7,\"\")","v":-1.32},{"$f":"IF(ROW(R57)-1<=$J$5,R$1+COUNTIF(H$2:H57,H57)*$J$7,\"\")","v":-2.3200000000000003},{"$f":"IF(ROW(S57)-1<=$J$5,S$1+COUNTIF(I$2:I57,I57)*$J$7,\"\")","v":-3.3200000000000003}]
[{"$f":"IF(ROW(A58)-1<=$J$5,IF(Foglio1!I58=\"\",-10,Foglio1!I58),\"\")","v":-10},{"$f":"IF(ROW(B58)-1<=$J$5,IF(Foglio1!J58=\"\",-10,Foglio1!J58),\"\")","v":-10},{"$f":"IF(ROW(C58)-1<=$J$5,IF(Foglio1!K58=\"\",-10,Foglio1!K58),\"\")","v":-10},{"$f":"IF(ROW(D58)-1<=$J$5,IF(Foglio1!L58=\"\",-10,Foglio1!L58),\"\")","v":-10},{"$f":"IF(ROW(E58)-1<=$J$5,IF(Foglio1!M58=\"\",-10,Foglio1!M58),\"\")","v":-10},{"$f":"IF(ROW(F58)-1<=$J$5,IF(Foglio1!N58=\"\",-10,Foglio1!N58),\"\")","v":-10},{"$f":"IF(ROW(G58)-1<=$J$5,IF(Foglio1!O58=\"\",-10,Foglio1!O58),\"\")","v":-10},{"$f":"IF(ROW(H58)-1<=$J$5,IF(Foglio1!P58=\"\",-10,Foglio1!P58),\"\")","v":-10},{"$f":"IF(ROW(I58)-1<=$J$5,IF(Foglio1!Q58=\"\",-10,Foglio1!Q58),\"\")","v":-10},null,{"$f":"IF(ROW(K58)-1<=$J$5,K$1+COUNTIF(A$2:A58,A58)*$J$7,\"\")","v":3.39},{"$f":"IF(ROW(L58)-1<=$J$5,L$1+COUNTIF(B$2:B58,B58)*$J$7,\"\")","v":2.42},{"$f":"IF(ROW(M58)-1<=$J$5,M$1+COUNTIF(C$2:C58,C58)*$J$7,\"\")","v":1.99},{"$f":"IF(ROW(N58)-1<=$J$5,N$1+COUNTIF(D$2:D58,D58)*$J$7,\"\")","v":1.56},{"$f":"IF(ROW(O58)-1<=$J$5,O$1+COUNTIF(E$2:E58,E58)*$J$7,\"\")","v":0.71},{"$f":"IF(ROW(P58)-1<=$J$5,P$1+COUNTIF(F$2:F58,F58)*$J$7,\"\")","v":-0.29000000000000004},{"$f":"IF(ROW(Q58)-1<=$J$5,Q$1+COUNTIF(G$2:G58,G58)*$J$7,\"\")","v":-1.29},{"$f":"IF(ROW(R58)-1<=$J$5,R$1+COUNTIF(H$2:H58,H58)*$J$7,\"\")","v":-2.29},{"$f":"IF(ROW(S58)-1<=$J$5,S$1+COUNTIF(I$2:I58,I58)*$J$7,\"\")","v":-3.29}]
[{"$f":"IF(ROW(A59)-1<=$J$5,IF(Foglio1!I59=\"\",-10,Foglio1!I59),\"\")","v":80},{"$f":"IF(ROW(B59)-1<=$J$5,IF(Foglio1!J59=\"\",-10,Foglio1!J59),\"\")","v":80},{"$f":"IF(ROW(C59)-1<=$J$5,IF(Foglio1!K59=\"\",-10,Foglio1!K59),\"\")","v":-10},{"$f":"IF(ROW(D59)-1<=$J$5,IF(Foglio1!L59=\"\",-10,Foglio1!L59),\"\")","v":50},{"$f":"IF(ROW(E59)-1<=$J$5,IF(Foglio1!M59=\"\",-10,Foglio1!M59),\"\")","v":-10},{"$f":"IF(ROW(F59)-1<=$J$5,IF(Foglio1!N59=\"\",-10,Foglio1!N59),\"\")","v":-10},{"$f":"IF(ROW(G59)-1<=$J$5,IF(Foglio1!O59=\"\",-10,Foglio1!O59),\"\")","v":-10},{"$f":"IF(ROW(H59)-1<=$J$5,IF(Foglio1!P59=\"\",-10,Foglio1!P59),\"\")","v":-10},{"$f":"IF(ROW(I59)-1<=$J$5,IF(Foglio1!Q59=\"\",-10,Foglio1!Q59),\"\")","v":-10},null,{"$f":"IF(ROW(K59)-1<=$J$5,K$1+COUNTIF(A$2:A59,A59)*$J$7,\"\")","v":3.33},{"$f":"IF(ROW(L59)-1<=$J$5,L$1+COUNTIF(B$2:B59,B59)*$J$7,\"\")","v":2.33},{"$f":"IF(ROW(M59)-1<=$J$5,M$1+COUNTIF(C$2:C59,C59)*$J$7,\"\")","v":2.02},{"$f":"IF(ROW(N59)-1<=$J$5,N$1+COUNTIF(D$2:D59,D59)*$J$7,\"\")","v":0.03},{"$f":"IF(ROW(O59)-1<=$J$5,O$1+COUNTIF(E$2:E59,E59)*$J$7,\"\")","v":0.74},{"$f":"IF(ROW(P59)-1<=$J$5,P$1+COUNTIF(F$2:F59,F59)*$J$7,\"\")","v":-0.26},{"$f":"IF(ROW(Q59)-1<=$J$5,Q$1+COUNTIF(G$2:G59,G59)*$J$7,\"\")","v":-1.26},{"$f":"IF(ROW(R59)-1<=$J$5,R$1+COUNTIF(H$2:H59,H59)*$J$7,\"\")","v":-2.2599999999999998},{"$f":"IF(ROW(S59)-1<=$J$5,S$1+COUNTIF(I$2:I59,I59)*$J$7,\"\")","v":-3.26}]
[{"$f":"IF(ROW(A60)-1<=$J$5,IF(Foglio1!I60=\"\",-10,Foglio1!I60),\"\")","v":80},{"$f":"IF(ROW(B60)-1<=$J$5,IF(Foglio1!J60=\"\",-10,Foglio1!J60),\"\")","v":60},{"$f":"IF(ROW(C60)-1<=$J$5,IF(Foglio1!K60=\"\",-10,Foglio1!K60),\"\")","v":-10},{"$f":"IF(ROW(D60)-1<=$J$5,IF(Foglio1!L60=\"\",-10,Foglio1!L60),\"\")","v":-10},{"$f":"IF(ROW(E60)-1<=$J$5,IF(Foglio1!M60=\"\",-10,Foglio1!M60),\"\")","v":-10},{"$f":"IF(ROW(F60)-1<=$J$5,IF(Foglio1!N60=\"\",-10,Foglio1!N60),\"\")","v":-10},{"$f":"IF(ROW(G60)-1<=$J$5,IF(Foglio1!O60=\"\",-10,Foglio1!O60),\"\")","v":-10},{"$f":"IF(ROW(H60)-1<=$J$5,IF(Foglio1!P60=\"\",-10,Foglio1!P60),\"\")","v":-10},{"$f":"IF(ROW(I60)-1<=$J$5,IF(Foglio1!Q60=\"\",-10,Foglio1!Q60),\"\")","v":-10},null,{"$f":"IF(ROW(K60)-1<=$J$5,K$1+COUNTIF(A$2:A60,A60)*$J$7,\"\")","v":3.36},{"$f":"IF(ROW(L60)-1<=$J$5,L$1+COUNTIF(B$2:B60,B60)*$J$7,\"\")","v":2.06},{"$f":"IF(ROW(M60)-1<=$J$5,M$1+COUNTIF(C$2:C60,C60)*$J$7,\"\")","v":2.0499999999999998},{"$f":"IF(ROW(N60)-1<=$J$5,N$1+COUNTIF(D$2:D60,D60)*$J$7,\"\")","v":1.5899999999999999},{"$f":"IF(ROW(O60)-1<=$J$5,O$1+COUNTIF(E$2:E60,E60)*$J$7,\"\")","v":0.77},{"$f":"IF(ROW(P60)-1<=$J$5,P$1+COUNTIF(F$2:F60,F60)*$J$7,\"\")","v":-0.22999999999999998},{"$f":"IF(ROW(Q60)-1<=$J$5,Q$1+COUNTIF(G$2:G60,G60)*$J$7,\"\")","v":-1.23},{"$f":"IF(ROW(R60)-1<=$J$5,R$1+COUNTIF(H$2:H60,H60)*$J$7,\"\")","v":-2.23},{"$f":"IF(ROW(S60)-1<=$J$5,S$1+COUNTIF(I$2:I60,I60)*$J$7,\"\")","v":-3.23}]
[{"$f":"IF(ROW(A61)-1<=$J$5,IF(Foglio1!I61=\"\",-10,Foglio1!I61),\"\")","v":-10},{"$f":"IF(ROW(B61)-1<=$J$5,IF(Foglio1!J61=\"\",-10,Foglio1!J61),\"\")","v":-10},{"$f":"IF(ROW(C61)-1<=$J$5,IF(Foglio1!K61=\"\",-10,Foglio1!K61),\"\")","v":-10},{"$f":"IF(ROW(D61)-1<=$J$5,IF(Foglio1!L61=\"\",-10,Foglio1!L61),\"\")","v":-10},{"$f":"IF(ROW(E61)-1<=$J$5,IF(Foglio1!M61=\"\",-10,Foglio1!M61),\"\")","v":-10},{"$f":"IF(ROW(F61)-1<=$J$5,IF(Foglio1!N61=\"\",-10,Foglio1!N61),\"\")","v":-10},{"$f":"IF(ROW(G61)-1<=$J$5,IF(Foglio1!O61=\"\",-10,Foglio1!O61),\"\")","v":-10},{"$f":"IF(ROW(H61)-1<=$J$5,IF(Foglio1!P61=\"\",-10,Foglio1!P61),\"\")","v":-10},{"$f":"IF(ROW(I61)-1<=$J$5,IF(Foglio1!Q61=\"\",-10,Foglio1!Q61),\"\")","v":-10},null,{"$f":"IF(ROW(K61)-1<=$J$5,K$1+COUNTIF(A$2:A61,A61)*$J$7,\"\")","v":3.42},{"$f":"IF(ROW(L61)-1<=$J$5,L$1+COUNTIF(B$2:B61,B61)*$J$7,\"\")","v":2.4500000000000002},{"$f":"IF(ROW(M61)-1<=$J$5,M$1+COUNTIF(C$2:C61,C61)*$J$7,\"\")","v":2.08},{"$f":"IF(ROW(N61)-1<=$J$5,N$1+COUNTIF(D$2:D61,D61)*$J$7,\"\")","v":1.6199999999999999},{"$f":"IF(ROW(O61)-1<=$J$5,O$1+COUNTIF(E$2:E61,E61)*$J$7,\"\")","v":0.79999999999999982},{"$f":"IF(ROW(P61)-1<=$J$5,P$1+COUNTIF(F$2:F61,F61)*$J$7,\"\")","v":-0.20000000000000018},{"$f":"IF(ROW(Q61)-1<=$J$5,Q$1+COUNTIF(G$2:G61,G61)*$J$7,\"\")","v":-1.2000000000000002},{"$f":"IF(ROW(R61)-1<=$J$5,R$1+COUNTIF(H$2:H61,H61)*$J$7,\"\")","v":-2.2000000000000002},{"$f":"IF(ROW(S61)-1<=$J$5,S$1+COUNTIF(I$2:I61,I61)*$J$7,\"\")","v":-3.2}]
[{"$f":"IF(ROW(A62)-1<=$J$5,IF(Foglio1!I62=\"\",-10,Foglio1!I62),\"\")","v":-10},{"$f":"IF(ROW(B62)-1<=$J$5,IF(Foglio1!J62=\"\",-10,Foglio1!J62),\"\")","v":-10},{"$f":"IF(ROW(C62)-1<=$J$5,IF(Foglio1!K62=\"\",-10,Foglio1!K62),\"\")","v":-10},{"$f":"IF(ROW(D62)-1<=$J$5,IF(Foglio1!L62=\"\",-10,Foglio1!L62),\"\")","v":-10},{"$f":"IF(ROW(E62)-1<=$J$5,IF(Foglio1!M62=\"\",-10,Foglio1!M62),\"\")","v":-10},{"$f":"IF(ROW(F62)-1<=$J$5,IF(Foglio1!N62=\"\",-10,Foglio1!N62),\"\")","v":-10},{"$f":"IF(ROW(G62)-1<=$J$5,IF(Foglio1!O62=\"\",-10,Foglio1!O62),\"\")","v":-10},{"$f":"IF(ROW(H62)-1<=$J$5,IF(Foglio1!P62=\"\",-10,Foglio1!P62),\"\")","v":-10},{"$f":"IF(ROW(I62)-1<=$J$5,IF(Foglio1!Q62=\"\",-10,Foglio1!Q62),\"\")","v":-10},null,{"$f":"IF(ROW(K62)-1<=$J$5,K$1+COUNTIF(A$2:A62,A62)*$J$7,\"\")","v":3.45},{"$f":"IF(ROW(L62)-1<=$J$5,L$1+COUNTIF(B$2:B62,B62)*$J$7,\"\")","v":2.48},{"$f":"IF(ROW(M62)-1<=$J$5,M$1+COUNTIF(C$2:C62,C62)*$J$7,\"\")","v":2.11},{"$f":"IF(ROW(N62)-1<=$J$5,N$1+COUNTIF(D$2:D62,D62)*$J$7,\"\")","v":1.65},{"$f":"IF(ROW(O62)-1<=$J$5,O$1+COUNTIF(E$2:E62,E62)*$J$7,\"\")","v":0.82999999999999985},{"$f":"IF(ROW(P62)-1<=$J$5,P$1+COUNTIF(F$2:F62,F62)*$J$7,\"\")","v":-0.17000000000000015},{"$f":"IF(ROW(Q62)-1<=$J$5,Q$1+COUNTIF(G$2:G62,G62)*$J$7,\"\")","v":-1.1700000000000002},{"$f":"IF(ROW(R62)-1<=$J$5,R$1+COUNTIF(H$2:H62,H62)*$J$7,\"\")","v":-2.17},{"$f":"IF(ROW(S62)-1<=$J$5,S$1+COUNTIF(I$2:I62,I62)*$J$7,\"\")","v":-3.17}]
[{"$f":"IF(ROW(A63)-1<=$J$5,IF(Foglio1!I63=\"\",-10,Foglio1!I63),\"\")","v":70},{"$f":"IF(ROW(B63)-1<=$J$5,IF(Foglio1!J63=\"\",-10,Foglio1!J63),\"\")","v":90},{"$f":"IF(ROW(C63)-1<=$J$5,IF(Foglio1!K63=\"\",-10,Foglio1!K63),\"\")","v":20},{"$f":"IF(ROW(D63)-1<=$J$5,IF(Foglio1!L63=\"\",-10,Foglio1!L63),\"\")","v":-10},{"$f":"IF(ROW(E63)-1<=$J$5,IF(Foglio1!M63=\"\",-10,Foglio1!M63),\"\")","v":-10},{"$f":"IF(ROW(F63)-1<=$J$5,IF(Foglio1!N63=\"\",-10,Foglio1!N63),\"\")","v":-10},{"$f":"IF(ROW(G63)-1<=$J$5,IF(Foglio1!O63=\"\",-10,Foglio1!O63),\"\")","v":-10},{"$f":"IF(ROW(H63)-1<=$J$5,IF(Foglio1!P63=\"\",-10,Foglio1!P63),\"\")","v":-10},{"$f":"IF(ROW(I63)-1<=$J$5,IF(Foglio1!Q63=\"\",-10,Foglio1!Q63),\"\")","v":-10},null,{"$f":"IF(ROW(K63)-1<=$J$5,K$1+COUNTIF(A$2:A63,A63)*$J$7,\"\")","v":3.18},{"$f":"IF(ROW(L63)-1<=$J$5,L$1+COUNTIF(B$2:B63,B63)*$J$7,\"\")","v":2.27},{"$f":"IF(ROW(M63)-1<=$J$5,M$1+COUNTIF(C$2:C63,C63)*$J$7,\"\")","v":1.06},{"$f":"IF(ROW(N63)-1<=$J$5,N$1+COUNTIF(D$2:D63,D63)*$J$7,\"\")","v":1.68},{"$f":"IF(ROW(O63)-1<=$J$5,O$1+COUNTIF(E$2:E63,E63)*$J$7,\"\")","v":0.85999999999999988},{"$f":"IF(ROW(P63)-1<=$J$5,P$1+COUNTIF(F$2:F63,F63)*$J$7,\"\")","v":-0.14000000000000012},{"$f":"IF(ROW(Q63)-1<=$J$5,Q$1+COUNTIF(G$2:G63,G63)*$J$7,\"\")","v":-1.1400000000000001},{"$f":"IF(ROW(R63)-1<=$J$5,R$1+COUNTIF(H$2:H63,H63)*$J$7,\"\")","v":-2.14},{"$f":"IF(ROW(S63)-1<=$J$5,S$1+COUNTIF(I$2:I63,I63)*$J$7,\"\")","v":-3.14}]
[{"$f":"IF(ROW(A64)-1<=$J$5,IF(Foglio1!I64=\"\",-10,Foglio1!I64),\"\")","v":80},{"$f":"IF(ROW(B64)-1<=$J$5,IF(Foglio1!J64=\"\",-10,Foglio1!J64),\"\")","v":100},{"$f":"IF(ROW(C64)-1<=$J$5,IF(Foglio1!K64=\"\",-10,Foglio1!K64),\"\")","v":-10},{"$f":"IF(ROW(D64)-1<=$J$5,IF(Foglio1!L64=\"\",-10,Foglio1!L64),\"\")","v":-10},{"$f":"IF(ROW(E64)-1<=$J$5,IF(Foglio1!M64=\"\",-10,Foglio1!M64),\"\")","v":-10},{"$f":"IF(ROW(F64)-1<=$J$5,IF(Foglio1!N64=\"\",-10,Foglio1!N64),\"\")","v":-10},{"$f":"IF(ROW(G64)-1<=$J$5,IF(Foglio1!O64=\"\",-10,Foglio1!O64),\"\")","v":-10},{"$f":"IF(ROW(H64)-1<=$J$5,IF(Foglio1!P64=\"\",-10,Foglio1!P64),\"\")","v":-10},{"$f":"IF(ROW(I64)-1<=$J$5,IF(Foglio1!Q64=\"\",-10,Foglio1!Q64),\"\")","v":-10},null,{"$f":"IF(ROW(K64)-1<=$J$5,K$1+COUNTIF(A$2:A64,A64)*$J$7,\"\")","v":3.39},{"$f":"IF(ROW(L64)-1<=$J$5,L$1+COUNTIF(B$2:B64,B64)*$J$7,\"\")","v":2.42},{"$f":"IF(ROW(M64)-1<=$J$5,M$1+COUNTIF(C$2:C64,C64)*$J$7,\"\")","v":2.1399999999999997},{"$f":"IF(ROW(N64)-1<=$J$5,N$1+COUNTIF(D$2:D64,D64)*$J$7,\"\")","v":1.71},{"$f":"IF(ROW(O64)-1<=$J$5,O$1+COUNTIF(E$2:E64,E64)*$J$7,\"\")","v":0.8899999999999999},{"$f":"IF(ROW(P64)-1<=$J$5,P$1+COUNTIF(F$2:F64,F64)*$J$7,\"\")","v":-0.1100000000000001},{"$f":"IF(ROW(Q64)-1<=$J$5,Q$1+COUNTIF(G$2:G64,G64)*$J$7,\"\")","v":-1.1100000000000001},{"$f":"IF(ROW(R64)-1<=$J$5,R$1+COUNTIF(H$2:H64,H64)*$J$7,\"\")","v":-2.1100000000000003},{"$f":"IF(ROW(S64)-1<=$J$5,S$1+COUNTIF(I$2:I64,I64)*$J$7,\"\")","v":-3.1100000000000003}]
[{"$f":"IF(ROW(A65)-1<=$J$5,IF(Foglio1!I65=\"\",-10,Foglio1!I65),\"\")","v":70},{"$f":"IF(ROW(B65)-1<=$J$5,IF(Foglio1!J65=\"\",-10,Foglio1!J65),\"\")","v":100},{"$f":"IF(ROW(C65)-1<=$J$5,IF(Foglio1!K65=\"\",-10,Foglio1!K65),\"\")","v":-10},{"$f":"IF(ROW(D65)-1<=$J$5,IF(Foglio1!L65=\"\",-10,Foglio1!L65),\"\")","v":-10},{"$f":"IF(ROW(E65)-1<=$J$5,IF(Foglio1!M65=\"\",-10,Foglio1!M65),\"\")","v":-10},{"$f":"IF(ROW(F65)-1<=$J$5,IF(Foglio1!N65=\"\",-10,Foglio1!N65),\"\")","v":-10},{"$f":"IF(ROW(G65)-1<=$J$5,IF(Foglio1!O65=\"\",-10,Foglio1!O65),\"\")","v":-10},{"$f":"IF(ROW(H65)-1<=$J$5,IF(Foglio1!P65=\"\",-10,Foglio1!P65),\"\")","v":-10},{"$f":"IF(ROW(I65)-1<=$J$5,IF(Foglio1!Q65=\"\",-10,Foglio1!Q65),\"\")","v":-10},null,{"$f":"IF(ROW(K65)-1<=$J$5,K$1+COUNTIF(A$2:A65,A65)*$J$7,\"\")","v":3.21},{"$f":"IF(ROW(L65)-1<=$J$5,L$1+COUNTIF(B$2:B65,B65)*$J$7,\"\")","v":2.4500000000000002},{"$f":"IF(ROW(M65)-1<=$J$5,M$1+COUNTIF(C$2:C65,C65)*$J$7,\"\")","v":2.17},{"$f":"IF(ROW(N65)-1<=$J$5,N$1+COUNTIF(D$2:D65,D65)*$J$7,\"\")","v":1.74},{"$f":"IF(ROW(O65)-1<=$J$5,O$1+COUNTIF(E$2:E65,E65)*$J$7,\"\")","v":0.91999999999999993},{"$f":"IF(ROW(P65)-1<=$J$5,P$1+COUNTIF(F$2:F65,F65)*$J$7,\"\")","v":-8.0000000000000071E-2},{"$f":"IF(ROW(Q65)-1<=$J$5,Q$1+COUNTIF(G$2:G65,G65)*$J$7,\"\")","v":-1.08},{"$f":"IF(ROW(R65)-1<=$J$5,R$1+COUNTIF(H$2:H65,H65)*$J$7,\"\")","v":-2.08},{"$f":"IF(ROW(S65)-1<=$J$5,S$1+COUNTIF(I$2:I65,I65)*$J$7,\"\")","v":-3.08}]
[{"$f":"IF(ROW(A66)-1<=$J$5,IF(Foglio1!I66=\"\",-10,Foglio1!I66),\"\")","v":65},{"$f":"IF(ROW(B66)-1<=$J$5,IF(Foglio1!J66=\"\",-10,Foglio1!J66),\"\")","v":85},{"$f":"IF(ROW(C66)-1<=$J$5,IF(Foglio1!K66=\"\",-10,Foglio1!K66),\"\")","v":70},{"$f":"IF(ROW(D66)-1<=$J$5,IF(Foglio1!L66=\"\",-10,Foglio1!L66),\"\")","v":-10},{"$f":"IF(ROW(E66)-1<=$J$5,IF(Foglio1!M66=\"\",-10,Foglio1!M66),\"\")","v":-10},{"$f":"IF(ROW(F66)-1<=$J$5,IF(Foglio1!N66=\"\",-10,Foglio1!N66),\"\")","v":-10},{"$f":"IF(ROW(G66)-1<=$J$5,IF(Foglio1!O66=\"\",-10,Foglio1!O66),\"\")","v":-10},{"$f":"IF(ROW(H66)-1<=$J$5,IF(Foglio1!P66=\"\",-10,Foglio1!P66),\"\")","v":-10},{"$f":"IF(ROW(I66)-1<=$J$5,IF(Foglio1!Q66=\"\",-10,Foglio1!Q66),\"\")","v":-10},null,{"$f":"IF(ROW(K66)-1<=$J$5,K$1+COUNTIF(A$2:A66,A66)*$J$7,\"\")","v":3.03},{"$f":"IF(ROW(L66)-1<=$J$5,L$1+COUNTIF(B$2:B66,B66)*$J$7,\"\")","v":2.06},{"$f":"IF(ROW(M66)-1<=$J$5,M$1+COUNTIF(C$2:C66,C66)*$J$7,\"\")","v":1.1200000000000001},{"$f":"IF(ROW(N66)-1<=$J$5,N$1+COUNTIF(D$2:D66,D66)*$J$7,\"\")","v":1.77},{"$f":"IF(ROW(O66)-1<=$J$5,O$1+COUNTIF(E$2:E66,E66)*$J$7,\"\")","v":0.95},{"$f":"IF(ROW(P66)-1<=$J$5,P$1+COUNTIF(F$2:F66,F66)*$J$7,\"\")","v":-5.0000000000000044E-2},{"$f":"IF(ROW(Q66)-1<=$J$5,Q$1+COUNTIF(G$2:G66,G66)*$J$7,\"\")","v":-1.05},{"$f":"IF(ROW(R66)-1<=$J$5,R$1+COUNTIF(H$2:H66,H66)*$J$7,\"\")","v":-2.0499999999999998},{"$f":"IF(ROW(S66)-1<=$J$5,S$1+COUNTIF(I$2:I66,I66)*$J$7,\"\")","v":-3.05}]
[{"$f":"IF(ROW(A67)-1<=$J$5,IF(Foglio1!I67=\"\",-10,Foglio1!I67),\"\")","v":58},{"$f":"IF(ROW(B67)-1<=$J$5,IF(Foglio1!J67=\"\",-10,Foglio1!J67),\"\")","v":71},{"$f":"IF(ROW(C67)-1<=$J$5,IF(Foglio1!K67=\"\",-10,Foglio1!K67),\"\")","v":0},{"$f":"IF(ROW(D67)-1<=$J$5,IF(Foglio1!L67=\"\",-10,Foglio1!L67),\"\")","v":-10},{"$f":"IF(ROW(E67)-1<=$J$5,IF(Foglio1!M67=\"\",-10,Foglio1!M67),\"\")","v":-10},{"$f":"IF(ROW(F67)-1<=$J$5,IF(Foglio1!N67=\"\",-10,Foglio1!N67),\"\")","v":-10},{"$f":"IF(ROW(G67)-1<=$J$5,IF(Foglio1!O67=\"\",-10,Foglio1!O67),\"\")","v":-10},{"$f":"IF(ROW(H67)-1<=$J$5,IF(Foglio1!P67=\"\",-10,Foglio1!P67),\"\")","v":-10},{"$f":"IF(ROW(I67)-1<=$J$5,IF(Foglio1!Q67=\"\",-10,Foglio1!Q67),\"\")","v":-10},null,{"$f":"IF(ROW(K67)-1<=$J$5,K$1+COUNTIF(A$2:A67,A67)*$J$7,\"\")","v":3.03},{"$f":"IF(ROW(L67)-1<=$J$5,L$1+COUNTIF(B$2:B67,B67)*$J$7,\"\")","v":2.0299999999999998},{"$f":"IF(ROW(M67)-1<=$J$5,M$1+COUNTIF(C$2:C67,C67)*$J$7,\"\")","v":1.1499999999999999},{"$f":"IF(ROW(N67)-1<=$J$5,N$1+COUNTIF(D$2:D67,D67)*$J$7,\"\")","v":1.7999999999999998},{"$f":"IF(ROW(O67)-1<=$J$5,O$1+COUNTIF(E$2:E67,E67)*$J$7,\"\")","v":0.98},{"$f":"IF(ROW(P67)-1<=$J$5,P$1+COUNTIF(F$2:F67,F67)*$J$7,\"\")","v":-2.0000000000000018E-2},{"$f":"IF(ROW(Q67)-1<=$J$5,Q$1+COUNTIF(G$2:G67,G67)*$J$7,\"\")","v":-1.02},{"$f":"IF(ROW(R67)-1<=$J$5,R$1+COUNTIF(H$2:H67,H67)*$J$7,\"\")","v":-2.02},{"$f":"IF(ROW(S67)-1<=$J$5,S$1+COUNTIF(I$2:I67,I67)*$J$7,\"\")","v":-3.02}]
[{"$f":"IF(ROW(A68)-1<=$J$5,IF(Foglio1!I68=\"\",-10,Foglio1!I68),\"\")","v":-10},{"$f":"IF(ROW(B68)-1<=$J$5,IF(Foglio1!J68=\"\",-10,Foglio1!J68),\"\")","v":-10},{"$f":"IF(ROW(C68)-1<=$J$5,IF(Foglio1!K68=\"\",-10,Foglio1!K68),\"\")","v":-10},{"$f":"IF(ROW(D68)-1<=$J$5,IF(Foglio1!L68=\"\",-10,Foglio1!L68),\"\")","v":-10},{"$f":"IF(ROW(E68)-1<=$J$5,IF(Foglio1!M68=\"\",-10,Foglio1!M68),\"\")","v":-10},{"$f":"IF(ROW(F68)-1<=$J$5,IF(Foglio1!N68=\"\",-10,Foglio1!N68),\"\")","v":-10},{"$f":"IF(ROW(G68)-1<=$J$5,IF(Foglio1!O68=\"\",-10,Foglio1!O68),\"\")","v":-10},{"$f":"IF(ROW(H68)-1<=$J$5,IF(Foglio1!P68=\"\",-10,Foglio1!P68),\"\")","v":-10},{"$f":"IF(ROW(I68)-1<=$J$5,IF(Foglio1!Q68=\"\",-10,Foglio1!Q68),\"\")","v":-10},null,{"$f":"IF(ROW(K68)-1<=$J$5,K$1+COUNTIF(A$2:A68,A68)*$J$7,\"\")","v":3.48},{"$f":"IF(ROW(L68)-1<=$J$5,L$1+COUNTIF(B$2:B68,B68)*$J$7,\"\")","v":2.5099999999999998},{"$f":"IF(ROW(M68)-1<=$J$5,M$1+COUNTIF(C$2:C68,C68)*$J$7,\"\")","v":2.2000000000000002},{"$f":"IF(ROW(N68)-1<=$J$5,N$1+COUNTIF(D$2:D68,D68)*$J$7,\"\")","v":1.8299999999999998},{"$f":"IF(ROW(O68)-1<=$J$5,O$1+COUNTIF(E$2:E68,E68)*$J$7,\"\")","v":1.0099999999999998},{"$f":"IF(ROW(P68)-1<=$J$5,P$1+COUNTIF(F$2:F68,F68)*$J$7,\"\")","v":9.9999999999997868E-3},{"$f":"IF(ROW(Q68)-1<=$J$5,Q$1+COUNTIF(G$2:G68,G68)*$J$7,\"\")","v":-0.99000000000000021},{"$f":"IF(ROW(R68)-1<=$J$5,R$1+COUNTIF(H$2:H68,H68)*$J$7,\"\")","v":-1.9900000000000002},{"$f":"IF(ROW(S68)-1<=$J$5,S$1+COUNTIF(I$2:I68,I68)*$J$7,\"\")","v":-2.99}]
[{"$f":"IF(ROW(A69)-1<=$J$5,IF(Foglio1!I69=\"\",-10,Foglio1!I69),\"\")","v":80},{"$f":"IF(ROW(B69)-1<=$J$5,IF(Foglio1!J69=\"\",-10,Foglio1!J69),\"\")","v":90},{"$f":"IF(ROW(C69)-1<=$J$5,IF(Foglio1!K69=\"\",-10,Foglio1!K69),\"\")","v":20},{"$f":"IF(ROW(D69)-1<=$J$5,IF(Foglio1!L69=\"\",-10,Foglio1!L69),\"\")","v":-10},{"$f":"IF(ROW(E69)-1<=$J$5,IF(Foglio1!M69=\"\",-10,Foglio1!M69),\"\")","v":-10},{"$f":"IF(ROW(F69)-1<=$J$5,IF(Foglio1!N69=\"\",-10,Foglio1!N69),\"\")","v":-10},{"$f":"IF(ROW(G69)-1<=$J$5,IF(Foglio1!O69=\"\",-10,Foglio1!O69),\"\")","v":-10},{"$f":"IF(ROW(H69)-1<=$J$5,IF(Foglio1!P69=\"\",-10,Foglio1!P69),\"\")","v":-10},{"$f":"IF(ROW(I69)-1<=$J$5,IF(Foglio1!Q69=\"\",-10,Foglio1!Q69),\"\")","v":-10},null,{"$f":"IF(ROW(K69)-1<=$J$5,K$1+COUNTIF(A$2:A69,A69)*$J$7,\"\")","v":3.42},{"$f":"IF(ROW(L69)-1<=$J$5,L$1+COUNTIF(B$2:B69,B69)*$J$7,\"\")","v":2.2999999999999998},{"$f":"IF(ROW(M69)-1<=$J$5,M$1+COUNTIF(C$2:C69,C69)*$J$7,\"\")","v":1.0900000000000001},{"$f":"IF(ROW(N69)-1<=$J$5,N$1+COUNTIF(D$2:D69,D69)*$J$7,\"\")","v":1.8599999999999999},{"$f":"IF(ROW(O69)-1<=$J$5,O$1+COUNTIF(E$2:E69,E69)*$J$7,\"\")","v":1.04},{"$f":"IF(ROW(P69)-1<=$J$5,P$1+COUNTIF(F$2:F69,F69)*$J$7,\"\")","v":4.0000000000000036E-2},{"$f":"IF(ROW(Q69)-1<=$J$5,Q$1+COUNTIF(G$2:G69,G69)*$J$7,\"\")","v":-0.96},{"$f":"IF(ROW(R69)-1<=$J$5,R$1+COUNTIF(H$2:H69,H69)*$J$7,\"\")","v":-1.96},{"$f":"IF(ROW(S69)-1<=$J$5,S$1+COUNTIF(I$2:I69,I69)*$J$7,\"\")","v":-2.96}]
[{"$f":"IF(ROW(A70)-1<=$J$5,IF(Foglio1!I70=\"\",-10,Foglio1!I70),\"\")","v":90},{"$f":"IF(ROW(B70)-1<=$J$5,IF(Foglio1!J70=\"\",-10,Foglio1!J70),\"\")","v":80},{"$f":"IF(ROW(C70)-1<=$J$5,IF(Foglio1!K70=\"\",-10,Foglio1!K70),\"\")","v":80},{"$f":"IF(ROW(D70)-1<=$J$5,IF(Foglio1!L70=\"\",-10,Foglio1!L70),\"\")","v":-10},{"$f":"IF(ROW(E70)-1<=$J$5,IF(Foglio1!M70=\"\",-10,Foglio1!M70),\"\")","v":-10},{"$f":"IF(ROW(F70)-1<=$J$5,IF(Foglio1!N70=\"\",-10,Foglio1!N70),\"\")","v":-10},{"$f":"IF(ROW(G70)-1<=$J$5,IF(Foglio1!O70=\"\",-10,Foglio1!O70),\"\")","v":-10},{"$f":"IF(ROW(H70)-1<=$J$5,IF(Foglio1!P70=\"\",-10,Foglio1!P70),\"\")","v":-10},{"$f":"IF(ROW(I70)-1<=$J$5,IF(Foglio1!Q70=\"\",-10,Foglio1!Q70),\"\")","v":-10},null,{"$f":"IF(ROW(K70)-1<=$J$5,K$1+COUNTIF(A$2:A70,A70)*$J$7,\"\")","v":3.18},{"$f":"IF(ROW(L70)-1<=$J$5,L$1+COUNTIF(B$2:B70,B70)*$J$7,\"\")","v":2.36},{"$f":"IF(ROW(M70)-1<=$J$5,M$1+COUNTIF(C$2:C70,C70)*$J$7,\"\")","v":1.0900000000000001},{"$f":"IF(ROW(N70)-1<=$J$5,N$1+COUNTIF(D$2:D70,D70)*$J$7,\"\")","v":1.89},{"$f":"IF(ROW(O70)-1<=$J$5,O$1+COUNTIF(E$2:E70,E70)*$J$7,\"\")","v":1.0699999999999998},{"$f":"IF(ROW(P70)-1<=$J$5,P$1+COUNTIF(F$2:F70,F70)*$J$7,\"\")","v":6.999999999999984E-2},{"$f":"IF(ROW(Q70)-1<=$J$5,Q$1+COUNTIF(G$2:G70,G70)*$J$7,\"\")","v":-0.93000000000000016},{"$f":"IF(ROW(R70)-1<=$J$5,R$1+COUNTIF(H$2:H70,H70)*$J$7,\"\")","v":-1.9300000000000002},{"$f":"IF(ROW(S70)-1<=$J$5,S$1+COUNTIF(I$2:I70,I70)*$J$7,\"\")","v":-2.93}]
[{"$f":"IF(ROW(A71)-1<=$J$5,IF(Foglio1!I71=\"\",-10,Foglio1!I71),\"\")","v":40},{"$f":"IF(ROW(B71)-1<=$J$5,IF(Foglio1!J71=\"\",-10,Foglio1!J71),\"\")","v":60},{"$f":"IF(ROW(C71)-1<=$J$5,IF(Foglio1!K71=\"\",-10,Foglio1!K71),\"\")","v":60},{"$f":"IF(ROW(D71)-1<=$J$5,IF(Foglio1!L71=\"\",-10,Foglio1!L71),\"\")","v":-10},{"$f":"IF(ROW(E71)-1<=$J$5,IF(Foglio1!M71=\"\",-10,Foglio1!M71),\"\")","v":-10},{"$f":"IF(ROW(F71)-1<=$J$5,IF(Foglio1!N71=\"\",-10,Foglio1!N71),\"\")","v":-10},{"$f":"IF(ROW(G71)-1<=$J$5,IF(Foglio1!O71=\"\",-10,Foglio1!O71),\"\")","v":-10},{"$f":"IF(ROW(H71)-1<=$J$5,IF(Foglio1!P71=\"\",-10,Foglio1!P71),\"\")","v":-10},{"$f":"IF(ROW(I71)-1<=$J$5,IF(Foglio1!Q71=\"\",-10,Foglio1!Q71),\"\")","v":-10},null,{"$f":"IF(ROW(K71)-1<=$J$5,K$1+COUNTIF(A$2:A71,A71)*$J$7,\"\")","v":3.06},{"$f":"IF(ROW(L71)-1<=$J$5,L$1+COUNTIF(B$2:B71,B71)*$J$7,\"\")","v":2.09},{"$f":"IF(ROW(M71)-1<=$J$5,M$1+COUNTIF(C$2:C71,C71)*$J$7,\"\")","v":1.1200000000000001},{"$f":"IF(ROW(N71)-1<=$J$5,N$1+COUNTIF(D$2:D71,D71)*$J$7,\"\")","v":1.92},{"$f":"IF(ROW(O71)-1<=$J$5,O$1+COUNTIF(E$2:E71,E71)*$J$7,\"\")","v":1.1000000000000001},{"$f":"IF(ROW(P71)-1<=$J$5,P$1+COUNTIF(F$2:F71,F71)*$J$7,\"\")","v":0.10000000000000009},{"$f":"IF(ROW(Q71)-1<=$J$5,Q$1+COUNTIF(G$2:G71,G71)*$J$7,\"\")","v":-0.89999999999999991},{"$f":"IF(ROW(R71)-1<=$J$5,R$1+COUNTIF(H$2:H71,H71)*$J$7,\"\")","v":-1.9},{"$f":"IF(ROW(S71)-1<=$J$5,S$1+COUNTIF(I$2:I71,I71)*$J$7,\"\")","v":-2.9}]
[{"$f":"IF(ROW(A72)-1<=$J$5,IF(Foglio1!I72=\"\",-10,Foglio1!I72),\"\")","v":70},{"$f":"IF(ROW(B72)-1<=$J$5,IF(Foglio1!J72=\"\",-10,Foglio1!J72),\"\")","v":90},{"$f":"IF(ROW(C72)-1<=$J$5,IF(Foglio1!K72=\"\",-10,Foglio1!K72),\"\")","v":60},{"$f":"IF(ROW(D72)-1<=$J$5,IF(Foglio1!L72=\"\",-10,Foglio1!L72),\"\")","v":-10},{"$f":"IF(ROW(E72)-1<=$J$5,IF(Foglio1!M72=\"\",-10,Foglio1!M72),\"\")","v":-10},{"$f":"IF(ROW(F72)-1<=$J$5,IF(Foglio1!N72=\"\",-10,Foglio1!N72),\"\")","v":-10},{"$f":"IF(ROW(G72)-1<=$J$5,IF(Foglio1!O72=\"\",-10,Foglio1!O72),\"\")","v":-10},{"$f":"IF(ROW(H72)-1<=$J$5,IF(Foglio1!P72=\"\",-10,Foglio1!P72),\"\")","v":-10},{"$f":"IF(ROW(I72)-1<=$J$5,IF(Foglio1!Q72=\"\",-10,Foglio1!Q72),\"\")","v":-10},null,{"$f":"IF(ROW(K72)-1<=$J$5,K$1+COUNTIF(A$2:A72,A72)*$J$7,\"\")","v":3.24},{"$f":"IF(ROW(L72)-1<=$J$5,L$1+COUNTIF(B$2:B72,B72)*$J$7,\"\")","v":2.33},{"$f":"IF(ROW(M72)-1<=$J$5,M$1+COUNTIF(C$2:C72,C72)*$J$7,\"\")","v":1.1499999999999999},{"$f":"IF(ROW(N72)-1<=$J$5,N$1+COUNTIF(D$2:D72,D72)*$J$7,\"\")","v":1.95},{"$f":"IF(ROW(O72)-1<=$J$5,O$1+COUNTIF(E$2:E72,E72)*$J$7,\"\")","v":1.1299999999999999},{"$f":"IF(ROW(P72)-1<=$J$5,P$1+COUNTIF(F$2:F72,F72)*$J$7,\"\")","v":0.12999999999999989},{"$f":"IF(ROW(Q72)-1<=$J$5,Q$1+COUNTIF(G$2:G72,G72)*$J$7,\"\")","v":-0.87000000000000011},{"$f":"IF(ROW(R72)-1<=$J$5,R$1+COUNTIF(H$2:H72,H72)*$J$7,\"\")","v":-1.87},{"$f":"IF(ROW(S72)-1<=$J$5,S$1+COUNTIF(I$2:I72,I72)*$J$7,\"\")","v":-2.87}]
[{"$f":"IF(ROW(A73)-1<=$J$5,IF(Foglio1!I73=\"\",-10,Foglio1!I73),\"\")","v":-10},{"$f":"IF(ROW(B73)-1<=$J$5,IF(Foglio1!J73=\"\",-10,Foglio1!J73),\"\")","v":-10},{"$f":"IF(ROW(C73)-1<=$J$5,IF(Foglio1!K73=\"\",-10,Foglio1!K73),\"\")","v":-10},{"$f":"IF(ROW(D73)-1<=$J$5,IF(Foglio1!L73=\"\",-10,Foglio1!L73),\"\")","v":-10},{"$f":"IF(ROW(E73)-1<=$J$5,IF(Foglio1!M73=\"\",-10,Foglio1!M73),\"\")","v":-10},{"$f":"IF(ROW(F73)-1<=$J$5,IF(Foglio1!N73=\"\",-10,Foglio1!N73),\"\")","v":-10},{"$f":"IF(ROW(G73)-1<=$J$5,IF(Foglio1!O73=\"\",-10,Foglio1!O73),\"\")","v":-10},{"$f":"IF(ROW(H73)-1<=$J$5,IF(Foglio1!P73=\"\",-10,Foglio1!P73),\"\")","v":-10},{"$f":"IF(ROW(I73)-1<=$J$5,IF(Foglio1!Q73=\"\",-10,Foglio1!Q73),\"\")","v":-10},null,{"$f":"IF(ROW(K73)-1<=$J$5,K$1+COUNTIF(A$2:A73,A73)*$J$7,\"\")","v":3.51},{"$f":"IF(ROW(L73)-1<=$J$5,L$1+COUNTIF(B$2:B73,B73)*$J$7,\"\")","v":2.54},{"$f":"IF(ROW(M73)-1<=$J$5,M$1+COUNTIF(C$2:C73,C73)*$J$7,\"\")","v":2.23},{"$f":"IF(ROW(N73)-1<=$J$5,N$1+COUNTIF(D$2:D73,D73)*$J$7,\"\")","v":1.98},{"$f":"IF(ROW(O73)-1<=$J$5,O$1+COUNTIF(E$2:E73,E73)*$J$7,\"\")","v":1.1600000000000001},{"$f":"IF(ROW(P73)-1<=$J$5,P$1+COUNTIF(F$2:F73,F73)*$J$7,\"\")","v":0.16000000000000014},{"$f":"IF(ROW(Q73)-1<=$J$5,Q$1+COUNTIF(G$2:G73,G73)*$J$7,\"\")","v":-0.83999999999999986},{"$f":"IF(ROW(R73)-1<=$J$5,R$1+COUNTIF(H$2:H73,H73)*$J$7,\"\")","v":-1.8399999999999999},{"$f":"IF(ROW(S73)-1<=$J$5,S$1+COUNTIF(I$2:I73,I73)*$J$7,\"\")","v":-2.84}]
[{"$f":"IF(ROW(A74)-1<=$J$5,IF(Foglio1!I74=\"\",-10,Foglio1!I74),\"\")","v":80},{"$f":"IF(ROW(B74)-1<=$J$5,IF(Foglio1!J74=\"\",-10,Foglio1!J74),\"\")","v":80},{"$f":"IF(ROW(C74)-1<=$J$5,IF(Foglio1!K74=\"\",-10,Foglio1!K74),\"\")","v":60},{"$f":"IF(ROW(D74)-1<=$J$5,IF(Foglio1!L74=\"\",-10,Foglio1!L74),\"\")","v":-10},{"$f":"IF(ROW(E74)-1<=$J$5,IF(Foglio1!M74=\"\",-10,Foglio1!M74),\"\")","v":-10},{"$f":"IF(ROW(F74)-1<=$J$5,IF(Foglio1!N74=\"\",-10,Foglio1!N74),\"\")","v":-10},{"$f":"IF(ROW(G74)-1<=$J$5,IF(Foglio1!O74=\"\",-10,Foglio1!O74),\"\")","v":-10},{"$f":"IF(ROW(H74)-1<=$J$5,IF(Foglio1!P74=\"\",-10,Foglio1!P74),\"\")","v":-10},{"$f":"IF(ROW(I74)-1<=$J$5,IF(Foglio1!Q74=\"\",-10,Foglio1!Q74),\"\")","v":-10},null,{"$f":"IF(ROW(K74)-1<=$J$5,K$1+COUNTIF(A$2:A74,A74)*$J$7,\"\")","v":3.45},{"$f":"IF(ROW(L74)-1<=$J$5,L$1+COUNTIF(B$2:B74,B74)*$J$7,\"\")","v":2.39},{"$f":"IF(ROW(M74)-1<=$J$5,M$1+COUNTIF(C$2:C74,C74)*$J$7,\"\")","v":1.18},{"$f":"IF(ROW(N74)-1<=$J$5,N$1+COUNTIF(D$2:D74,D74)*$J$7,\"\")","v":2.0099999999999998},{"$f":"IF(ROW(O74)-1<=$J$5,O$1+COUNTIF(E$2:E74,E74)*$J$7,\"\")","v":1.19},{"$f":"IF(ROW(P74)-1<=$J$5,P$1+COUNTIF(F$2:F74,F74)*$J$7,\"\")","v":0.18999999999999995},{"$f":"IF(ROW(Q74)-1<=$J$5,Q$1+COUNTIF(G$2:G74,G74)*$J$7,\"\")","v":-0.81},{"$f":"IF(ROW(R74)-1<=$J$5,R$1+COUNTIF(H$2:H74,H74)*$J$7,\"\")","v":-1.81},{"$f":"IF(ROW(S74)-1<=$J$5,S$1+COUNTIF(I$2:I74,I74)*$J$7,\"\")","v":-2.81}]
[{"$f":"IF(ROW(A75)-1<=$J$5,IF(Foglio1!I75=\"\",-10,Foglio1!I75),\"\")","v":25},{"$f":"IF(ROW(B75)-1<=$J$5,IF(Foglio1!J75=\"\",-10,Foglio1!J75),\"\")","v":40},{"$f":"IF(ROW(C75)-1<=$J$5,IF(Foglio1!K75=\"\",-10,Foglio1!K75),\"\")","v":-10},{"$f":"IF(ROW(D75)-1<=$J$5,IF(Foglio1!L75=\"\",-10,Foglio1!L75),\"\")","v":-10},{"$f":"IF(ROW(E75)-1<=$J$5,IF(Foglio1!M75=\"\",-10,Foglio1!M75),\"\")","v":-10},{"$f":"IF(ROW(F75)-1<=$J$5,IF(Foglio1!N75=\"\",-10,Foglio1!N75),\"\")","v":-10},{"$f":"IF(ROW(G75)-1<=$J$5,IF(Foglio1!O75=\"\",-10,Foglio1!O75),\"\")","v":-10},{"$f":"IF(ROW(H75)-1<=$J$5,IF(Foglio1!P75=\"\",-10,Foglio1!P75),\"\")","v":-10},{"$f":"IF(ROW(I75)-1<=$J$5,IF(Foglio1!Q75=\"\",-10,Foglio1!Q75),\"\")","v":-10},null,{"$f":"IF(ROW(K75)-1<=$J$5,K$1+COUNTIF(A$2:A75,A75)*$J$7,\"\")","v":3.03},{"$f":"IF(ROW(L75)-1<=$J$5,L$1+COUNTIF(B$2:B75,B75)*$J$7,\"\")","v":2.0299999999999998},{"$f":"IF(ROW(M75)-1<=$J$5,M$1+COUNTIF(C$2:C75,C75)*$J$7,\"\")","v":2.2599999999999998},{"$f":"IF(ROW(N75)-1<=$J$5,N$1+COUNTIF(D$2:D75,D75)*$J$7,\"\")","v":2.04},{"$f":"IF(ROW(O75)-1<=$J$5,O$1+COUNTIF(E$2:E75,E75)*$J$7,\"\")","v":1.2199999999999998},{"$f":"IF(ROW(P75)-1<=$J$5,P$1+COUNTIF(F$2:F75,F75)*$J$7,\"\")","v":0.21999999999999975},{"$f":"IF(ROW(Q75)-1<=$J$5,Q$1+COUNTIF(G$2:G75,G75)*$J$7,\"\")","v":-0.78000000000000025},{"$f":"IF(ROW(R75)-1<=$J$5,R$1+COUNTIF(H$2:H75,H75)*$J$7,\"\")","v":-1.7800000000000002},{"$f":"IF(ROW(S75)-1<=$J$5,S$1+COUNTIF(I$2:I75,I75)*$J$7,\"\")","v":-2.7800000000000002}]
[{"$f":"IF(ROW(A76)-1<=$J$5,IF(Foglio1!I76=\"\",-10,Foglio1!I76),\"\")","v":-10},{"$f":"IF(ROW(B76)-1<=$J$5,IF(Foglio1!J76=\"\",-10,Foglio1!J76),\"\")","v":-10},{"$f":"IF(ROW(C76)-1<=$J$5,IF(Foglio1!K76=\"\",-10,Foglio1!K76),\"\")","v":-10},{"$f":"IF(ROW(D76)-1<=$J$5,IF(Foglio1!L76=\"\",-10,Foglio1!L76),\"\")","v":-10},{"$f":"IF(ROW(E76)-1<=$J$5,IF(Foglio1!M76=\"\",-10,Foglio1!M76),\"\")","v":-10},{"$f":"IF(ROW(F76)-1<=$J$5,IF(Foglio1!N76=\"\",-10,Foglio1!N76),\"\")","v":-10},{"$f":"IF(ROW(G76)-1<=$J$5,IF(Foglio1!O76=\"\",-10,Foglio1!O76),\"\")","v":-10},{"$f":"IF(ROW(H76)-1<=$J$5,IF(Foglio1!P76=\"\",-10,Foglio1!P76),\"\")","v":-10},{"$f":"IF(ROW(I76)-1<=$J$5,IF(Foglio1!Q76=\"\",-10,Foglio1!Q76),\"\")","v":-10},null,{"$f":"IF(ROW(K76)-1<=$J$5,K$1+COUNTIF(A$2:A76,A76)*$J$7,\"\")","v":3.54},{"$f":"IF(ROW(L76)-1<=$J$5,L$1+COUNTIF(B$2:B76,B76)*$J$7,\"\")","v":2.57},{"$f":"IF(ROW(M76)-1<=$J$5,M$1+COUNTIF(C$2:C76,C76)*$J$7,\"\")","v":2.29},{"$f":"IF(ROW(N76)-1<=$J$5,N$1+COUNTIF(D$2:D76,D76)*$J$7,\"\")","v":2.0699999999999998},{"$f":"IF(ROW(O76)-1<=$J$5,O$1+COUNTIF(E$2:E76,E76)*$J$7,\"\")","v":1.25},{"$f":"IF(ROW(P76)-1<=$J$5,P$1+COUNTIF(F$2:F76,F76)*$J$7,\"\")","v":0.25},{"$f":"IF(ROW(Q76)-1<=$J$5,Q$1+COUNTIF(G$2:G76,G76)*$J$7,\"\")","v":-0.75},{"$f":"IF(ROW(R76)-1<=$J$5,R$1+COUNTIF(H$2:H76,H76)*$J$7,\"\")","v":-1.75},{"$f":"IF(ROW(S76)-1<=$J$5,S$1+COUNTIF(I$2:I76,I76)*$J$7,\"\")","v":-2.75}]
[{"$f":"IF(ROW(A77)-1<=$J$5,IF(Foglio1!I77=\"\",-10,Foglio1!I77),\"\")","v":80},{"$f":"IF(ROW(B77)-1<=$J$5,IF(Foglio1!J77=\"\",-10,Foglio1!J77),\"\")","v":80},{"$f":"IF(ROW(C77)-1<=$J$5,IF(Foglio1!K77=\"\",-10,Foglio1!K77),\"\")","v":-10},{"$f":"IF(ROW(D77)-1<=$J$5,IF(Foglio1!L77=\"\",-10,Foglio1!L77),\"\")","v":-10},{"$f":"IF(ROW(E77)-1<=$J$5,IF(Foglio1!M77=\"\",-10,Foglio1!M77),\"\")","v":-10},{"$f":"IF(ROW(F77)-1<=$J$5,IF(Foglio1!N77=\"\",-10,Foglio1!N77),\"\")","v":-10},{"$f":"IF(ROW(G77)-1<=$J$5,IF(Foglio1!O77=\"\",-10,Foglio1!O77),\"\")","v":-10},{"$f":"IF(ROW(H77)-1<=$J$5,IF(Foglio1!P77=\"\",-10,Foglio1!P77),\"\")","v":-10},{"$f":"IF(ROW(I77)-1<=$J$5,IF(Foglio1!Q77=\"\",-10,Foglio1!Q77),\"\")","v":-10},null,{"$f":"IF(ROW(K77)-1<=$J$5,K$1+COUNTIF(A$2:A77,A77)*$J$7,\"\")","v":3.48},{"$f":"IF(ROW(L77)-1<=$J$5,L$1+COUNTIF(B$2:B77,B77)*$J$7,\"\")","v":2.42},{"$f":"IF(ROW(M77)-1<=$J$5,M$1+COUNTIF(C$2:C77,C77)*$J$7,\"\")","v":2.3199999999999998},{"$f":"IF(ROW(N77)-1<=$J$5,N$1+COUNTIF(D$2:D77,D77)*$J$7,\"\")","v":2.1},{"$f":"IF(ROW(O77)-1<=$J$5,O$1+COUNTIF(E$2:E77,E77)*$J$7,\"\")","v":1.2799999999999998},{"$f":"IF(ROW(P77)-1<=$J$5,P$1+COUNTIF(F$2:F77,F77)*$J$7,\"\")","v":0.2799999999999998},{"$f":"IF(ROW(Q77)-1<=$J$5,Q$1+COUNTIF(G$2:G77,G77)*$J$7,\"\")","v":-0.7200000000000002},{"$f":"IF(ROW(R77)-1<=$J$5,R$1+COUNTIF(H$2:H77,H77)*$J$7,\"\")","v":-1.7200000000000002},{"$f":"IF(ROW(S77)-1<=$J$5,S$1+COUNTIF(I$2:I77,I77)*$J$7,\"\")","v":-2.72}]
[{"$f":"IF(ROW(A78)-1<=$J$5,IF(Foglio1!I78=\"\",-10,Foglio1!I78),\"\")","v":-10},{"$f":"IF(ROW(B78)-1<=$J$5,IF(Foglio1!J78=\"\",-10,Foglio1!J78),\"\")","v":-10},{"$f":"IF(ROW(C78)-1<=$J$5,IF(Foglio1!K78=\"\",-10,Foglio1!K78),\"\")","v":-10},{"$f":"IF(ROW(D78)-1<=$J$5,IF(Foglio1!L78=\"\",-10,Foglio1!L78),\"\")","v":-10},{"$f":"IF(ROW(E78)-1<=$J$5,IF(Foglio1!M78=\"\",-10,Foglio1!M78),\"\")","v":-10},{"$f":"IF(ROW(F78)-1<=$J$5,IF(Foglio1!N78=\"\",-10,Foglio1!N78),\"\")","v":-10},{"$f":"IF(ROW(G78)-1<=$J$5,IF(Foglio1!O78=\"\",-10,Foglio1!O78),\"\")","v":-10},{"$f":"IF(ROW(H78)-1<=$J$5,IF(Foglio1!P78=\"\",-10,Foglio1!P78),\"\")","v":-10},{"$f":"IF(ROW(I78)-1<=$J$5,IF(Foglio1!Q78=\"\",-10,Foglio1!Q78),\"\")","v":-10},null,{"$f":"IF(ROW(K78)-1<=$J$5,K$1+COUNTIF(A$2:A78,A78)*$J$7,\"\")","v":3.57},{"$f":"IF(ROW(L78)-1<=$J$5,L$1+COUNTIF(B$2:B78,B78)*$J$7,\"\")","v":2.6},{"$f":"IF(ROW(M78)-1<=$J$5,M$1+COUNTIF(C$2:C78,C78)*$J$7,\"\")","v":2.3499999999999996},{"$f":"IF(ROW(N78)-1<=$J$5,N$1+COUNTIF(D$2:D78,D78)*$J$7,\"\")","v":2.13},{"$f":"IF(ROW(O78)-1<=$J$5,O$1+COUNTIF(E$2:E78,E78)*$J$7,\"\")","v":1.31},{"$f":"IF(ROW(P78)-1<=$J$5,P$1+COUNTIF(F$2:F78,F78)*$J$7,\"\")","v":0.31000000000000005},{"$f":"IF(ROW(Q78)-1<=$J$5,Q$1+COUNTIF(G$2:G78,G78)*$J$7,\"\")","v":-0.69},{"$f":"IF(ROW(R78)-1<=$J$5,R$1+COUNTIF(H$2:H78,H78)*$J$7,\"\")","v":-1.69},{"$f":"IF(ROW(S78)-1<=$J$5,S$1+COUNTIF(I$2:I78,I78)*$J$7,\"\")","v":-2.69}]
[{"$f":"IF(ROW(A79)-1<=$J$5,IF(Foglio1!I79=\"\",-10,Foglio1!I79),\"\")","v":100},{"$f":"IF(ROW(B79)-1<=$J$5,IF(Foglio1!J79=\"\",-10,Foglio1!J79),\"\")","v":100},{"$f":"IF(ROW(C79)-1<=$J$5,IF(Foglio1!K79=\"\",-10,Foglio1!K79),\"\")","v":-10},{"$f":"IF(ROW(D79)-1<=$J$5,IF(Foglio1!L79=\"\",-10,Foglio1!L79),\"\")","v":-10},{"$f":"IF(ROW(E79)-1<=$J$5,IF(Foglio1!M79=\"\",-10,Foglio1!M79),\"\")","v":-10},{"$f":"IF(ROW(F79)-1<=$J$5,IF(Foglio1!N79=\"\",-10,Foglio1!N79),\"\")","v":-10},{"$f":"IF(ROW(G79)-1<=$J$5,IF(Foglio1!O79=\"\",-10,Foglio1!O79),\"\")","v":-10},{"$f":"IF(ROW(H79)-1<=$J$5,IF(Foglio1!P79=\"\",-10,Foglio1!P79),\"\")","v":-10},{"$f":"IF(ROW(I79)-1<=$J$5,IF(Foglio1!Q79=\"\",-10,Foglio1!Q79),\"\")","v":-10},null,{"$f":"IF(ROW(K79)-1<=$J$5,K$1+COUNTIF(A$2:A79,A79)*$J$7,\"\")","v":3.24},{"$f":"IF(ROW(L79)-1<=$J$5,L$1+COUNTIF(B$2:B79,B79)*$J$7,\"\")","v":2.48},{"$f":"IF(ROW(M79)-1<=$J$5,M$1+COUNTIF(C$2:C79,C79)*$J$7,\"\")","v":2.38},{"$f":"IF(ROW(N79)-1<=$J$5,N$1+COUNTIF(D$2:D79,D79)*$J$7,\"\")","v":2.16},{"$f":"IF(ROW(O79)-1<=$J$5,O$1+COUNTIF(E$2:E79,E79)*$J$7,\"\")","v":1.3399999999999999},{"$f":"IF(ROW(P79)-1<=$J$5,P$1+COUNTIF(F$2:F79,F79)*$J$7,\"\")","v":0.33999999999999986},{"$f":"IF(ROW(Q79)-1<=$J$5,Q$1+COUNTIF(G$2:G79,G79)*$J$7,\"\")","v":-0.66000000000000014},{"$f":"IF(ROW(R79)-1<=$J$5,R$1+COUNTIF(H$2:H79,H79)*$J$7,\"\")","v":-1.6600000000000001},{"$f":"IF(ROW(S79)-1<=$J$5,S$1+COUNTIF(I$2:I79,I79)*$J$7,\"\")","v":-2.66}]
[{"$f":"IF(ROW(A80)-1<=$J$5,IF(Foglio1!I80=\"\",-10,Foglio1!I80),\"\")","v":80},{"$f":"IF(ROW(B80)-1<=$J$5,IF(Foglio1!J80=\"\",-10,Foglio1!J80),\"\")","v":40},{"$f":"IF(ROW(C80)-1<=$J$5,IF(Foglio1!K80=\"\",-10,Foglio1!K80),\"\")","v":60},{"$f":"IF(ROW(D80)-1<=$J$5,IF(Foglio1!L80=\"\",-10,Foglio1!L80),\"\")","v":-10},{"$f":"IF(ROW(E80)-1<=$J$5,IF(Foglio1!M80=\"\",-10,Foglio1!M80),\"\")","v":-10},{"$f":"IF(ROW(F80)-1<=$J$5,IF(Foglio1!N80=\"\",-10,Foglio1!N80),\"\")","v":-10},{"$f":"IF(ROW(G80)-1<=$J$5,IF(Foglio1!O80=\"\",-10,Foglio1!O80),\"\")","v":-10},{"$f":"IF(ROW(H80)-1<=$J$5,IF(Foglio1!P80=\"\",-10,Foglio1!P80),\"\")","v":-10},{"$f":"IF(ROW(I80)-1<=$J$5,IF(Foglio1!Q80=\"\",-10,Foglio1!Q80),\"\")","v":-10},null,{"$f":"IF(ROW(K80)-1<=$J$5,K$1+COUNTIF(A$2:A80,A80)*$J$7,\"\")","v":3.51},{"$f":"IF(ROW(L80)-1<=$J$5,L$1+COUNTIF(B$2:B80,B80)*$J$7,\"\")","v":2.06},{"$f":"IF(ROW(M80)-1<=$J$5,M$1+COUNTIF(C$2:C80,C80)*$J$7,\"\")","v":1.21},{"$f":"IF(ROW(N80)-1<=$J$5,N$1+COUNTIF(D$2:D80,D80)*$J$7,\"\")","v":2.19},{"$f":"IF(ROW(O80)-1<=$J$5,O$1+COUNTIF(E$2:E80,E80)*$J$7,\"\")","v":1.37},{"$f":"IF(ROW(P80)-1<=$J$5,P$1+COUNTIF(F$2:F80,F80)*$J$7,\"\")","v":0.37000000000000011},{"$f":"IF(ROW(Q80)-1<=$J$5,Q$1+COUNTIF(G$2:G80,G80)*$J$7,\"\")","v":-0.62999999999999989},{"$f":"IF(ROW(R80)-1<=$J$5,R$1+COUNTIF(H$2:H80,H80)*$J$7,\"\")","v":-1.63},{"$f":"IF(ROW(S80)-1<=$J$5,S$1+COUNTIF(I$2:I80,I80)*$J$7,\"\")","v":-2.63}]
[{"$f":"IF(ROW(A81)-1<=$J$5,IF(Foglio1!I81=\"\",-10,Foglio1!I81),\"\")","v":-10},{"$f":"IF(ROW(B81)-1<=$J$5,IF(Foglio1!J81=\"\",-10,Foglio1!J81),\"\")","v":-10},{"$f":"IF(ROW(C81)-1<=$J$5,IF(Foglio1!K81=\"\",-10,Foglio1!K81),\"\")","v":-10},{"$f":"IF(ROW(D81)-1<=$J$5,IF(Foglio1!L81=\"\",-10,Foglio1!L81),\"\")","v":-10},{"$f":"IF(ROW(E81)-1<=$J$5,IF(Foglio1!M81=\"\",-10,Foglio1!M81),\"\")","v":-10},{"$f":"IF(ROW(F81)-1<=$J$5,IF(Foglio1!N81=\"\",-10,Foglio1!N81),\"\")","v":-10},{"$f":"IF(ROW(G81)-1<=$J$5,IF(Foglio1!O81=\"\",-10,Foglio1!O81),\"\")","v":-10},{"$f":"IF(ROW(H81)-1<=$J$5,IF(Foglio1!P81=\"\",-10,Foglio1!P81),\"\")","v":-10},{"$f":"IF(ROW(I81)-1<=$J$5,IF(Foglio1!Q81=\"\",-10,Foglio1!Q81),\"\")","v":-10},null,{"$f":"IF(ROW(K81)-1<=$J$5,K$1+COUNTIF(A$2:A81,A81)*$J$7,\"\")","v":3.6},{"$f":"IF(ROW(L81)-1<=$J$5,L$1+COUNTIF(B$2:B81,B81)*$J$7,\"\")","v":2.63},{"$f":"IF(ROW(M81)-1<=$J$5,M$1+COUNTIF(C$2:C81,C81)*$J$7,\"\")","v":2.41},{"$f":"IF(ROW(N81)-1<=$J$5,N$1+COUNTIF(D$2:D81,D81)*$J$7,\"\")","v":2.2199999999999998},{"$f":"IF(ROW(O81)-1<=$J$5,O$1+COUNTIF(E$2:E81,E81)*$J$7,\"\")","v":1.4},{"$f":"IF(ROW(P81)-1<=$J$5,P$1+COUNTIF(F$2:F81,F81)*$J$7,\"\")","v":0.39999999999999991},{"$f":"IF(ROW(Q81)-1<=$J$5,Q$1+COUNTIF(G$2:G81,G81)*$J$7,\"\")","v":-0.60000000000000009},{"$f":"IF(ROW(R81)-1<=$J$5,R$1+COUNTIF(H$2:H81,H81)*$J$7,\"\")","v":-1.6},{"$f":"IF(ROW(S81)-1<=$J$5,S$1+COUNTIF(I$2:I81,I81)*$J$7,\"\")","v":-2.6}]
[{"$f":"IF(ROW(A82)-1<=$J$5,IF(Foglio1!I82=\"\",-10,Foglio1!I82),\"\")","v":-10},{"$f":"IF(ROW(B82)-1<=$J$5,IF(Foglio1!J82=\"\",-10,Foglio1!J82),\"\")","v":-10},{"$f":"IF(ROW(C82)-1<=$J$5,IF(Foglio1!K82=\"\",-10,Foglio1!K82),\"\")","v":-10},{"$f":"IF(ROW(D82)-1<=$J$5,IF(Foglio1!L82=\"\",-10,Foglio1!L82),\"\")","v":-10},{"$f":"IF(ROW(E82)-1<=$J$5,IF(Foglio1!M82=\"\",-10,Foglio1!M82),\"\")","v":-10},{"$f":"IF(ROW(F82)-1<=$J$5,IF(Foglio1!N82=\"\",-10,Foglio1!N82),\"\")","v":-10},{"$f":"IF(ROW(G82)-1<=$J$5,IF(Foglio1!O82=\"\",-10,Foglio1!O82),\"\")","v":-10},{"$f":"IF(ROW(H82)-1<=$J$5,IF(Foglio1!P82=\"\",-10,Foglio1!P82),\"\")","v":-10},{"$f":"IF(ROW(I82)-1<=$J$5,IF(Foglio1!Q82=\"\",-10,Foglio1!Q82),\"\")","v":-10},null,{"$f":"IF(ROW(K82)-1<=$J$5,K$1+COUNTIF(A$2:A82,A82)*$J$7,\"\")","v":3.63},{"$f":"IF(ROW(L82)-1<=$J$5,L$1+COUNTIF(B$2:B82,B82)*$J$7,\"\")","v":2.66},{"$f":"IF(ROW(M82)-1<=$J$5,M$1+COUNTIF(C$2:C82,C82)*$J$7,\"\")","v":2.44},{"$f":"IF(ROW(N82)-1<=$J$5,N$1+COUNTIF(D$2:D82,D82)*$J$7,\"\")","v":2.25},{"$f":"IF(ROW(O82)-1<=$J$5,O$1+COUNTIF(E$2:E82,E82)*$J$7,\"\")","v":1.4299999999999997},{"$f":"IF(ROW(P82)-1<=$J$5,P$1+COUNTIF(F$2:F82,F82)*$J$7,\"\")","v":0.42999999999999972},{"$f":"IF(ROW(Q82)-1<=$J$5,Q$1+COUNTIF(G$2:G82,G82)*$J$7,\"\")","v":-0.57000000000000028},{"$f":"IF(ROW(R82)-1<=$J$5,R$1+COUNTIF(H$2:H82,H82)*$J$7,\"\")","v":-1.5700000000000003},{"$f":"IF(ROW(S82)-1<=$J$5,S$1+COUNTIF(I$2:I82,I82)*$J$7,\"\")","v":-2.5700000000000003}]
[{"$f":"IF(ROW(A83)-1<=$J$5,IF(Foglio1!I83=\"\",-10,Foglio1!I83),\"\")","v":70},{"$f":"IF(ROW(B83)-1<=$J$5,IF(Foglio1!J83=\"\",-10,Foglio1!J83),\"\")","v":80},{"$f":"IF(ROW(C83)-1<=$J$5,IF(Foglio1!K83=\"\",-10,Foglio1!K83),\"\")","v":40},{"$f":"IF(ROW(D83)-1<=$J$5,IF(Foglio1!L83=\"\",-10,Foglio1!L83),\"\")","v":-10},{"$f":"IF(ROW(E83)-1<=$J$5,IF(Foglio1!M83=\"\",-10,Foglio1!M83),\"\")","v":-10},{"$f":"IF(ROW(F83)-1<=$J$5,IF(Foglio1!N83=\"\",-10,Foglio1!N83),\"\")","v":-10},{"$f":"IF(ROW(G83)-1<=$J$5,IF(Foglio1!O83=\"\",-10,Foglio1!O83),\"\")","v":-10},{"$f":"IF(ROW(H83)-1<=$J$5,IF(Foglio1!P83=\"\",-10,Foglio1!P83),\"\")","v":-10},{"$f":"IF(ROW(I83)-1<=$J$5,IF(Foglio1!Q83=\"\",-10,Foglio1!Q83),\"\")","v":-10},null,{"$f":"IF(ROW(K83)-1<=$J$5,K$1+COUNTIF(A$2:A83,A83)*$J$7,\"\")","v":3.27},{"$f":"IF(ROW(L83)-1<=$J$5,L$1+COUNTIF(B$2:B83,B83)*$J$7,\"\")","v":2.4500000000000002},{"$f":"IF(ROW(M83)-1<=$J$5,M$1+COUNTIF(C$2:C83,C83)*$J$7,\"\")","v":1.06},{"$f":"IF(ROW(N83)-1<=$J$5,N$1+COUNTIF(D$2:D83,D83)*$J$7,\"\")","v":2.2799999999999998},{"$f":"IF(ROW(O83)-1<=$J$5,O$1+COUNTIF(E$2:E83,E83)*$J$7,\"\")","v":1.46},{"$f":"IF(ROW(P83)-1<=$J$5,P$1+COUNTIF(F$2:F83,F83)*$J$7,\"\")","v":0.45999999999999996},{"$f":"IF(ROW(Q83)-1<=$J$5,Q$1+COUNTIF(G$2:G83,G83)*$J$7,\"\")","v":-0.54},{"$f":"IF(ROW(R83)-1<=$J$5,R$1+COUNTIF(H$2:H83,H83)*$J$7,\"\")","v":-1.54},{"$f":"IF(ROW(S83)-1<=$J$5,S$1+COUNTIF(I$2:I83,I83)*$J$7,\"\")","v":-2.54}]
[{"$f":"IF(ROW(A84)-1<=$J$5,IF(Foglio1!I84=\"\",-10,Foglio1!I84),\"\")","v":80},{"$f":"IF(ROW(B84)-1<=$J$5,IF(Foglio1!J84=\"\",-10,Foglio1!J84),\"\")","v":80},{"$f":"IF(ROW(C84)-1<=$J$5,IF(Foglio1!K84=\"\",-10,Foglio1!K84),\"\")","v":-10},{"$f":"IF(ROW(D84)-1<=$J$5,IF(Foglio1!L84=\"\",-10,Foglio1!L84),\"\")","v":-10},{"$f":"IF(ROW(E84)-1<=$J$5,IF(Foglio1!M84=\"\",-10,Foglio1!M84),\"\")","v":-10},{"$f":"IF(ROW(F84)-1<=$J$5,IF(Foglio1!N84=\"\",-10,Foglio1!N84),\"\")","v":-10},{"$f":"IF(ROW(G84)-1<=$J$5,IF(Foglio1!O84=\"\",-10,Foglio1!O84),\"\")","v":-10},{"$f":"IF(ROW(H84)-1<=$J$5,IF(Foglio1!P84=\"\",-10,Foglio1!P84),\"\")","v":-10},{"$f":"IF(ROW(I84)-1<=$J$5,IF(Foglio1!Q84=\"\",-10,Foglio1!Q84),\"\")","v":-10},null,{"$f":"IF(ROW(K84)-1<=$J$5,K$1+COUNTIF(A$2:A84,A84)*$J$7,\"\")","v":3.54},{"$f":"IF(ROW(L84)-1<=$J$5,L$1+COUNTIF(B$2:B84,B84)*$J$7,\"\")","v":2.48},{"$f":"IF(ROW(M84)-1<=$J$5,M$1+COUNTIF(C$2:C84,C84)*$J$7,\"\")","v":2.4699999999999998},{"$f":"IF(ROW(N84)-1<=$J$5,N$1+COUNTIF(D$2:D84,D84)*$J$7,\"\")","v":2.31},{"$f":"IF(ROW(O84)-1<=$J$5,O$1+COUNTIF(E$2:E84,E84)*$J$7,\"\")","v":1.4899999999999998},{"$f":"IF(ROW(P84)-1<=$J$5,P$1+COUNTIF(F$2:F84,F84)*$J$7,\"\")","v":0.48999999999999977},{"$f":"IF(ROW(Q84)-1<=$J$5,Q$1+COUNTIF(G$2:G84,G84)*$J$7,\"\")","v":-0.51000000000000023},{"$f":"IF(ROW(R84)-1<=$J$5,R$1+COUNTIF(H$2:H84,H84)*$J$7,\"\")","v":-1.5100000000000002},{"$f":"IF(ROW(S84)-1<=$J$5,S$1+COUNTIF(I$2:I84,I84)*$J$7,\"\")","v":-2.5100000000000002}]
[{"$f":"IF(ROW(A85)-1<=$J$5,IF(Foglio1!I85=\"\",-10,Foglio1!I85),\"\")","v":85},{"$f":"IF(ROW(B85)-1<=$J$5,IF(Foglio1!J85=\"\",-10,Foglio1!J85),\"\")","v":85},{"$f":"IF(ROW(C85)-1<=$J$5,IF(Foglio1!K85=\"\",-10,Foglio1!K85),\"\")","v":85},{"$f":"IF(ROW(D85)-1<=$J$5,IF(Foglio1!L85=\"\",-10,Foglio1!L85),\"\")","v":-10},{"$f":"IF(ROW(E85)-1<=$J$5,IF(Foglio1!M85=\"\",-10,Foglio1!M85),\"\")","v":-10},{"$f":"IF(ROW(F85)-1<=$J$5,IF(Foglio1!N85=\"\",-10,Foglio1!N85),\"\")","v":-10},{"$f":"IF(ROW(G85)-1<=$J$5,IF(Foglio1!O85=\"\",-10,Foglio1!O85),\"\")","v":-10},{"$f":"IF(ROW(H85)-1<=$J$5,IF(Foglio1!P85=\"\",-10,Foglio1!P85),\"\")","v":-10},{"$f":"IF(ROW(I85)-1<=$J$5,IF(Foglio1!Q85=\"\",-10,Foglio1!Q85),\"\")","v":-10},null,{"$f":"IF(ROW(K85)-1<=$J$5,K$1+COUNTIF(A$2:A85,A85)*$J$7,\"\")","v":3.06},{"$f":"IF(ROW(L85)-1<=$J$5,L$1+COUNTIF(B$2:B85,B85)*$J$7,\"\")","v":2.09},{"$f":"IF(ROW(M85)-1<=$J$5,M$1+COUNTIF(C$2:C85,C85)*$J$7,\"\")","v":1.03},{"$f":"IF(ROW(N85)-1<=$J$5,N$1+COUNTIF(D$2:D85,D85)*$J$7,\"\")","v":2.34},{"$f":"IF(ROW(O85)-1<=$J$5,O$1+COUNTIF(E$2:E85,E85)*$J$7,\"\")","v":1.52},{"$f":"IF(ROW(P85)-1<=$J$5,P$1+COUNTIF(F$2:F85,F85)*$J$7,\"\")","v":0.52},{"$f":"IF(ROW(Q85)-1<=$J$5,Q$1+COUNTIF(G$2:G85,G85)*$J$7,\"\")","v":-0.48},{"$f":"IF(ROW(R85)-1<=$J$5,R$1+COUNTIF(H$2:H85,H85)*$J$7,\"\")","v":-1.48},{"$f":"IF(ROW(S85)-1<=$J$5,S$1+COUNTIF(I$2:I85,I85)*$J$7,\"\")","v":-2.48}]
[{"$f":"IF(ROW(A86)-1<=$J$5,IF(Foglio1!I86=\"\",-10,Foglio1!I86),\"\")","v":70},{"$f":"IF(ROW(B86)-1<=$J$5,IF(Foglio1!J86=\"\",-10,Foglio1!J86),\"\")","v":80},{"$f":"IF(ROW(C86)-1<=$J$5,IF(Foglio1!K86=\"\",-10,Foglio1!K86),\"\")","v":60},{"$f":"IF(ROW(D86)-1<=$J$5,IF(Foglio1!L86=\"\",-10,Foglio1!L86),\"\")","v":-10},{"$f":"IF(ROW(E86)-1<=$J$5,IF(Foglio1!M86=\"\",-10,Foglio1!M86),\"\")","v":-10},{"$f":"IF(ROW(F86)-1<=$J$5,IF(Foglio1!N86=\"\",-10,Foglio1!N86),\"\")","v":-10},{"$f":"IF(ROW(G86)-1<=$J$5,IF(Foglio1!O86=\"\",-10,Foglio1!O86),\"\")","v":-10},{"$f":"IF(ROW(H86)-1<=$J$5,IF(Foglio1!P86=\"\",-10,Foglio1!P86),\"\")","v":-10},{"$f":"IF(ROW(I86)-1<=$J$5,IF(Foglio1!Q86=\"\",-10,Foglio1!Q86),\"\")","v":-10},null,{"$f":"IF(ROW(K86)-1<=$J$5,K$1+COUNTIF(A$2:A86,A86)*$J$7,\"\")","v":3.3},{"$f":"IF(ROW(L86)-1<=$J$5,L$1+COUNTIF(B$2:B86,B86)*$J$7,\"\")","v":2.5099999999999998},{"$f":"IF(ROW(M86)-1<=$J$5,M$1+COUNTIF(C$2:C86,C86)*$J$7,\"\")","v":1.24},{"$f":"IF(ROW(N86)-1<=$J$5,N$1+COUNTIF(D$2:D86,D86)*$J$7,\"\")","v":2.37},{"$f":"IF(ROW(O86)-1<=$J$5,O$1+COUNTIF(E$2:E86,E86)*$J$7,\"\")","v":1.5499999999999998},{"$f":"IF(ROW(P86)-1<=$J$5,P$1+COUNTIF(F$2:F86,F86)*$J$7,\"\")","v":0.54999999999999982},{"$f":"IF(ROW(Q86)-1<=$J$5,Q$1+COUNTIF(G$2:G86,G86)*$J$7,\"\")","v":-0.45000000000000018},{"$f":"IF(ROW(R86)-1<=$J$5,R$1+COUNTIF(H$2:H86,H86)*$J$7,\"\")","v":-1.4500000000000002},{"$f":"IF(ROW(S86)-1<=$J$5,S$1+COUNTIF(I$2:I86,I86)*$J$7,\"\")","v":-2.4500000000000002}]
[{"$f":"IF(ROW(A87)-1<=$J$5,IF(Foglio1!I87=\"\",-10,Foglio1!I87),\"\")","v":60},{"$f":"IF(ROW(B87)-1<=$J$5,IF(Foglio1!J87=\"\",-10,Foglio1!J87),\"\")","v":80},{"$f":"IF(ROW(C87)-1<=$J$5,IF(Foglio1!K87=\"\",-10,Foglio1!K87),\"\")","v":60},{"$f":"IF(ROW(D87)-1<=$J$5,IF(Foglio1!L87=\"\",-10,Foglio1!L87),\"\")","v":-10},{"$f":"IF(ROW(E87)-1<=$J$5,IF(Foglio1!M87=\"\",-10,Foglio1!M87),\"\")","v":-10},{"$f":"IF(ROW(F87)-1<=$J$5,IF(Foglio1!N87=\"\",-10,Foglio1!N87),\"\")","v":-10},{"$f":"IF(ROW(G87)-1<=$J$5,IF(Foglio1!O87=\"\",-10,Foglio1!O87),\"\")","v":-10},{"$f":"IF(ROW(H87)-1<=$J$5,IF(Foglio1!P87=\"\",-10,Foglio1!P87),\"\")","v":-10},{"$f":"IF(ROW(I87)-1<=$J$5,IF(Foglio1!Q87=\"\",-10,Foglio1!Q87),\"\")","v":-10},null,{"$f":"IF(ROW(K87)-1<=$J$5,K$1+COUNTIF(A$2:A87,A87)*$J$7,\"\")","v":3.12},{"$f":"IF(ROW(L87)-1<=$J$5,L$1+COUNTIF(B$2:B87,B87)*$J$7,\"\")","v":2.54},{"$f":"IF(ROW(M87)-1<=$J$5,M$1+COUNTIF(C$2:C87,C87)*$J$7,\"\")","v":1.27},{"$f":"IF(ROW(N87)-1<=$J$5,N$1+COUNTIF(D$2:D87,D87)*$J$7,\"\")","v":2.4},{"$f":"IF(ROW(O87)-1<=$J$5,O$1+COUNTIF(E$2:E87,E87)*$J$7,\"\")","v":1.58},{"$f":"IF(ROW(P87)-1<=$J$5,P$1+COUNTIF(F$2:F87,F87)*$J$7,\"\")","v":0.58000000000000007},{"$f":"IF(ROW(Q87)-1<=$J$5,Q$1+COUNTIF(G$2:G87,G87)*$J$7,\"\")","v":-0.41999999999999993},{"$f":"IF(ROW(R87)-1<=$J$5,R$1+COUNTIF(H$2:H87,H87)*$J$7,\"\")","v":-1.42},{"$f":"IF(ROW(S87)-1<=$J$5,S$1+COUNTIF(I$2:I87,I87)*$J$7,\"\")","v":-2.42}]
[{"$f":"IF(ROW(A88)-1<=$J$5,IF(Foglio1!I88=\"\",-10,Foglio1!I88),\"\")","v":-10},{"$f":"IF(ROW(B88)-1<=$J$5,IF(Foglio1!J88=\"\",-10,Foglio1!J88),\"\")","v":-10},{"$f":"IF(ROW(C88)-1<=$J$5,IF(Foglio1!K88=\"\",-10,Foglio1!K88),\"\")","v":-10},{"$f":"IF(ROW(D88)-1<=$J$5,IF(Foglio1!L88=\"\",-10,Foglio1!L88),\"\")","v":-10},{"$f":"IF(ROW(E88)-1<=$J$5,IF(Foglio1!M88=\"\",-10,Foglio1!M88),\"\")","v":-10},{"$f":"IF(ROW(F88)-1<=$J$5,IF(Foglio1!N88=\"\",-10,Foglio1!N88),\"\")","v":-10},{"$f":"IF(ROW(G88)-1<=$J$5,IF(Foglio1!O88=\"\",-10,Foglio1!O88),\"\")","v":-10},{"$f":"IF(ROW(H88)-1<=$J$5,IF(Foglio1!P88=\"\",-10,Foglio1!P88),\"\")","v":-10},{"$f":"IF(ROW(I88)-1<=$J$5,IF(Foglio1!Q88=\"\",-10,Foglio1!Q88),\"\")","v":-10},null,{"$f":"IF(ROW(K88)-1<=$J$5,K$1+COUNTIF(A$2:A88,A88)*$J$7,\"\")","v":3.66},{"$f":"IF(ROW(L88)-1<=$J$5,L$1+COUNTIF(B$2:B88,B88)*$J$7,\"\")","v":2.69},{"$f":"IF(ROW(M88)-1<=$J$5,M$1+COUNTIF(C$2:C88,C88)*$J$7,\"\")","v":2.5},{"$f":"IF(ROW(N88)-1<=$J$5,N$1+COUNTIF(D$2:D88,D88)*$J$7,\"\")","v":2.4299999999999997},{"$f":"IF(ROW(O88)-1<=$J$5,O$1+COUNTIF(E$2:E88,E88)*$J$7,\"\")","v":1.6099999999999999},{"$f":"IF(ROW(P88)-1<=$J$5,P$1+COUNTIF(F$2:F88,F88)*$J$7,\"\")","v":0.60999999999999988},{"$f":"IF(ROW(Q88)-1<=$J$5,Q$1+COUNTIF(G$2:G88,G88)*$J$7,\"\")","v":-0.39000000000000012},{"$f":"IF(ROW(R88)-1<=$J$5,R$1+COUNTIF(H$2:H88,H88)*$J$7,\"\")","v":-1.3900000000000001},{"$f":"IF(ROW(S88)-1<=$J$5,S$1+COUNTIF(I$2:I88,I88)*$J$7,\"\")","v":-2.39}]
[{"$f":"IF(ROW(A89)-1<=$J$5,IF(Foglio1!I89=\"\",-10,Foglio1!I89),\"\")","v":-10},{"$f":"IF(ROW(B89)-1<=$J$5,IF(Foglio1!J89=\"\",-10,Foglio1!J89),\"\")","v":-10},{"$f":"IF(ROW(C89)-1<=$J$5,IF(Foglio1!K89=\"\",-10,Foglio1!K89),\"\")","v":-10},{"$f":"IF(ROW(D89)-1<=$J$5,IF(Foglio1!L89=\"\",-10,Foglio1!L89),\"\")","v":-10},{"$f":"IF(ROW(E89)-1<=$J$5,IF(Foglio1!M89=\"\",-10,Foglio1!M89),\"\")","v":-10},{"$f":"IF(ROW(F89)-1<=$J$5,IF(Foglio1!N89=\"\",-10,Foglio1!N89),\"\")","v":-10},{"$f":"IF(ROW(G89)-1<=$J$5,IF(Foglio1!O89=\"\",-10,Foglio1!O89),\"\")","v":-10},{"$f":"IF(ROW(H89)-1<=$J$5,IF(Foglio1!P89=\"\",-10,Foglio1!P89),\"\")","v":-10},{"$f":"IF(ROW(I89)-1<=$J$5,IF(Foglio1!Q89=\"\",-10,Foglio1!Q89),\"\")","v":-10},null,{"$f":"IF(ROW(K89)-1<=$J$5,K$1+COUNTIF(A$2:A89,A89)*$J$7,\"\")","v":3.69},{"$f":"IF(ROW(L89)-1<=$J$5,L$1+COUNTIF(B$2:B89,B89)*$J$7,\"\")","v":2.7199999999999998},{"$f":"IF(ROW(M89)-1<=$J$5,M$1+COUNTIF(C$2:C89,C89)*$J$7,\"\")","v":2.5300000000000002},{"$f":"IF(ROW(N89)-1<=$J$5,N$1+COUNTIF(D$2:D89,D89)*$J$7,\"\")","v":2.46},{"$f":"IF(ROW(O89)-1<=$J$5,O$1+COUNTIF(E$2:E89,E89)*$J$7,\"\")","v":1.6399999999999997},{"$f":"IF(ROW(P89)-1<=$J$5,P$1+COUNTIF(F$2:F89,F89)*$J$7,\"\")","v":0.63999999999999968},{"$f":"IF(ROW(Q89)-1<=$J$5,Q$1+COUNTIF(G$2:G89,G89)*$J$7,\"\")","v":-0.36000000000000032},{"$f":"IF(ROW(R89)-1<=$J$5,R$1+COUNTIF(H$2:H89,H89)*$J$7,\"\")","v":-1.3600000000000003},{"$f":"IF(ROW(S89)-1<=$J$5,S$1+COUNTIF(I$2:I89,I89)*$J$7,\"\")","v":-2.3600000000000003}]
[{"$f":"IF(ROW(A90)-1<=$J$5,IF(Foglio1!I90=\"\",-10,Foglio1!I90),\"\")","v":10},{"$f":"IF(ROW(B90)-1<=$J$5,IF(Foglio1!J90=\"\",-10,Foglio1!J90),\"\")","v":70},{"$f":"IF(ROW(C90)-1<=$J$5,IF(Foglio1!K90=\"\",-10,Foglio1!K90),\"\")","v":80},{"$f":"IF(ROW(D90)-1<=$J$5,IF(Foglio1!L90=\"\",-10,Foglio1!L90),\"\")","v":-10},{"$f":"IF(ROW(E90)-1<=$J$5,IF(Foglio1!M90=\"\",-10,Foglio1!M90),\"\")","v":-10},{"$f":"IF(ROW(F90)-1<=$J$5,IF(Foglio1!N90=\"\",-10,Foglio1!N90),\"\")","v":-10},{"$f":"IF(ROW(G90)-1<=$J$5,IF(Foglio1!O90=\"\",-10,Foglio1!O90),\"\")","v":-10},{"$f":"IF(ROW(H90)-1<=$J$5,IF(Foglio1!P90=\"\",-10,Foglio1!P90),\"\")","v":-10},{"$f":"IF(ROW(I90)-1<=$J$5,IF(Foglio1!Q90=\"\",-10,Foglio1!Q90),\"\")","v":-10},null,{"$f":"IF(ROW(K90)-1<=$J$5,K$1+COUNTIF(A$2:A90,A90)*$J$7,\"\")","v":3.06},{"$f":"IF(ROW(L90)-1<=$J$5,L$1+COUNTIF(B$2:B90,B90)*$J$7,\"\")","v":2.15},{"$f":"IF(ROW(M90)-1<=$J$5,M$1+COUNTIF(C$2:C90,C90)*$J$7,\"\")","v":1.1200000000000001},{"$f":"IF(ROW(N90)-1<=$J$5,N$1+COUNTIF(D$2:D90,D90)*$J$7,\"\")","v":2.4899999999999998},{"$f":"IF(ROW(O90)-1<=$J$5,O$1+COUNTIF(E$2:E90,E90)*$J$7,\"\")","v":1.67},{"$f":"IF(ROW(P90)-1<=$J$5,P$1+COUNTIF(F$2:F90,F90)*$J$7,\"\")","v":0.66999999999999993},{"$f":"IF(ROW(Q90)-1<=$J$5,Q$1+COUNTIF(G$2:G90,G90)*$J$7,\"\")","v":-0.33000000000000007},{"$f":"IF(ROW(R90)-1<=$J$5,R$1+COUNTIF(H$2:H90,H90)*$J$7,\"\")","v":-1.33},{"$f":"IF(ROW(S90)-1<=$J$5,S$1+COUNTIF(I$2:I90,I90)*$J$7,\"\")","v":-2.33}]
[{"$f":"IF(ROW(A91)-1<=$J$5,IF(Foglio1!I91=\"\",-10,Foglio1!I91),\"\")","v":-10},{"$f":"IF(ROW(B91)-1<=$J$5,IF(Foglio1!J91=\"\",-10,Foglio1!J91),\"\")","v":-10},{"$f":"IF(ROW(C91)-1<=$J$5,IF(Foglio1!K91=\"\",-10,Foglio1!K91),\"\")","v":-10},{"$f":"IF(ROW(D91)-1<=$J$5,IF(Foglio1!L91=\"\",-10,Foglio1!L91),\"\")","v":-10},{"$f":"IF(ROW(E91)-1<=$J$5,IF(Foglio1!M91=\"\",-10,Foglio1!M91),\"\")","v":-10},{"$f":"IF(ROW(F91)-1<=$J$5,IF(Foglio1!N91=\"\",-10,Foglio1!N91),\"\")","v":-10},{"$f":"IF(ROW(G91)-1<=$J$5,IF(Foglio1!O91=\"\",-10,Foglio1!O91),\"\")","v":-10},{"$f":"IF(ROW(H91)-1<=$J$5,IF(Foglio1!P91=\"\",-10,Foglio1!P91),\"\")","v":-10},{"$f":"IF(ROW(I91)-1<=$J$5,IF(Foglio1!Q91=\"\",-10,Foglio1!Q91),\"\")","v":-10},null,{"$f":"IF(ROW(K91)-1<=$J$5,K$1+COUNTIF(A$2:A91,A91)*$J$7,\"\")","v":3.7199999999999998},{"$f":"IF(ROW(L91)-1<=$J$5,L$1+COUNTIF(B$2:B91,B91)*$J$7,\"\")","v":2.75},{"$f":"IF(ROW(M91)-1<=$J$5,M$1+COUNTIF(C$2:C91,C91)*$J$7,\"\")","v":2.56},{"$f":"IF(ROW(N91)-1<=$J$5,N$1+COUNTIF(D$2:D91,D91)*$J$7,\"\")","v":2.52},{"$f":"IF(ROW(O91)-1<=$J$5,O$1+COUNTIF(E$2:E91,E91)*$J$7,\"\")","v":1.6999999999999997},{"$f":"IF(ROW(P91)-1<=$J$5,P$1+COUNTIF(F$2:F91,F91)*$J$7,\"\")","v":0.69999999999999973},{"$f":"IF(ROW(Q91)-1<=$J$5,Q$1+COUNTIF(G$2:G91,G91)*$J$7,\"\")","v":-0.30000000000000027},{"$f":"IF(ROW(R91)-1<=$J$5,R$1+COUNTIF(H$2:H91,H91)*$J$7,\"\")","v":-1.3000000000000003},{"$f":"IF(ROW(S91)-1<=$J$5,S$1+COUNTIF(I$2:I91,I91)*$J$7,\"\")","v":-2.3000000000000003}]
[{"$f":"IF(ROW(A92)-1<=$J$5,IF(Foglio1!I92=\"\",-10,Foglio1!I92),\"\")","v":-10},{"$f":"IF(ROW(B92)-1<=$J$5,IF(Foglio1!J92=\"\",-10,Foglio1!J92),\"\")","v":-10},{"$f":"IF(ROW(C92)-1<=$J$5,IF(Foglio1!K92=\"\",-10,Foglio1!K92),\"\")","v":-10},{"$f":"IF(ROW(D92)-1<=$J$5,IF(Foglio1!L92=\"\",-10,Foglio1!L92),\"\")","v":-10},{"$f":"IF(ROW(E92)-1<=$J$5,IF(Foglio1!M92=\"\",-10,Foglio1!M92),\"\")","v":-10},{"$f":"IF(ROW(F92)-1<=$J$5,IF(Foglio1!N92=\"\",-10,Foglio1!N92),\"\")","v":-10},{"$f":"IF(ROW(G92)-1<=$J$5,IF(Foglio1!O92=\"\",-10,Foglio1!O92),\"\")","v":-10},{"$f":"IF(ROW(H92)-1<=$J$5,IF(Foglio1!P92=\"\",-10,Foglio1!P92),\"\")","v":-10},{"$f":"IF(ROW(I92)-1<=$J$5,IF(Foglio1!Q92=\"\",-10,Foglio1!Q92),\"\")","v":-10},null,{"$f":"IF(ROW(K92)-1<=$J$5,K$1+COUNTIF(A$2:A92,A92)*$J$7,\"\")","v":3.75},{"$f":"IF(ROW(L92)-1<=$J$5,L$1+COUNTIF(B$2:B92,B92)*$J$7,\"\")","v":2.7800000000000002},{"$f":"IF(ROW(M92)-1<=$J$5,M$1+COUNTIF(C$2:C92,C92)*$J$7,\"\")","v":2.59},{"$f":"IF(ROW(N92)-1<=$J$5,N$1+COUNTIF(D$2:D92,D92)*$J$7,\"\")","v":2.5499999999999998},{"$f":"IF(ROW(O92)-1<=$J$5,O$1+COUNTIF(E$2:E92,E92)*$J$7,\"\")","v":1.73},{"$f":"IF(ROW(P92)-1<=$J$5,P$1+COUNTIF(F$2:F92,F92)*$J$7,\"\")","v":0.73},{"$f":"IF(ROW(Q92)-1<=$J$5,Q$1+COUNTIF(G$2:G92,G92)*$J$7,\"\")","v":-0.27},{"$f":"IF(ROW(R92)-1<=$J$5,R$1+COUNTIF(H$2:H92,H92)*$J$7,\"\")","v":-1.27},{"$f":"IF(ROW(S92)-1<=$J$5,S$1+COUNTIF(I$2:I92,I92)*$J$7,\"\")","v":-2.27}]
[{"$f":"IF(ROW(A93)-1<=$J$5,IF(Foglio1!I93=\"\",-10,Foglio1!I93),\"\")","v":100},{"$f":"IF(ROW(B93)-1<=$J$5,IF(Foglio1!J93=\"\",-10,Foglio1!J93),\"\")","v":100},{"$f":"IF(ROW(C93)-1<=$J$5,IF(Foglio1!K93=\"\",-10,Foglio1!K93),\"\")","v":-10},{"$f":"IF(ROW(D93)-1<=$J$5,IF(Foglio1!L93=\"\",-10,Foglio1!L93),\"\")","v":-10},{"$f":"IF(ROW(E93)-1<=$J$5,IF(Foglio1!M93=\"\",-10,Foglio1!M93),\"\")","v":-10},{"$f":"IF(ROW(F93)-1<=$J$5,IF(Foglio1!N93=\"\",-10,Foglio1!N93),\"\")","v":-10},{"$f":"IF(ROW(G93)-1<=$J$5,IF(Foglio1!O93=\"\",-10,Foglio1!O93),\"\")","v":-10},{"$f":"IF(ROW(H93)-1<=$J$5,IF(Foglio1!P93=\"\",-10,Foglio1!P93),\"\")","v":-10},{"$f":"IF(ROW(I93)-1<=$J$5,IF(Foglio1!Q93=\"\",-10,Foglio1!Q93),\"\")","v":-10},null,{"$f":"IF(ROW(K93)-1<=$J$5,K$1+COUNTIF(A$2:A93,A93)*$J$7,\"\")","v":3.27},{"$f":"IF(ROW(L93)-1<=$J$5,L$1+COUNTIF(B$2:B93,B93)*$J$7,\"\")","v":2.5099999999999998},{"$f":"IF(ROW(M93)-1<=$J$5,M$1+COUNTIF(C$2:C93,C93)*$J$7,\"\")","v":2.62},{"$f":"IF(ROW(N93)-1<=$J$5,N$1+COUNTIF(D$2:D93,D93)*$J$7,\"\")","v":2.58},{"$f":"IF(ROW(O93)-1<=$J$5,O$1+COUNTIF(E$2:E93,E93)*$J$7,\"\")","v":1.7599999999999998},{"$f":"IF(ROW(P93)-1<=$J$5,P$1+COUNTIF(F$2:F93,F93)*$J$7,\"\")","v":0.75999999999999979},{"$f":"IF(ROW(Q93)-1<=$J$5,Q$1+COUNTIF(G$2:G93,G93)*$J$7,\"\")","v":-0.24000000000000021},{"$f":"IF(ROW(R93)-1<=$J$5,R$1+COUNTIF(H$2:H93,H93)*$J$7,\"\")","v":-1.2400000000000002},{"$f":"IF(ROW(S93)-1<=$J$5,S$1+COUNTIF(I$2:I93,I93)*$J$7,\"\")","v":-2.2400000000000002}]
[{"$f":"IF(ROW(A94)-1<=$J$5,IF(Foglio1!I94=\"\",-10,Foglio1!I94),\"\")","v":50},{"$f":"IF(ROW(B94)-1<=$J$5,IF(Foglio1!J94=\"\",-10,Foglio1!J94),\"\")","v":50},{"$f":"IF(ROW(C94)-1<=$J$5,IF(Foglio1!K94=\"\",-10,Foglio1!K94),\"\")","v":-10},{"$f":"IF(ROW(D94)-1<=$J$5,IF(Foglio1!L94=\"\",-10,Foglio1!L94),\"\")","v":-10},{"$f":"IF(ROW(E94)-1<=$J$5,IF(Foglio1!M94=\"\",-10,Foglio1!M94),\"\")","v":-10},{"$f":"IF(ROW(F94)-1<=$J$5,IF(Foglio1!N94=\"\",-10,Foglio1!N94),\"\")","v":-10},{"$f":"IF(ROW(G94)-1<=$J$5,IF(Foglio1!O94=\"\",-10,Foglio1!O94),\"\")","v":-10},{"$f":"IF(ROW(H94)-1<=$J$5,IF(Foglio1!P94=\"\",-10,Foglio1!P94),\"\")","v":-10},{"$f":"IF(ROW(I94)-1<=$J$5,IF(Foglio1!Q94=\"\",-10,Foglio1!Q94),\"\")","v":-10},null,{"$f":"IF(ROW(K94)-1<=$J$5,K$1+COUNTIF(A$2:A94,A94)*$J$7,\"\")","v":3.18},{"$f":"IF(ROW(L94)-1<=$J$5,L$1+COUNTIF(B$2:B94,B94)*$J$7,\"\")","v":2.12},{"$f":"IF(ROW(M94)-1<=$J$5,M$1+COUNTIF(C$2:C94,C94)*$J$7,\"\")","v":2.65},{"$f":"IF(ROW(N94)-1<=$J$5,N$1+COUNTIF(D$2:D94,D94)*$J$7,\"\")","v":2.61},{"$f":"IF(ROW(O94)-1<=$J$5,O$1+COUNTIF(E$2:E94,E94)*$J$7,\"\")","v":1.79},{"$f":"IF(ROW(P94)-1<=$J$5,P$1+COUNTIF(F$2:F94,F94)*$J$7,\"\")","v":0.79},{"$f":"IF(ROW(Q94)-1<=$J$5,Q$1+COUNTIF(G$2:G94,G94)*$J$7,\"\")","v":-0.20999999999999996},{"$f":"IF(ROW(R94)-1<=$J$5,R$1+COUNTIF(H$2:H94,H94)*$J$7,\"\")","v":-1.21},{"$f":"IF(ROW(S94)-1<=$J$5,S$1+COUNTIF(I$2:I94,I94)*$J$7,\"\")","v":-2.21}]
[{"$f":"IF(ROW(A95)-1<=$J$5,IF(Foglio1!I95=\"\",-10,Foglio1!I95),\"\")","v":-10},{"$f":"IF(ROW(B95)-1<=$J$5,IF(Foglio1!J95=\"\",-10,Foglio1!J95),\"\")","v":-10},{"$f":"IF(ROW(C95)-1<=$J$5,IF(Foglio1!K95=\"\",-10,Foglio1!K95),\"\")","v":-10},{"$f":"IF(ROW(D95)-1<=$J$5,IF(Foglio1!L95=\"\",-10,Foglio1!L95),\"\")","v":-10},{"$f":"IF(ROW(E95)-1<=$J$5,IF(Foglio1!M95=\"\",-10,Foglio1!M95),\"\")","v":-10},{"$f":"IF(ROW(F95)-1<=$J$5,IF(Foglio1!N95=\"\",-10,Foglio1!N95),\"\")","v":-10},{"$f":"IF(ROW(G95)-1<=$J$5,IF(Foglio1!O95=\"\",-10,Foglio1!O95),\"\")","v":-10},{"$f":"IF(ROW(H95)-1<=$J$5,IF(Foglio1!P95=\"\",-10,Foglio1!P95),\"\")","v":-10},{"$f":"IF(ROW(I95)-1<=$J$5,IF(Foglio1!Q95=\"\",-10,Foglio1!Q95),\"\")","v":-10},null,{"$f":"IF(ROW(K95)-1<=$J$5,K$1+COUNTIF(A$2:A95,A95)*$J$7,\"\")","v":3.7800000000000002},{"$f":"IF(ROW(L95)-1<=$J$5,L$1+COUNTIF(B$2:B95,B95)*$J$7,\"\")","v":2.81},{"$f":"IF(ROW(M95)-1<=$J$5,M$1+COUNTIF(C$2:C95,C95)*$J$7,\"\")","v":2.6799999999999997},{"$f":"IF(ROW(N95)-1<=$J$5,N$1+COUNTIF(D$2:D95,D95)*$J$7,\"\")","v":2.6399999999999997},{"$f":"IF(ROW(O95)-1<=$J$5,O$1+COUNTIF(E$2:E95,E95)*$J$7,\"\")","v":1.8199999999999998},{"$f":"IF(ROW(P95)-1<=$J$5,P$1+COUNTIF(F$2:F95,F95)*$J$7,\"\")","v":0.81999999999999984},{"$f":"IF(ROW(Q95)-1<=$J$5,Q$1+COUNTIF(G$2:G95,G95)*$J$7,\"\")","v":-0.18000000000000016},{"$f":"IF(ROW(R95)-1<=$J$5,R$1+COUNTIF(H$2:H95,H95)*$J$7,\"\")","v":-1.1800000000000002},{"$f":"IF(ROW(S95)-1<=$J$5,S$1+COUNTIF(I$2:I95,I95)*$J$7,\"\")","v":-2.1800000000000002}]
[{"$f":"IF(ROW(A96)-1<=$J$5,IF(Foglio1!I96=\"\",-10,Foglio1!I96),\"\")","v":80},{"$f":"IF(ROW(B96)-1<=$J$5,IF(Foglio1!J96=\"\",-10,Foglio1!J96),\"\")","v":100},{"$f":"IF(ROW(C96)-1<=$J$5,IF(Foglio1!K96=\"\",-10,Foglio1!K96),\"\")","v":-10},{"$f":"IF(ROW(D96)-1<=$J$5,IF(Foglio1!L96=\"\",-10,Foglio1!L96),\"\")","v":-10},{"$f":"IF(ROW(E96)-1<=$J$5,IF(Foglio1!M96=\"\",-10,Foglio1!M96),\"\")","v":-10},{"$f":"IF(ROW(F96)-1<=$J$5,IF(Foglio1!N96=\"\",-10,Foglio1!N96),\"\")","v":-10},{"$f":"IF(ROW(G96)-1<=$J$5,IF(Foglio1!O96=\"\",-10,Foglio1!O96),\"\")","v":-10},{"$f":"IF(ROW(H96)-1<=$J$5,IF(Foglio1!P96=\"\",-10,Foglio1!P96),\"\")","v":-10},{"$f":"IF(ROW(I96)-1<=$J$5,IF(Foglio1!Q96=\"\",-10,Foglio1!Q96),\"\")","v":-10},null,{"$f":"IF(ROW(K96)-1<=$J$5,K$1+COUNTIF(A$2:A96,A96)*$J$7,\"\")","v":3.57},{"$f":"IF(ROW(L96)-1<=$J$5,L$1+COUNTIF(B$2:B96,B96)*$J$7,\"\")","v":2.54},{"$f":"IF(ROW(M96)-1<=$J$5,M$1+COUNTIF(C$2:C96,C96)*$J$7,\"\")","v":2.71},{"$f":"IF(ROW(N96)-1<=$J$5,N$1+COUNTIF(D$2:D96,D96)*$J$7,\"\")","v":2.67},{"$f":"IF(ROW(O96)-1<=$J$5,O$1+COUNTIF(E$2:E96,E96)*$J$7,\"\")","v":1.85},{"$f":"IF(ROW(P96)-1<=$J$5,P$1+COUNTIF(F$2:F96,F96)*$J$7,\"\")","v":0.85000000000000009},{"$f":"IF(ROW(Q96)-1<=$J$5,Q$1+COUNTIF(G$2:G96,G96)*$J$7,\"\")","v":-0.14999999999999991},{"$f":"IF(ROW(R96)-1<=$J$5,R$1+COUNTIF(H$2:H96,H96)*$J$7,\"\")","v":-1.1499999999999999},{"$f":"IF(ROW(S96)-1<=$J$5,S$1+COUNTIF(I$2:I96,I96)*$J$7,\"\")","v":-2.15}]
[{"$f":"IF(ROW(A97)-1<=$J$5,IF(Foglio1!I97=\"\",-10,Foglio1!I97),\"\")","v":-10},{"$f":"IF(ROW(B97)-1<=$J$5,IF(Foglio1!J97=\"\",-10,Foglio1!J97),\"\")","v":-10},{"$f":"IF(ROW(C97)-1<=$J$5,IF(Foglio1!K97=\"\",-10,Foglio1!K97),\"\")","v":-10},{"$f":"IF(ROW(D97)-1<=$J$5,IF(Foglio1!L97=\"\",-10,Foglio1!L97),\"\")","v":-10},{"$f":"IF(ROW(E97)-1<=$J$5,IF(Foglio1!M97=\"\",-10,Foglio1!M97),\"\")","v":-10},{"$f":"IF(ROW(F97)-1<=$J$5,IF(Foglio1!N97=\"\",-10,Foglio1!N97),\"\")","v":-10},{"$f":"IF(ROW(G97)-1<=$J$5,IF(Foglio1!O97=\"\",-10,Foglio1!O97),\"\")","v":-10},{"$f":"IF(ROW(H97)-1<=$J$5,IF(Foglio1!P97=\"\",-10,Foglio1!P97),\"\")","v":-10},{"$f":"IF(ROW(I97)-1<=$J$5,IF(Foglio1!Q97=\"\",-10,Foglio1!Q97),\"\")","v":-10},null,{"$f":"IF(ROW(K97)-1<=$J$5,K$1+COUNTIF(A$2:A97,A97)*$J$7,\"\")","v":3.81},{"$f":"IF(ROW(L97)-1<=$J$5,L$1+COUNTIF(B$2:B97,B97)*$J$7,\"\")","v":2.84},{"$f":"IF(ROW(M97)-1<=$J$5,M$1+COUNTIF(C$2:C97,C97)*$J$7,\"\")","v":2.74},{"$f":"IF(ROW(N97)-1<=$J$5,N$1+COUNTIF(D$2:D97,D97)*$J$7,\"\")","v":2.6999999999999997},{"$f":"IF(ROW(O97)-1<=$J$5,O$1+COUNTIF(E$2:E97,E97)*$J$7,\"\")","v":1.88},{"$f":"IF(ROW(P97)-1<=$J$5,P$1+COUNTIF(F$2:F97,F97)*$J$7,\"\")","v":0.87999999999999989},{"$f":"IF(ROW(Q97)-1<=$J$5,Q$1+COUNTIF(G$2:G97,G97)*$J$7,\"\")","v":-0.12000000000000011},{"$f":"IF(ROW(R97)-1<=$J$5,R$1+COUNTIF(H$2:H97,H97)*$J$7,\"\")","v":-1.1200000000000001},{"$f":"IF(ROW(S97)-1<=$J$5,S$1+COUNTIF(I$2:I97,I97)*$J$7,\"\")","v":-2.12}]
[{"$f":"IF(ROW(A98)-1<=$J$5,IF(Foglio1!I98=\"\",-10,Foglio1!I98),\"\")","v":60},{"$f":"IF(ROW(B98)-1<=$J$5,IF(Foglio1!J98=\"\",-10,Foglio1!J98),\"\")","v":70},{"$f":"IF(ROW(C98)-1<=$J$5,IF(Foglio1!K98=\"\",-10,Foglio1!K98),\"\")","v":100},{"$f":"IF(ROW(D98)-1<=$J$5,IF(Foglio1!L98=\"\",-10,Foglio1!L98),\"\")","v":-10},{"$f":"IF(ROW(E98)-1<=$J$5,IF(Foglio1!M98=\"\",-10,Foglio1!M98),\"\")","v":-10},{"$f":"IF(ROW(F98)-1<=$J$5,IF(Foglio1!N98=\"\",-10,Foglio1!N98),\"\")","v":-10},{"$f":"IF(ROW(G98)-1<=$J$5,IF(Foglio1!O98=\"\",-10,Foglio1!O98),\"\")","v":-10},{"$f":"IF(ROW(H98)-1<=$J$5,IF(Foglio1!P98=\"\",-10,Foglio1!P98),\"\")","v":-10},{"$f":"IF(ROW(I98)-1<=$J$5,IF(Foglio1!Q98=\"\",-10,Foglio1!Q98),\"\")","v":-10},null,{"$f":"IF(ROW(K98)-1<=$J$5,K$1+COUNTIF(A$2:A98,A98)*$J$7,\"\")","v":3.15},{"$f":"IF(ROW(L98)-1<=$J$5,L$1+COUNTIF(B$2:B98,B98)*$J$7,\"\")","v":2.1800000000000002},{"$f":"IF(ROW(M98)-1<=$J$5,M$1+COUNTIF(C$2:C98,C98)*$J$7,\"\")","v":1.1200000000000001},{"$f":"IF(ROW(N98)-1<=$J$5,N$1+COUNTIF(D$2:D98,D98)*$J$7,\"\")","v":2.73},{"$f":"IF(ROW(O98)-1<=$J$5,O$1+COUNTIF(E$2:E98,E98)*$J$7,\"\")","v":1.9099999999999997},{"$f":"IF(ROW(P98)-1<=$J$5,P$1+COUNTIF(F$2:F98,F98)*$J$7,\"\")","v":0.9099999999999997},{"$f":"IF(ROW(Q98)-1<=$J$5,Q$1+COUNTIF(G$2:G98,G98)*$J$7,\"\")","v":-9.0000000000000302E-2},{"$f":"IF(ROW(R98)-1<=$J$5,R$1+COUNTIF(H$2:H98,H98)*$J$7,\"\")","v":-1.0900000000000003},{"$f":"IF(ROW(S98)-1<=$J$5,S$1+COUNTIF(I$2:I98,I98)*$J$7,\"\")","v":-2.0900000000000003}]
[{"$f":"IF(ROW(A99)-1<=$J$5,IF(Foglio1!I99=\"\",-10,Foglio1!I99),\"\")","v":50},{"$f":"IF(ROW(B99)-1<=$J$5,IF(Foglio1!J99=\"\",-10,Foglio1!J99),\"\")","v":70},{"$f":"IF(ROW(C99)-1<=$J$5,IF(Foglio1!K99=\"\",-10,Foglio1!K99),\"\")","v":-10},{"$f":"IF(ROW(D99)-1<=$J$5,IF(Foglio1!L99=\"\",-10,Foglio1!L99),\"\")","v":-10},{"$f":"IF(ROW(E99)-1<=$J$5,IF(Foglio1!M99=\"\",-10,Foglio1!M99),\"\")","v":-10},{"$f":"IF(ROW(F99)-1<=$J$5,IF(Foglio1!N99=\"\",-10,Foglio1!N99),\"\")","v":-10},{"$f":"IF(ROW(G99)-1<=$J$5,IF(Foglio1!O99=\"\",-10,Foglio1!O99),\"\")","v":-10},{"$f":"IF(ROW(H99)-1<=$J$5,IF(Foglio1!P99=\"\",-10,Foglio1!P99),\"\")","v":-10},{"$f":"IF(ROW(I99)-1<=$J$5,IF(Foglio1!Q99=\"\",-10,Foglio1!Q99),\"\")","v":-10},null,{"$f":"IF(ROW(K99)-1<=$J$5,K$1+COUNTIF(A$2:A99,A99)*$J$7,\"\")","v":3.21},{"$f":"IF(ROW(L99)-1<=$J$5,L$1+COUNTIF(B$2:B99,B99)*$J$7,\"\")","v":2.21},{"$f":"IF(ROW(M99)-1<=$J$5,M$1+COUNTIF(C$2:C99,C99)*$J$7,\"\")","v":2.77},{"$f":"IF(ROW(N99)-1<=$J$5,N$1+COUNTIF(D$2:D99,D99)*$J$7,\"\")","v":2.76},{"$f":"IF(ROW(O99)-1<=$J$5,O$1+COUNTIF(E$2:E99,E99)*$J$7,\"\")","v":1.94},{"$f":"IF(ROW(P99)-1<=$J$5,P$1+COUNTIF(F$2:F99,F99)*$J$7,\"\")","v":0.94},{"$f":"IF(ROW(Q99)-1<=$J$5,Q$1+COUNTIF(G$2:G99,G99)*$J$7,\"\")","v":-6.0000000000000053E-2},{"$f":"IF(ROW(R99)-1<=$J$5,R$1+COUNTIF(H$2:H99,H99)*$J$7,\"\")","v":-1.06},{"$f":"IF(ROW(S99)-1<=$J$5,S$1+COUNTIF(I$2:I99,I99)*$J$7,\"\")","v":-2.06}]
[{"$f":"IF(ROW(A100)-1<=$J$5,IF(Foglio1!I100=\"\",-10,Foglio1!I100),\"\")","v":100},{"$f":"IF(ROW(B100)-1<=$J$5,IF(Foglio1!J100=\"\",-10,Foglio1!J100),\"\")","v":100},{"$f":"IF(ROW(C100)-1<=$J$5,IF(Foglio1!K100=\"\",-10,Foglio1!K100),\"\")","v":0},{"$f":"IF(ROW(D100)-1<=$J$5,IF(Foglio1!L100=\"\",-10,Foglio1!L100),\"\")","v":-10},{"$f":"IF(ROW(E100)-1<=$J$5,IF(Foglio1!M100=\"\",-10,Foglio1!M100),\"\")","v":-10},{"$f":"IF(ROW(F100)-1<=$J$5,IF(Foglio1!N100=\"\",-10,Foglio1!N100),\"\")","v":-10},{"$f":"IF(ROW(G100)-1<=$J$5,IF(Foglio1!O100=\"\",-10,Foglio1!O100),\"\")","v":-10},{"$f":"IF(ROW(H100)-1<=$J$5,IF(Foglio1!P100=\"\",-10,Foglio1!P100),\"\")","v":-10},{"$f":"IF(ROW(I100)-1<=$J$5,IF(Foglio1!Q100=\"\",-10,Foglio1!Q100),\"\")","v":-10},null,{"$f":"IF(ROW(K100)-1<=$J$5,K$1+COUNTIF(A$2:A100,A100)*$J$7,\"\")","v":3.3},{"$f":"IF(ROW(L100)-1<=$J$5,L$1+COUNTIF(B$2:B100,B100)*$J$7,\"\")","v":2.57},{"$f":"IF(ROW(M100)-1<=$J$5,M$1+COUNTIF(C$2:C100,C100)*$J$7,\"\")","v":1.18},{"$f":"IF(ROW(N100)-1<=$J$5,N$1+COUNTIF(D$2:D100,D100)*$J$7,\"\")","v":2.79},{"$f":"IF(ROW(O100)-1<=$J$5,O$1+COUNTIF(E$2:E100,E100)*$J$7,\"\")","v":1.9699999999999998},{"$f":"IF(ROW(P100)-1<=$J$5,P$1+COUNTIF(F$2:F100,F100)*$J$7,\"\")","v":0.96999999999999975},{"$f":"IF(ROW(Q100)-1<=$J$5,Q$1+COUNTIF(G$2:G100,G100)*$J$7,\"\")","v":-3.0000000000000249E-2},{"$f":"IF(ROW(R100)-1<=$J$5,R$1+COUNTIF(H$2:H100,H100)*$J$7,\"\")","v":-1.0300000000000002},{"$f":"IF(ROW(S100)-1<=$J$5,S$1+COUNTIF(I$2:I100,I100)*$J$7,\"\")","v":-2.0300000000000002}]
[{"$f":"IF(ROW(A101)-1<=$J$5,IF(Foglio1!I101=\"\",-10,Foglio1!I101),\"\")","v":""},{"$f":"IF(ROW(B101)-1<=$J$5,IF(Foglio1!J101=\"\",-10,Foglio1!J101),\"\")","v":""},{"$f":"IF(ROW(C101)-1<=$J$5,IF(Foglio1!K101=\"\",-10,Foglio1!K101),\"\")","v":""},{"$f":"IF(ROW(D101)-1<=$J$5,IF(Foglio1!L101=\"\",-10,Foglio1!L101),\"\")","v":""},{"$f":"IF(ROW(E101)-1<=$J$5,IF(Foglio1!R101=\"\",-10,Foglio1!R101),\"\")","v":""},{"$f":"IF(ROW(F101)-1<=$J$5,IF(Foglio1!N101=\"\",-10,Foglio1!N101),\"\")","v":""},{"$f":"IF(ROW(G101)-1<=$J$5,IF(Foglio1!O101=\"\",-10,Foglio1!O101),\"\")","v":""},{"$f":"IF(ROW(H101)-1<=$J$5,IF(Foglio1!P101=\"\",-10,Foglio1!P101),\"\")","v":""},{"$f":"IF(ROW(I101)-1<=$J$5,IF(Foglio1!Q101=\"\",-10,Foglio1!Q101),\"\")","v":""},null,{"$f":"IF(ROW(K101)-1<=$J$5,K$1+COUNTIF(A$2:A101,A101)*$J$7,\"\")","v":""},{"$f":"IF(ROW(L101)-1<=$J$5,L$1+COUNTIF(B$2:B101,B101)*$J$7,\"\")","v":""},{"$f":"IF(ROW(M101)-1<=$J$5,M$1+COUNTIF(C$2:C101,C101)*$J$7,\"\")","v":""},{"$f":"IF(ROW(N101)-1<=$J$5,N$1+COUNTIF(D$2:D101,D101)*$J$7,\"\")","v":""},{"$f":"IF(ROW(O101)-1<=$J$5,O$1+COUNTIF(E$2:E101,E101)*$J$7,\"\")","v":""},{"$f":"IF(ROW(P101)-1<=$J$5,P$1+COUNTIF(F$2:F101,F101)*$J$7,\"\")","v":""},{"$f":"IF(ROW(Q101)-1<=$J$5,Q$1+COUNTIF(G$2:G101,G101)*$J$7,\"\")","v":""},{"$f":"IF(ROW(R101)-1<=$J$5,R$1+COUNTIF(H$2:H101,H101)*$J$7,\"\")","v":""},{"$f":"IF(ROW(S101)-1<=$J$5,S$1+COUNTIF(I$2:I101,I101)*$J$7,\"\")","v":""}]
[{"$f":"IF(ROW(A102)-1<=$J$5,IF(Foglio1!I102=\"\",-10,Foglio1!I102),\"\")","v":""},{"$f":"IF(ROW(B102)-1<=$J$5,IF(Foglio1!J102=\"\",-10,Foglio1!J102),\"\")","v":""},{"$f":"IF(ROW(C102)-1<=$J$5,IF(Foglio1!K102=\"\",-10,Foglio1!K102),\"\")","v":""},{"$f":"IF(ROW(D102)-1<=$J$5,IF(Foglio1!L102=\"\",-10,Foglio1!L102),\"\")","v":""},{"$f":"IF(ROW(E102)-1<=$J$5,IF(Foglio1!R102=\"\",-10,Foglio1!R102),\"\")","v":""},{"$f":"IF(ROW(F102)-1<=$J$5,IF(Foglio1!N102=\"\",-10,Foglio1!N102),\"\")","v":""},{"$f":"IF(ROW(G102)-1<=$J$5,IF(Foglio1!O102=\"\",-10,Foglio1!O102),\"\")","v":""},{"$f":"IF(ROW(H102)-1<=$J$5,IF(Foglio1!P102=\"\",-10,Foglio1!P102),\"\")","v":""},{"$f":"IF(ROW(I102)-1<=$J$5,IF(Foglio1!Q102=\"\",-10,Foglio1!Q102),\"\")","v":""},null,{"$f":"IF(ROW(K102)-1<=$J$5,K$1+COUNTIF(A$2:A102,A102)*$J$7,\"\")","v":""},{"$f":"IF(ROW(L102)-1<=$J$5,L$1+COUNTIF(B$2:B102,B102)*$J$7,\"\")","v":""},{"$f":"IF(ROW(M102)-1<=$J$5,M$1+COUNTIF(C$2:C102,C102)*$J$7,\"\")","v":""},{"$f":"IF(ROW(N102)-1<=$J$5,N$1+COUNTIF(D$2:D102,D102)*$J$7,\"\")","v":""},{"$f":"IF(ROW(O102)-1<=$J$5,O$1+COUNTIF(E$2:E102,E102)*$J$7,\"\")","v":""},{"$f":"IF(ROW(P102)-1<=$J$5,P$1+COUNTIF(F$2:F102,F102)*$J$7,\"\")","v":""},{"$f":"IF(ROW(Q102)-1<=$J$5,Q$1+COUNTIF(G$2:G102,G102)*$J$7,\"\")","v":""},{"$f":"IF(ROW(R102)-1<=$J$5,R$1+COUNTIF(H$2:H102,H102)*$J$7,\"\")","v":""},{"$f":"IF(ROW(S102)-1<=$J$5,S$1+COUNTIF(I$2:I102,I102)*$J$7,\"\")","v":""}]
[{"$f":"IF(ROW(A103)-1<=$J$5,IF(Foglio1!I103=\"\",-10,Foglio1!I103),\"\")","v":""},{"$f":"IF(ROW(B103)-1<=$J$5,IF(Foglio1!J103=\"\",-10,Foglio1!J103),\"\")","v":""},{"$f":"IF(ROW(C103)-1<=$J$5,IF(Foglio1!K103=\"\",-10,Foglio1!K103),\"\")","v":""},{"$f":"IF(ROW(D103)-1<=$J$5,IF(Foglio1!L103=\"\",-10,Foglio1!L103),\"\")","v":""},{"$f":"IF(ROW(E103)-1<=$J$5,IF(Foglio1!R103=\"\",-10,Foglio1!R103),\"\")","v":""},{"$f":"IF(ROW(F103)-1<=$J$5,IF(Foglio1!N103=\"\",-10,Foglio1!N103),\"\")","v":""},{"$f":"IF(ROW(G103)-1<=$J$5,IF(Foglio1!O103=\"\",-10,Foglio1!O103),\"\")","v":""},{"$f":"IF(ROW(H103)-1<=$J$5,IF(Foglio1!P103=\"\",-10,Foglio1!P103),\"\")","v":""},{"$f":"IF(ROW(I103)-1<=$J$5,IF(Foglio1!Q103=\"\",-10,Foglio1!Q103),\"\")","v":""},null,{"$f":"IF(ROW(K103)-1<=$J$5,K$1+COUNTIF(A$2:A103,A103)*$J$7,\"\")","v":""},{"$f":"IF(ROW(L103)-1<=$J$5,L$1+COUNTIF(B$2:B103,B103)*$J$7,\"\")","v":""},{"$f":"IF(ROW(M103)-1<=$J$5,M$1+COUNTIF(C$2:C103,C103)*$J$7,\"\")","v":""},{"$f":"IF(ROW(N103)-1<=$J$5,N$1+COUNTIF(D$2:D103,D103)*$J$7,\"\")","v":""},{"$f":"IF(ROW(O103)-1<=$J$5,O$1+COUNTIF(E$2:E103,E103)*$J$7,\"\")","v":""},{"$f":"IF(ROW(P103)-1<=$J$5,P$1+COUNTIF(F$2:F103,F103)*$J$7,\"\")","v":""},{"$f":"IF(ROW(Q103)-1<=$J$5,Q$1+COUNTIF(G$2:G103,G103)*$J$7,\"\")","v":""},{"$f":"IF(ROW(R103)-1<=$J$5,R$1+COUNTIF(H$2:H103,H103)*$J$7,\"\")","v":""},{"$f":"IF(ROW(S103)-1<=$J$5,S$1+COUNTIF(I$2:I103,I103)*$J$7,\"\")","v":""}]
[{"$f":"IF(ROW(A104)-1<=$J$5,IF(Foglio1!I104=\"\",-10,Foglio1!I104),\"\")","v":""},{"$f":"IF(ROW(B104)-1<=$J$5,IF(Foglio1!J104=\"\",-10,Foglio1!J104),\"\")","v":""},{"$f":"IF(ROW(C104)-1<=$J$5,IF(Foglio1!K104=\"\",-10,Foglio1!K104),\"\")","v":""},{"$f":"IF(ROW(D104)-1<=$J$5,IF(Foglio1!L104=\"\",-10,Foglio1!L104),\"\")","v":""},{"$f":"IF(ROW(E104)-1<=$J$5,IF(Foglio1!R104=\"\",-10,Foglio1!R104),\"\")","v":""},{"$f":"IF(ROW(F104)-1<=$J$5,IF(Foglio1!N104=\"\",-10,Foglio1!N104),\"\")","v":""},{"$f":"IF(ROW(G104)-1<=$J$5,IF(Foglio1!O104=\"\",-10,Foglio1!O104),\"\")","v":""},{"$f":"IF(ROW(H104)-1<=$J$5,IF(Foglio1!P104=\"\",-10,Foglio1!P104),\"\")","v":""},{"$f":"IF(ROW(I104)-1<=$J$5,IF(Foglio1!Q104=\"\",-10,Foglio1!Q104),\"\")","v":""},null,{"$f":"IF(ROW(K104)-1<=$J$5,K$1+COUNTIF(A$2:A104,A104)*$J$7,\"\")","v":""},{"$f":"IF(ROW(L104)-1<=$J$5,L$1+COUNTIF(B$2:B104,B104)*$J$7,\"\")","v":""},{"$f":"IF(ROW(M104)-1<=$J$5,M$1+COUNTIF(C$2:C104,C104)*$J$7,\"\")","v":""},{"$f":"IF(ROW(N104)-1<=$J$5,N$1+COUNTIF(D$2:D104,D104)*$J$7,\"\")","v":""},{"$f":"IF(ROW(O104)-1<=$J$5,O$1+COUNTIF(E$2:E104,E104)*$J$7,\"\")","v":""},{"$f":"IF(ROW(P104)-1<=$J$5,P$1+COUNTIF(F$2:F104,F104)*$J$7,\"\")","v":""},{"$f":"IF(ROW(Q104)-1<=$J$5,Q$1+COUNTIF(G$2:G104,G104)*$J$7,\"\")","v":""},{"$f":"IF(ROW(R104)-1<=$J$5,R$1+COUNTIF(H$2:H104,H104)*$J$7,\"\")","v":""},{"$f":"IF(ROW(S104)-1<=$J$5,S$1+COUNTIF(I$2:I104,I104)*$J$7,\"\")","v":""}]
[{"$f":"IF(ROW(A105)-1<=$J$5,IF(Foglio1!I105=\"\",-10,Foglio1!I105),\"\")","v":""},{"$f":"IF(ROW(B105)-1<=$J$5,IF(Foglio1!J105=\"\",-10,Foglio1!J105),\"\")","v":""},{"$f":"IF(ROW(C105)-1<=$J$5,IF(Foglio1!K105=\"\",-10,Foglio1!K105),\"\")","v":""},{"$f":"IF(ROW(D105)-1<=$J$5,IF(Foglio1!L105=\"\",-10,Foglio1!L105),\"\")","v":""},{"$f":"IF(ROW(E105)-1<=$J$5,IF(Foglio1!R105=\"\",-10,Foglio1!R105),\"\")","v":""},{"$f":"IF(ROW(F105)-1<=$J$5,IF(Foglio1!N105=\"\",-10,Foglio1!N105),\"\")","v":""},{"$f":"IF(ROW(G105)-1<=$J$5,IF(Foglio1!O105=\"\",-10,Foglio1!O105),\"\")","v":""},{"$f":"IF(ROW(H105)-1<=$J$5,IF(Foglio1!P105=\"\",-10,Foglio1!P105),\"\")","v":""},{"$f":"IF(ROW(I105)-1<=$J$5,IF(Foglio1!Q105=\"\",-10,Foglio1!Q105),\"\")","v":""},null,{"$f":"IF(ROW(K105)-1<=$J$5,K$1+COUNTIF(A$2:A105,A105)*$J$7,\"\")","v":""},{"$f":"IF(ROW(L105)-1<=$J$5,L$1+COUNTIF(B$2:B105,B105)*$J$7,\"\")","v":""},{"$f":"IF(ROW(M105)-1<=$J$5,M$1+COUNTIF(C$2:C105,C105)*$J$7,\"\")","v":""},{"$f":"IF(ROW(N105)-1<=$J$5,N$1+COUNTIF(D$2:D105,D105)*$J$7,\"\")","v":""},{"$f":"IF(ROW(O105)-1<=$J$5,O$1+COUNTIF(E$2:E105,E105)*$J$7,\"\")","v":""},{"$f":"IF(ROW(P105)-1<=$J$5,P$1+COUNTIF(F$2:F105,F105)*$J$7,\"\")","v":""},{"$f":"IF(ROW(Q105)-1<=$J$5,Q$1+COUNTIF(G$2:G105,G105)*$J$7,\"\")","v":""},{"$f":"IF(ROW(R105)-1<=$J$5,R$1+COUNTIF(H$2:H105,H105)*$J$7,\"\")","v":""},{"$f":"IF(ROW(S105)-1<=$J$5,S$1+COUNTIF(I$2:I105,I105)*$J$7,\"\")","v":""}]
[{"$f":"IF(ROW(A106)-1<=$J$5,IF(Foglio1!I106=\"\",-10,Foglio1!I106),\"\")","v":""},{"$f":"IF(ROW(B106)-1<=$J$5,IF(Foglio1!J106=\"\",-10,Foglio1!J106),\"\")","v":""},{"$f":"IF(ROW(C106)-1<=$J$5,IF(Foglio1!K106=\"\",-10,Foglio1!K106),\"\")","v":""},{"$f":"IF(ROW(D106)-1<=$J$5,IF(Foglio1!L106=\"\",-10,Foglio1!L106),\"\")","v":""},{"$f":"IF(ROW(E106)-1<=$J$5,IF(Foglio1!R106=\"\",-10,Foglio1!R106),\"\")","v":""},{"$f":"IF(ROW(F106)-1<=$J$5,IF(Foglio1!N106=\"\",-10,Foglio1!N106),\"\")","v":""},{"$f":"IF(ROW(G106)-1<=$J$5,IF(Foglio1!O106=\"\",-10,Foglio1!O106),\"\")","v":""},{"$f":"IF(ROW(H106)-1<=$J$5,IF(Foglio1!P106=\"\",-10,Foglio1!P106),\"\")","v":""},{"$f":"IF(ROW(I106)-1<=$J$5,IF(Foglio1!Q106=\"\",-10,Foglio1!Q106),\"\")","v":""},null,{"$f":"IF(ROW(K106)-1<=$J$5,K$1+COUNTIF(A$2:A106,A106)*$J$7,\"\")","v":""},{"$f":"IF(ROW(L106)-1<=$J$5,L$1+COUNTIF(B$2:B106,B106)*$J$7,\"\")","v":""},{"$f":"IF(ROW(M106)-1<=$J$5,M$1+COUNTIF(C$2:C106,C106)*$J$7,\"\")","v":""},{"$f":"IF(ROW(N106)-1<=$J$5,N$1+COUNTIF(D$2:D106,D106)*$J$7,\"\")","v":""},{"$f":"IF(ROW(O106)-1<=$J$5,O$1+COUNTIF(E$2:E106,E106)*$J$7,\"\")","v":""},{"$f":"IF(ROW(P106)-1<=$J$5,P$1+COUNTIF(F$2:F106,F106)*$J$7,\"\")","v":""},{"$f":"IF(ROW(Q106)-1<=$J$5,Q$1+COUNTIF(G$2:G106,G106)*$J$7,\"\")","v":""},{"$f":"IF(ROW(R106)-1<=$J$5,R$1+COUNTIF(H$2:H106,H106)*$J$7,\"\")","v":""},{"$f":"IF(ROW(S106)-1<=$J$5,S$1+COUNTIF(I$2:I106,I106)*$J$7,\"\")","v":""}]
[{"$f":"IF(ROW(A107)-1<=$J$5,IF(Foglio1!I107=\"\",-10,Foglio1!I107),\"\")","v":""},{"$f":"IF(ROW(B107)-1<=$J$5,IF(Foglio1!J107=\"\",-10,Foglio1!J107),\"\")","v":""},{"$f":"IF(ROW(C107)-1<=$J$5,IF(Foglio1!K107=\"\",-10,Foglio1!K107),\"\")","v":""},{"$f":"IF(ROW(D107)-1<=$J$5,IF(Foglio1!L107=\"\",-10,Foglio1!L107),\"\")","v":""},{"$f":"IF(ROW(E107)-1<=$J$5,IF(Foglio1!R107=\"\",-10,Foglio1!R107),\"\")","v":""},{"$f":"IF(ROW(F107)-1<=$J$5,IF(Foglio1!N107=\"\",-10,Foglio1!N107),\"\")","v":""},{"$f":"IF(ROW(G107)-1<=$J$5,IF(Foglio1!O107=\"\",-10,Foglio1!O107),\"\")","v":""},{"$f":"IF(ROW(H107)-1<=$J$5,IF(Foglio1!P107=\"\",-10,Foglio1!P107),\"\")","v":""},{"$f":"IF(ROW(I107)-1<=$J$5,IF(Foglio1!Q107=\"\",-10,Foglio1!Q107),\"\")","v":""},null,{"$f":"IF(ROW(K107)-1<=$J$5,K$1+COUNTIF(A$2:A107,A107)*$J$7,\"\")","v":""},{"$f":"IF(ROW(L107)-1<=$J$5,L$1+COUNTIF(B$2:B107,B107)*$J$7,\"\")","v":""},{"$f":"IF(ROW(M107)-1<=$J$5,M$1+COUNTIF(C$2:C107,C107)*$J$7,\"\")","v":""},{"$f":"IF(ROW(N107)-1<=$J$5,N$1+COUNTIF(D$2:D107,D107)*$J$7,\"\")","v":""},{"$f":"IF(ROW(O107)-1<=$J$5,O$1+COUNTIF(E$2:E107,E107)*$J$7,\"\")","v":""},{"$f":"IF(ROW(P107)-1<=$J$5,P$1+COUNTIF(F$2:F107,F107)*$J$7,\"\")","v":""},{"$f":"IF(ROW(Q107)-1<=$J$5,Q$1+COUNTIF(G$2:G107,G107)*$J$7,\"\")","v":""},{"$f":"IF(ROW(R107)-1<=$J$5,R$1+COUNTIF(H$2:H107,H107)*$J$7,\"\")","v":""},{"$f":"IF(ROW(S107)-1<=$J$5,S$1+COUNTIF(I$2:I107,I107)*$J$7,\"\")","v":""}]
[{"$f":"IF(ROW(A108)-1<=$J$5,IF(Foglio1!I108=\"\",-10,Foglio1!I108),\"\")","v":""},{"$f":"IF(ROW(B108)-1<=$J$5,IF(Foglio1!J108=\"\",-10,Foglio1!J108),\"\")","v":""},{"$f":"IF(ROW(C108)-1<=$J$5,IF(Foglio1!K108=\"\",-10,Foglio1!K108),\"\")","v":""},{"$f":"IF(ROW(D108)-1<=$J$5,IF(Foglio1!L108=\"\",-10,Foglio1!L108),\"\")","v":""},{"$f":"IF(ROW(E108)-1<=$J$5,IF(Foglio1!R108=\"\",-10,Foglio1!R108),\"\")","v":""},{"$f":"IF(ROW(F108)-1<=$J$5,IF(Foglio1!N108=\"\",-10,Foglio1!N108),\"\")","v":""},{"$f":"IF(ROW(G108)-1<=$J$5,IF(Foglio1!O108=\"\",-10,Foglio1!O108),\"\")","v":""},{"$f":"IF(ROW(H108)-1<=$J$5,IF(Foglio1!P108=\"\",-10,Foglio1!P108),\"\")","v":""},{"$f":"IF(ROW(I108)-1<=$J$5,IF(Foglio1!Q108=\"\",-10,Foglio1!Q108),\"\")","v":""},null,{"$f":"IF(ROW(K108)-1<=$J$5,K$1+COUNTIF(A$2:A108,A108)*$J$7,\"\")","v":""},{"$f":"IF(ROW(L108)-1<=$J$5,L$1+COUNTIF(B$2:B108,B108)*$J$7,\"\")","v":""},{"$f":"IF(ROW(M108)-1<=$J$5,M$1+COUNTIF(C$2:C108,C108)*$J$7,\"\")","v":""},{"$f":"IF(ROW(N108)-1<=$J$5,N$1+COUNTIF(D$2:D108,D108)*$J$7,\"\")","v":""},{"$f":"IF(ROW(O108)-1<=$J$5,O$1+COUNTIF(E$2:E108,E108)*$J$7,\"\")","v":""},{"$f":"IF(ROW(P108)-1<=$J$5,P$1+COUNTIF(F$2:F108,F108)*$J$7,\"\")","v":""},{"$f":"IF(ROW(Q108)-1<=$J$5,Q$1+COUNTIF(G$2:G108,G108)*$J$7,\"\")","v":""},{"$f":"IF(ROW(R108)-1<=$J$5,R$1+COUNTIF(H$2:H108,H108)*$J$7,\"\")","v":""},{"$f":"IF(ROW(S108)-1<=$J$5,S$1+COUNTIF(I$2:I108,I108)*$J$7,\"\")","v":""}]
[{"$f":"IF(ROW(A109)-1<=$J$5,IF(Foglio1!I109=\"\",-10,Foglio1!I109),\"\")","v":""},{"$f":"IF(ROW(B109)-1<=$J$5,IF(Foglio1!J109=\"\",-10,Foglio1!J109),\"\")","v":""},{"$f":"IF(ROW(C109)-1<=$J$5,IF(Foglio1!K109=\"\",-10,Foglio1!K109),\"\")","v":""},{"$f":"IF(ROW(D109)-1<=$J$5,IF(Foglio1!L109=\"\",-10,Foglio1!L109),\"\")","v":""},{"$f":"IF(ROW(E109)-1<=$J$5,IF(Foglio1!R109=\"\",-10,Foglio1!R109),\"\")","v":""},{"$f":"IF(ROW(F109)-1<=$J$5,IF(Foglio1!N109=\"\",-10,Foglio1!N109),\"\")","v":""},{"$f":"IF(ROW(G109)-1<=$J$5,IF(Foglio1!O109=\"\",-10,Foglio1!O109),\"\")","v":""},{"$f":"IF(ROW(H109)-1<=$J$5,IF(Foglio1!P109=\"\",-10,Foglio1!P109),\"\")","v":""},{"$f":"IF(ROW(I109)-1<=$J$5,IF(Foglio1!Q109=\"\",-10,Foglio1!Q109),\"\")","v":""},null,{"$f":"IF(ROW(K109)-1<=$J$5,K$1+COUNTIF(A$2:A109,A109)*$J$7,\"\")","v":""},{"$f":"IF(ROW(L109)-1<=$J$5,L$1+COUNTIF(B$2:B109,B109)*$J$7,\"\")","v":""},{"$f":"IF(ROW(M109)-1<=$J$5,M$1+COUNTIF(C$2:C109,C109)*$J$7,\"\")","v":""},{"$f":"IF(ROW(N109)-1<=$J$5,N$1+COUNTIF(D$2:D109,D109)*$J$7,\"\")","v":""},{"$f":"IF(ROW(O109)-1<=$J$5,O$1+COUNTIF(E$2:E109,E109)*$J$7,\"\")","v":""},{"$f":"IF(ROW(P109)-1<=$J$5,P$1+COUNTIF(F$2:F109,F109)*$J$7,\"\")","v":""},{"$f":"IF(ROW(Q109)-1<=$J$5,Q$1+COUNTIF(G$2:G109,G109)*$J$7,\"\")","v":""},{"$f":"IF(ROW(R109)-1<=$J$5,R$1+COUNTIF(H$2:H109,H109)*$J$7,\"\")","v":""},{"$f":"IF(ROW(S109)-1<=$J$5,S$1+COUNTIF(I$2:I109,I109)*$J$7,\"\")","v":""}]
[{"$f":"IF(ROW(A110)-1<=$J$5,IF(Foglio1!I110=\"\",-10,Foglio1!I110),\"\")","v":""},{"$f":"IF(ROW(B110)-1<=$J$5,IF(Foglio1!J110=\"\",-10,Foglio1!J110),\"\")","v":""},{"$f":"IF(ROW(C110)-1<=$J$5,IF(Foglio1!K110=\"\",-10,Foglio1!K110),\"\")","v":""},{"$f":"IF(ROW(D110)-1<=$J$5,IF(Foglio1!L110=\"\",-10,Foglio1!L110),\"\")","v":""},{"$f":"IF(ROW(E110)-1<=$J$5,IF(Foglio1!R110=\"\",-10,Foglio1!R110),\"\")","v":""},{"$f":"IF(ROW(F110)-1<=$J$5,IF(Foglio1!N110=\"\",-10,Foglio1!N110),\"\")","v":""},{"$f":"IF(ROW(G110)-1<=$J$5,IF(Foglio1!O110=\"\",-10,Foglio1!O110),\"\")","v":""},{"$f":"IF(ROW(H110)-1<=$J$5,IF(Foglio1!P110=\"\",-10,Foglio1!P110),\"\")","v":""},{"$f":"IF(ROW(I110)-1<=$J$5,IF(Foglio1!Q110=\"\",-10,Foglio1!Q110),\"\")","v":""},null,{"$f":"IF(ROW(K110)-1<=$J$5,K$1+COUNTIF(A$2:A110,A110)*$J$7,\"\")","v":""},{"$f":"IF(ROW(L110)-1<=$J$5,L$1+COUNTIF(B$2:B110,B110)*$J$7,\"\")","v":""},{"$f":"IF(ROW(M110)-1<=$J$5,M$1+COUNTIF(C$2:C110,C110)*$J$7,\"\")","v":""},{"$f":"IF(ROW(N110)-1<=$J$5,N$1+COUNTIF(D$2:D110,D110)*$J$7,\"\")","v":""},{"$f":"IF(ROW(O110)-1<=$J$5,O$1+COUNTIF(E$2:E110,E110)*$J$7,\"\")","v":""},{"$f":"IF(ROW(P110)-1<=$J$5,P$1+COUNTIF(F$2:F110,F110)*$J$7,\"\")","v":""},{"$f":"IF(ROW(Q110)-1<=$J$5,Q$1+COUNTIF(G$2:G110,G110)*$J$7,\"\")","v":""},{"$f":"IF(ROW(R110)-1<=$J$5,R$1+COUNTIF(H$2:H110,H110)*$J$7,\"\")","v":""},{"$f":"IF(ROW(S110)-1<=$J$5,S$1+COUNTIF(I$2:I110,I110)*$J$7,\"\")","v":""}]
[{"$f":"IF(ROW(A111)-1<=$J$5,IF(Foglio1!I111=\"\",-10,Foglio1!I111),\"\")","v":""},{"$f":"IF(ROW(B111)-1<=$J$5,IF(Foglio1!J111=\"\",-10,Foglio1!J111),\"\")","v":""},{"$f":"IF(ROW(C111)-1<=$J$5,IF(Foglio1!K111=\"\",-10,Foglio1!K111),\"\")","v":""},{"$f":"IF(ROW(D111)-1<=$J$5,IF(Foglio1!L111=\"\",-10,Foglio1!L111),\"\")","v":""},{"$f":"IF(ROW(E111)-1<=$J$5,IF(Foglio1!R111=\"\",-10,Foglio1!R111),\"\")","v":""},{"$f":"IF(ROW(F111)-1<=$J$5,IF(Foglio1!N111=\"\",-10,Foglio1!N111),\"\")","v":""},{"$f":"IF(ROW(G111)-1<=$J$5,IF(Foglio1!O111=\"\",-10,Foglio1!O111),\"\")","v":""},{"$f":"IF(ROW(H111)-1<=$J$5,IF(Foglio1!P111=\"\",-10,Foglio1!P111),\"\")","v":""},{"$f":"IF(ROW(I111)-1<=$J$5,IF(Foglio1!Q111=\"\",-10,Foglio1!Q111),\"\")","v":""},null,{"$f":"IF(ROW(K111)-1<=$J$5,K$1+COUNTIF(A$2:A111,A111)*$J$7,\"\")","v":""},{"$f":"IF(ROW(L111)-1<=$J$5,L$1+COUNTIF(B$2:B111,B111)*$J$7,\"\")","v":""},{"$f":"IF(ROW(M111)-1<=$J$5,M$1+COUNTIF(C$2:C111,C111)*$J$7,\"\")","v":""},{"$f":"IF(ROW(N111)-1<=$J$5,N$1+COUNTIF(D$2:D111,D111)*$J$7,\"\")","v":""},{"$f":"IF(ROW(O111)-1<=$J$5,O$1+COUNTIF(E$2:E111,E111)*$J$7,\"\")","v":""},{"$f":"IF(ROW(P111)-1<=$J$5,P$1+COUNTIF(F$2:F111,F111)*$J$7,\"\")","v":""},{"$f":"IF(ROW(Q111)-1<=$J$5,Q$1+COUNTIF(G$2:G111,G111)*$J$7,\"\")","v":""},{"$f":"IF(ROW(R111)-1<=$J$5,R$1+COUNTIF(H$2:H111,H111)*$J$7,\"\")","v":""},{"$f":"IF(ROW(S111)-1<=$J$5,S$1+COUNTIF(I$2:I111,I111)*$J$7,\"\")","v":""}]
[{"$f":"IF(ROW(A112)-1<=$J$5,IF(Foglio1!I112=\"\",-10,Foglio1!I112),\"\")","v":""},{"$f":"IF(ROW(B112)-1<=$J$5,IF(Foglio1!J112=\"\",-10,Foglio1!J112),\"\")","v":""},{"$f":"IF(ROW(C112)-1<=$J$5,IF(Foglio1!K112=\"\",-10,Foglio1!K112),\"\")","v":""},{"$f":"IF(ROW(D112)-1<=$J$5,IF(Foglio1!L112=\"\",-10,Foglio1!L112),\"\")","v":""},{"$f":"IF(ROW(E112)-1<=$J$5,IF(Foglio1!R112=\"\",-10,Foglio1!R112),\"\")","v":""},{"$f":"IF(ROW(F112)-1<=$J$5,IF(Foglio1!N112=\"\",-10,Foglio1!N112),\"\")","v":""},{"$f":"IF(ROW(G112)-1<=$J$5,IF(Foglio1!O112=\"\",-10,Foglio1!O112),\"\")","v":""},{"$f":"IF(ROW(H112)-1<=$J$5,IF(Foglio1!P112=\"\",-10,Foglio1!P112),\"\")","v":""},{"$f":"IF(ROW(I112)-1<=$J$5,IF(Foglio1!Q112=\"\",-10,Foglio1!Q112),\"\")","v":""},null,{"$f":"IF(ROW(K112)-1<=$J$5,K$1+COUNTIF(A$2:A112,A112)*$J$7,\"\")","v":""},{"$f":"IF(ROW(L112)-1<=$J$5,L$1+COUNTIF(B$2:B112,B112)*$J$7,\"\")","v":""},{"$f":"IF(ROW(M112)-1<=$J$5,M$1+COUNTIF(C$2:C112,C112)*$J$7,\"\")","v":""},{"$f":"IF(ROW(N112)-1<=$J$5,N$1+COUNTIF(D$2:D112,D112)*$J$7,\"\")","v":""},{"$f":"IF(ROW(O112)-1<=$J$5,O$1+COUNTIF(E$2:E112,E112)*$J$7,\"\")","v":""},{"$f":"IF(ROW(P112)-1<=$J$5,P$1+COUNTIF(F$2:F112,F112)*$J$7,\"\")","v":""},{"$f":"IF(ROW(Q112)-1<=$J$5,Q$1+COUNTIF(G$2:G112,G112)*$J$7,\"\")","v":""},{"$f":"IF(ROW(R112)-1<=$J$5,R$1+COUNTIF(H$2:H112,H112)*$J$7,\"\")","v":""},{"$f":"IF(ROW(S112)-1<=$J$5,S$1+COUNTIF(I$2:I112,I112)*$J$7,\"\")","v":""}]
[{"$f":"IF(ROW(A113)-1<=$J$5,IF(Foglio1!I113=\"\",-10,Foglio1!I113),\"\")","v":""},{"$f":"IF(ROW(B113)-1<=$J$5,IF(Foglio1!J113=\"\",-10,Foglio1!J113),\"\")","v":""},{"$f":"IF(ROW(C113)-1<=$J$5,IF(Foglio1!K113=\"\",-10,Foglio1!K113),\"\")","v":""},{"$f":"IF(ROW(D113)-1<=$J$5,IF(Foglio1!L113=\"\",-10,Foglio1!L113),\"\")","v":""},{"$f":"IF(ROW(E113)-1<=$J$5,IF(Foglio1!R113=\"\",-10,Foglio1!R113),\"\")","v":""},{"$f":"IF(ROW(F113)-1<=$J$5,IF(Foglio1!N113=\"\",-10,Foglio1!N113),\"\")","v":""},{"$f":"IF(ROW(G113)-1<=$J$5,IF(Foglio1!O113=\"\",-10,Foglio1!O113),\"\")","v":""},{"$f":"IF(ROW(H113)-1<=$J$5,IF(Foglio1!P113=\"\",-10,Foglio1!P113),\"\")","v":""},{"$f":"IF(ROW(I113)-1<=$J$5,IF(Foglio1!Q113=\"\",-10,Foglio1!Q113),\"\")","v":""},null,{"$f":"IF(ROW(K113)-1<=$J$5,K$1+COUNTIF(A$2:A113,A113)*$J$7,\"\")","v":""},{"$f":"IF(ROW(L113)-1<=$J$5,L$1+COUNTIF(B$2:B113,B113)*$J$7,\"\")","v":""},{"$f":"IF(ROW(M113)-1<=$J$5,M$1+COUNTIF(C$2:C113,C113)*$J$7,\"\")","v":""},{"$f":"IF(ROW(N113)-1<=$J$5,N$1+COUNTIF(D$2:D113,D113)*$J$7,\"\")","v":""},{"$f":"IF(ROW(O113)-1<=$J$5,O$1+COUNTIF(E$2:E113,E113)*$J$7,\"\")","v":""},{"$f":"IF(ROW(P113)-1<=$J$5,P$1+COUNTIF(F$2:F113,F113)*$J$7,\"\")","v":""},{"$f":"IF(ROW(Q113)-1<=$J$5,Q$1+COUNTIF(G$2:G113,G113)*$J$7,\"\")","v":""},{"$f":"IF(ROW(R113)-1<=$J$5,R$1+COUNTIF(H$2:H113,H113)*$J$7,\"\")","v":""},{"$f":"IF(ROW(S113)-1<=$J$5,S$1+COUNTIF(I$2:I113,I113)*$J$7,\"\")","v":""}]
[{"$f":"IF(ROW(A114)-1<=$J$5,IF(Foglio1!I114=\"\",-10,Foglio1!I114),\"\")","v":""},{"$f":"IF(ROW(B114)-1<=$J$5,IF(Foglio1!J114=\"\",-10,Foglio1!J114),\"\")","v":""},{"$f":"IF(ROW(C114)-1<=$J$5,IF(Foglio1!K114=\"\",-10,Foglio1!K114),\"\")","v":""},{"$f":"IF(ROW(D114)-1<=$J$5,IF(Foglio1!L114=\"\",-10,Foglio1!L114),\"\")","v":""},{"$f":"IF(ROW(E114)-1<=$J$5,IF(Foglio1!R114=\"\",-10,Foglio1!R114),\"\")","v":""},{"$f":"IF(ROW(F114)-1<=$J$5,IF(Foglio1!N114=\"\",-10,Foglio1!N114),\"\")","v":""},{"$f":"IF(ROW(G114)-1<=$J$5,IF(Foglio1!O114=\"\",-10,Foglio1!O114),\"\")","v":""},{"$f":"IF(ROW(H114)-1<=$J$5,IF(Foglio1!P114=\"\",-10,Foglio1!P114),\"\")","v":""},{"$f":"IF(ROW(I114)-1<=$J$5,IF(Foglio1!Q114=\"\",-10,Foglio1!Q114),\"\")","v":""},null,{"$f":"IF(ROW(K114)-1<=$J$5,K$1+COUNTIF(A$2:A114,A114)*$J$7,\"\")","v":""},{"$f":"IF(ROW(L114)-1<=$J$5,L$1+COUNTIF(B$2:B114,B114)*$J$7,\"\")","v":""},{"$f":"IF(ROW(M114)-1<=$J$5,M$1+COUNTIF(C$2:C114,C114)*$J$7,\"\")","v":""},{"$f":"IF(ROW(N114)-1<=$J$5,N$1+COUNTIF(D$2:D114,D114)*$J$7,\"\")","v":""},{"$f":"IF(ROW(O114)-1<=$J$5,O$1+COUNTIF(E$2:E114,E114)*$J$7,\"\")","v":""},{"$f":"IF(ROW(P114)-1<=$J$5,P$1+COUNTIF(F$2:F114,F114)*$J$7,\"\")","v":""},{"$f":"IF(ROW(Q114)-1<=$J$5,Q$1+COUNTIF(G$2:G114,G114)*$J$7,\"\")","v":""},{"$f":"IF(ROW(R114)-1<=$J$5,R$1+COUNTIF(H$2:H114,H114)*$J$7,\"\")","v":""},{"$f":"IF(ROW(S114)-1<=$J$5,S$1+COUNTIF(I$2:I114,I114)*$J$7,\"\")","v":""}]
[{"$f":"IF(ROW(A115)-1<=$J$5,IF(Foglio1!I115=\"\",-10,Foglio1!I115),\"\")","v":""},{"$f":"IF(ROW(B115)-1<=$J$5,IF(Foglio1!J115=\"\",-10,Foglio1!J115),\"\")","v":""},{"$f":"IF(ROW(C115)-1<=$J$5,IF(Foglio1!K115=\"\",-10,Foglio1!K115),\"\")","v":""},{"$f":"IF(ROW(D115)-1<=$J$5,IF(Foglio1!L115=\"\",-10,Foglio1!L115),\"\")","v":""},{"$f":"IF(ROW(E115)-1<=$J$5,IF(Foglio1!R115=\"\",-10,Foglio1!R115),\"\")","v":""},{"$f":"IF(ROW(F115)-1<=$J$5,IF(Foglio1!N115=\"\",-10,Foglio1!N115),\"\")","v":""},{"$f":"IF(ROW(G115)-1<=$J$5,IF(Foglio1!O115=\"\",-10,Foglio1!O115),\"\")","v":""},{"$f":"IF(ROW(H115)-1<=$J$5,IF(Foglio1!P115=\"\",-10,Foglio1!P115),\"\")","v":""},{"$f":"IF(ROW(I115)-1<=$J$5,IF(Foglio1!Q115=\"\",-10,Foglio1!Q115),\"\")","v":""},null,{"$f":"IF(ROW(K115)-1<=$J$5,K$1+COUNTIF(A$2:A115,A115)*$J$7,\"\")","v":""},{"$f":"IF(ROW(L115)-1<=$J$5,L$1+COUNTIF(B$2:B115,B115)*$J$7,\"\")","v":""},{"$f":"IF(ROW(M115)-1<=$J$5,M$1+COUNTIF(C$2:C115,C115)*$J$7,\"\")","v":""},{"$f":"IF(ROW(N115)-1<=$J$5,N$1+COUNTIF(D$2:D115,D115)*$J$7,\"\")","v":""},{"$f":"IF(ROW(O115)-1<=$J$5,O$1+COUNTIF(E$2:E115,E115)*$J$7,\"\")","v":""},{"$f":"IF(ROW(P115)-1<=$J$5,P$1+COUNTIF(F$2:F115,F115)*$J$7,\"\")","v":""},{"$f":"IF(ROW(Q115)-1<=$J$5,Q$1+COUNTIF(G$2:G115,G115)*$J$7,\"\")","v":""},{"$f":"IF(ROW(R115)-1<=$J$5,R$1+COUNTIF(H$2:H115,H115)*$J$7,\"\")","v":""},{"$f":"IF(ROW(S115)-1<=$J$5,S$1+COUNTIF(I$2:I115,I115)*$J$7,\"\")","v":""}]
[{"$f":"IF(ROW(A116)-1<=$J$5,IF(Foglio1!I116=\"\",-10,Foglio1!I116),\"\")","v":""},{"$f":"IF(ROW(B116)-1<=$J$5,IF(Foglio1!J116=\"\",-10,Foglio1!J116),\"\")","v":""},{"$f":"IF(ROW(C116)-1<=$J$5,IF(Foglio1!K116=\"\",-10,Foglio1!K116),\"\")","v":""},{"$f":"IF(ROW(D116)-1<=$J$5,IF(Foglio1!L116=\"\",-10,Foglio1!L116),\"\")","v":""},{"$f":"IF(ROW(E116)-1<=$J$5,IF(Foglio1!R116=\"\",-10,Foglio1!R116),\"\")","v":""},{"$f":"IF(ROW(F116)-1<=$J$5,IF(Foglio1!N116=\"\",-10,Foglio1!N116),\"\")","v":""},{"$f":"IF(ROW(G116)-1<=$J$5,IF(Foglio1!O116=\"\",-10,Foglio1!O116),\"\")","v":""},{"$f":"IF(ROW(H116)-1<=$J$5,IF(Foglio1!P116=\"\",-10,Foglio1!P116),\"\")","v":""},{"$f":"IF(ROW(I116)-1<=$J$5,IF(Foglio1!Q116=\"\",-10,Foglio1!Q116),\"\")","v":""},null,{"$f":"IF(ROW(K116)-1<=$J$5,K$1+COUNTIF(A$2:A116,A116)*$J$7,\"\")","v":""},{"$f":"IF(ROW(L116)-1<=$J$5,L$1+COUNTIF(B$2:B116,B116)*$J$7,\"\")","v":""},{"$f":"IF(ROW(M116)-1<=$J$5,M$1+COUNTIF(C$2:C116,C116)*$J$7,\"\")","v":""},{"$f":"IF(ROW(N116)-1<=$J$5,N$1+COUNTIF(D$2:D116,D116)*$J$7,\"\")","v":""},{"$f":"IF(ROW(O116)-1<=$J$5,O$1+COUNTIF(E$2:E116,E116)*$J$7,\"\")","v":""},{"$f":"IF(ROW(P116)-1<=$J$5,P$1+COUNTIF(F$2:F116,F116)*$J$7,\"\")","v":""},{"$f":"IF(ROW(Q116)-1<=$J$5,Q$1+COUNTIF(G$2:G116,G116)*$J$7,\"\")","v":""},{"$f":"IF(ROW(R116)-1<=$J$5,R$1+COUNTIF(H$2:H116,H116)*$J$7,\"\")","v":""},{"$f":"IF(ROW(S116)-1<=$J$5,S$1+COUNTIF(I$2:I116,I116)*$J$7,\"\")","v":""}]
[{"$f":"IF(ROW(A117)-1<=$J$5,IF(Foglio1!I117=\"\",-10,Foglio1!I117),\"\")","v":""},{"$f":"IF(ROW(B117)-1<=$J$5,IF(Foglio1!J117=\"\",-10,Foglio1!J117),\"\")","v":""},{"$f":"IF(ROW(C117)-1<=$J$5,IF(Foglio1!K117=\"\",-10,Foglio1!K117),\"\")","v":""},{"$f":"IF(ROW(D117)-1<=$J$5,IF(Foglio1!L117=\"\",-10,Foglio1!L117),\"\")","v":""},{"$f":"IF(ROW(E117)-1<=$J$5,IF(Foglio1!R117=\"\",-10,Foglio1!R117),\"\")","v":""},{"$f":"IF(ROW(F117)-1<=$J$5,IF(Foglio1!N117=\"\",-10,Foglio1!N117),\"\")","v":""},{"$f":"IF(ROW(G117)-1<=$J$5,IF(Foglio1!O117=\"\",-10,Foglio1!O117),\"\")","v":""},{"$f":"IF(ROW(H117)-1<=$J$5,IF(Foglio1!P117=\"\",-10,Foglio1!P117),\"\")","v":""},{"$f":"IF(ROW(I117)-1<=$J$5,IF(Foglio1!Q117=\"\",-10,Foglio1!Q117),\"\")","v":""},null,{"$f":"IF(ROW(K117)-1<=$J$5,K$1+COUNTIF(A$2:A117,A117)*$J$7,\"\")","v":""},{"$f":"IF(ROW(L117)-1<=$J$5,L$1+COUNTIF(B$2:B117,B117)*$J$7,\"\")","v":""},{"$f":"IF(ROW(M117)-1<=$J$5,M$1+COUNTIF(C$2:C117,C117)*$J$7,\"\")","v":""},{"$f":"IF(ROW(N117)-1<=$J$5,N$1+COUNTIF(D$2:D117,D117)*$J$7,\"\")","v":""},{"$f":"IF(ROW(O117)-1<=$J$5,O$1+COUNTIF(E$2:E117,E117)*$J$7,\"\")","v":""},{"$f":"IF(ROW(P117)-1<=$J$5,P$1+COUNTIF(F$2:F117,F117)*$J$7,\"\")","v":""},{"$f":"IF(ROW(Q117)-1<=$J$5,Q$1+COUNTIF(G$2:G117,G117)*$J$7,\"\")","v":""},{"$f":"IF(ROW(R117)-1<=$J$5,R$1+COUNTIF(H$2:H117,H117)*$J$7,\"\")","v":""},{"$f":"IF(ROW(S117)-1<=$J$5,S$1+COUNTIF(I$2:I117,I117)*$J$7,\"\")","v":""}]
[{"$f":"IF(ROW(A118)-1<=$J$5,IF(Foglio1!I118=\"\",-10,Foglio1!I118),\"\")","v":""},{"$f":"IF(ROW(B118)-1<=$J$5,IF(Foglio1!J118=\"\",-10,Foglio1!J118),\"\")","v":""},{"$f":"IF(ROW(C118)-1<=$J$5,IF(Foglio1!K118=\"\",-10,Foglio1!K118),\"\")","v":""},{"$f":"IF(ROW(D118)-1<=$J$5,IF(Foglio1!L118=\"\",-10,Foglio1!L118),\"\")","v":""},{"$f":"IF(ROW(E118)-1<=$J$5,IF(Foglio1!R118=\"\",-10,Foglio1!R118),\"\")","v":""},{"$f":"IF(ROW(F118)-1<=$J$5,IF(Foglio1!N118=\"\",-10,Foglio1!N118),\"\")","v":""},{"$f":"IF(ROW(G118)-1<=$J$5,IF(Foglio1!O118=\"\",-10,Foglio1!O118),\"\")","v":""},{"$f":"IF(ROW(H118)-1<=$J$5,IF(Foglio1!P118=\"\",-10,Foglio1!P118),\"\")","v":""},{"$f":"IF(ROW(I118)-1<=$J$5,IF(Foglio1!Q118=\"\",-10,Foglio1!Q118),\"\")","v":""},null,{"$f":"IF(ROW(K118)-1<=$J$5,K$1+COUNTIF(A$2:A118,A118)*$J$7,\"\")","v":""},{"$f":"IF(ROW(L118)-1<=$J$5,L$1+COUNTIF(B$2:B118,B118)*$J$7,\"\")","v":""},{"$f":"IF(ROW(M118)-1<=$J$5,M$1+COUNTIF(C$2:C118,C118)*$J$7,\"\")","v":""},{"$f":"IF(ROW(N118)-1<=$J$5,N$1+COUNTIF(D$2:D118,D118)*$J$7,\"\")","v":""},{"$f":"IF(ROW(O118)-1<=$J$5,O$1+COUNTIF(E$2:E118,E118)*$J$7,\"\")","v":""},{"$f":"IF(ROW(P118)-1<=$J$5,P$1+COUNTIF(F$2:F118,F118)*$J$7,\"\")","v":""},{"$f":"IF(ROW(Q118)-1<=$J$5,Q$1+COUNTIF(G$2:G118,G118)*$J$7,\"\")","v":""},{"$f":"IF(ROW(R118)-1<=$J$5,R$1+COUNTIF(H$2:H118,H118)*$J$7,\"\")","v":""},{"$f":"IF(ROW(S118)-1<=$J$5,S$1+COUNTIF(I$2:I118,I118)*$J$7,\"\")","v":""}]
[{"$f":"IF(ROW(A119)-1<=$J$5,IF(Foglio1!I119=\"\",-10,Foglio1!I119),\"\")","v":""},{"$f":"IF(ROW(B119)-1<=$J$5,IF(Foglio1!J119=\"\",-10,Foglio1!J119),\"\")","v":""},{"$f":"IF(ROW(C119)-1<=$J$5,IF(Foglio1!K119=\"\",-10,Foglio1!K119),\"\")","v":""},{"$f":"IF(ROW(D119)-1<=$J$5,IF(Foglio1!L119=\"\",-10,Foglio1!L119),\"\")","v":""},{"$f":"IF(ROW(E119)-1<=$J$5,IF(Foglio1!R119=\"\",-10,Foglio1!R119),\"\")","v":""},{"$f":"IF(ROW(F119)-1<=$J$5,IF(Foglio1!N119=\"\",-10,Foglio1!N119),\"\")","v":""},{"$f":"IF(ROW(G119)-1<=$J$5,IF(Foglio1!O119=\"\",-10,Foglio1!O119),\"\")","v":""},{"$f":"IF(ROW(H119)-1<=$J$5,IF(Foglio1!P119=\"\",-10,Foglio1!P119),\"\")","v":""},{"$f":"IF(ROW(I119)-1<=$J$5,IF(Foglio1!Q119=\"\",-10,Foglio1!Q119),\"\")","v":""},null,{"$f":"IF(ROW(K119)-1<=$J$5,K$1+COUNTIF(A$2:A119,A119)*$J$7,\"\")","v":""},{"$f":"IF(ROW(L119)-1<=$J$5,L$1+COUNTIF(B$2:B119,B119)*$J$7,\"\")","v":""},{"$f":"IF(ROW(M119)-1<=$J$5,M$1+COUNTIF(C$2:C119,C119)*$J$7,\"\")","v":""},{"$f":"IF(ROW(N119)-1<=$J$5,N$1+COUNTIF(D$2:D119,D119)*$J$7,\"\")","v":""},{"$f":"IF(ROW(O119)-1<=$J$5,O$1+COUNTIF(E$2:E119,E119)*$J$7,\"\")","v":""},{"$f":"IF(ROW(P119)-1<=$J$5,P$1+COUNTIF(F$2:F119,F119)*$J$7,\"\")","v":""},{"$f":"IF(ROW(Q119)-1<=$J$5,Q$1+COUNTIF(G$2:G119,G119)*$J$7,\"\")","v":""},{"$f":"IF(ROW(R119)-1<=$J$5,R$1+COUNTIF(H$2:H119,H119)*$J$7,\"\")","v":""},{"$f":"IF(ROW(S119)-1<=$J$5,S$1+COUNTIF(I$2:I119,I119)*$J$7,\"\")","v":""}]
[{"$f":"IF(ROW(A120)-1<=$J$5,IF(Foglio1!I120=\"\",-10,Foglio1!I120),\"\")","v":""},{"$f":"IF(ROW(B120)-1<=$J$5,IF(Foglio1!J120=\"\",-10,Foglio1!J120),\"\")","v":""},{"$f":"IF(ROW(C120)-1<=$J$5,IF(Foglio1!K120=\"\",-10,Foglio1!K120),\"\")","v":""},{"$f":"IF(ROW(D120)-1<=$J$5,IF(Foglio1!L120=\"\",-10,Foglio1!L120),\"\")","v":""},{"$f":"IF(ROW(E120)-1<=$J$5,IF(Foglio1!R120=\"\",-10,Foglio1!R120),\"\")","v":""},{"$f":"IF(ROW(F120)-1<=$J$5,IF(Foglio1!N120=\"\",-10,Foglio1!N120),\"\")","v":""},{"$f":"IF(ROW(G120)-1<=$J$5,IF(Foglio1!O120=\"\",-10,Foglio1!O120),\"\")","v":""},{"$f":"IF(ROW(H120)-1<=$J$5,IF(Foglio1!P120=\"\",-10,Foglio1!P120),\"\")","v":""},{"$f":"IF(ROW(I120)-1<=$J$5,IF(Foglio1!Q120=\"\",-10,Foglio1!Q120),\"\")","v":""},null,{"$f":"IF(ROW(K120)-1<=$J$5,K$1+COUNTIF(A$2:A120,A120)*$J$7,\"\")","v":""},{"$f":"IF(ROW(L120)-1<=$J$5,L$1+COUNTIF(B$2:B120,B120)*$J$7,\"\")","v":""},{"$f":"IF(ROW(M120)-1<=$J$5,M$1+COUNTIF(C$2:C120,C120)*$J$7,\"\")","v":""},{"$f":"IF(ROW(N120)-1<=$J$5,N$1+COUNTIF(D$2:D120,D120)*$J$7,\"\")","v":""},{"$f":"IF(ROW(O120)-1<=$J$5,O$1+COUNTIF(E$2:E120,E120)*$J$7,\"\")","v":""},{"$f":"IF(ROW(P120)-1<=$J$5,P$1+COUNTIF(F$2:F120,F120)*$J$7,\"\")","v":""},{"$f":"IF(ROW(Q120)-1<=$J$5,Q$1+COUNTIF(G$2:G120,G120)*$J$7,\"\")","v":""},{"$f":"IF(ROW(R120)-1<=$J$5,R$1+COUNTIF(H$2:H120,H120)*$J$7,\"\")","v":""},{"$f":"IF(ROW(S120)-1<=$J$5,S$1+COUNTIF(I$2:I120,I120)*$J$7,\"\")","v":""}]
[{"$f":"IF(ROW(A121)-1<=$J$5,IF(Foglio1!I121=\"\",-10,Foglio1!I121),\"\")","v":""},{"$f":"IF(ROW(B121)-1<=$J$5,IF(Foglio1!J121=\"\",-10,Foglio1!J121),\"\")","v":""},{"$f":"IF(ROW(C121)-1<=$J$5,IF(Foglio1!K121=\"\",-10,Foglio1!K121),\"\")","v":""},{"$f":"IF(ROW(D121)-1<=$J$5,IF(Foglio1!L121=\"\",-10,Foglio1!L121),\"\")","v":""},{"$f":"IF(ROW(E121)-1<=$J$5,IF(Foglio1!R121=\"\",-10,Foglio1!R121),\"\")","v":""},{"$f":"IF(ROW(F121)-1<=$J$5,IF(Foglio1!N121=\"\",-10,Foglio1!N121),\"\")","v":""},{"$f":"IF(ROW(G121)-1<=$J$5,IF(Foglio1!O121=\"\",-10,Foglio1!O121),\"\")","v":""},{"$f":"IF(ROW(H121)-1<=$J$5,IF(Foglio1!P121=\"\",-10,Foglio1!P121),\"\")","v":""},{"$f":"IF(ROW(I121)-1<=$J$5,IF(Foglio1!Q121=\"\",-10,Foglio1!Q121),\"\")","v":""},null,{"$f":"IF(ROW(K121)-1<=$J$5,K$1+COUNTIF(A$2:A121,A121)*$J$7,\"\")","v":""},{"$f":"IF(ROW(L121)-1<=$J$5,L$1+COUNTIF(B$2:B121,B121)*$J$7,\"\")","v":""},{"$f":"IF(ROW(M121)-1<=$J$5,M$1+COUNTIF(C$2:C121,C121)*$J$7,\"\")","v":""},{"$f":"IF(ROW(N121)-1<=$J$5,N$1+COUNTIF(D$2:D121,D121)*$J$7,\"\")","v":""},{"$f":"IF(ROW(O121)-1<=$J$5,O$1+COUNTIF(E$2:E121,E121)*$J$7,\"\")","v":""},{"$f":"IF(ROW(P121)-1<=$J$5,P$1+COUNTIF(F$2:F121,F121)*$J$7,\"\")","v":""},{"$f":"IF(ROW(Q121)-1<=$J$5,Q$1+COUNTIF(G$2:G121,G121)*$J$7,\"\")","v":""},{"$f":"IF(ROW(R121)-1<=$J$5,R$1+COUNTIF(H$2:H121,H121)*$J$7,\"\")","v":""},{"$f":"IF(ROW(S121)-1<=$J$5,S$1+COUNTIF(I$2:I121,I121)*$J$7,\"\")","v":""}]
[{"$f":"IF(ROW(A122)-1<=$J$5,IF(Foglio1!I122=\"\",-10,Foglio1!I122),\"\")","v":""},{"$f":"IF(ROW(B122)-1<=$J$5,IF(Foglio1!J122=\"\",-10,Foglio1!J122),\"\")","v":""},{"$f":"IF(ROW(C122)-1<=$J$5,IF(Foglio1!K122=\"\",-10,Foglio1!K122),\"\")","v":""},{"$f":"IF(ROW(D122)-1<=$J$5,IF(Foglio1!L122=\"\",-10,Foglio1!L122),\"\")","v":""},{"$f":"IF(ROW(E122)-1<=$J$5,IF(Foglio1!R122=\"\",-10,Foglio1!R122),\"\")","v":""},{"$f":"IF(ROW(F122)-1<=$J$5,IF(Foglio1!N122=\"\",-10,Foglio1!N122),\"\")","v":""},{"$f":"IF(ROW(G122)-1<=$J$5,IF(Foglio1!O122=\"\",-10,Foglio1!O122),\"\")","v":""},{"$f":"IF(ROW(H122)-1<=$J$5,IF(Foglio1!P122=\"\",-10,Foglio1!P122),\"\")","v":""},{"$f":"IF(ROW(I122)-1<=$J$5,IF(Foglio1!Q122=\"\",-10,Foglio1!Q122),\"\")","v":""},null,{"$f":"IF(ROW(K122)-1<=$J$5,K$1+COUNTIF(A$2:A122,A122)*$J$7,\"\")","v":""},{"$f":"IF(ROW(L122)-1<=$J$5,L$1+COUNTIF(B$2:B122,B122)*$J$7,\"\")","v":""},{"$f":"IF(ROW(M122)-1<=$J$5,M$1+COUNTIF(C$2:C122,C122)*$J$7,\"\")","v":""},{"$f":"IF(ROW(N122)-1<=$J$5,N$1+COUNTIF(D$2:D122,D122)*$J$7,\"\")","v":""},{"$f":"IF(ROW(O122)-1<=$J$5,O$1+COUNTIF(E$2:E122,E122)*$J$7,\"\")","v":""},{"$f":"IF(ROW(P122)-1<=$J$5,P$1+COUNTIF(F$2:F122,F122)*$J$7,\"\")","v":""},{"$f":"IF(ROW(Q122)-1<=$J$5,Q$1+COUNTIF(G$2:G122,G122)*$J$7,\"\")","v":""},{"$f":"IF(ROW(R122)-1<=$J$5,R$1+COUNTIF(H$2:H122,H122)*$J$7,\"\")","v":""},{"$f":"IF(ROW(S122)-1<=$J$5,S$1+COUNTIF(I$2:I122,I122)*$J$7,\"\")","v":""}]
[{"$f":"IF(ROW(A123)-1<=$J$5,IF(Foglio1!I123=\"\",-10,Foglio1!I123),\"\")","v":""},{"$f":"IF(ROW(B123)-1<=$J$5,IF(Foglio1!J123=\"\",-10,Foglio1!J123),\"\")","v":""},{"$f":"IF(ROW(C123)-1<=$J$5,IF(Foglio1!K123=\"\",-10,Foglio1!K123),\"\")","v":""},{"$f":"IF(ROW(D123)-1<=$J$5,IF(Foglio1!L123=\"\",-10,Foglio1!L123),\"\")","v":""},{"$f":"IF(ROW(E123)-1<=$J$5,IF(Foglio1!R123=\"\",-10,Foglio1!R123),\"\")","v":""},{"$f":"IF(ROW(F123)-1<=$J$5,IF(Foglio1!N123=\"\",-10,Foglio1!N123),\"\")","v":""},{"$f":"IF(ROW(G123)-1<=$J$5,IF(Foglio1!O123=\"\",-10,Foglio1!O123),\"\")","v":""},{"$f":"IF(ROW(H123)-1<=$J$5,IF(Foglio1!P123=\"\",-10,Foglio1!P123),\"\")","v":""},{"$f":"IF(ROW(I123)-1<=$J$5,IF(Foglio1!Q123=\"\",-10,Foglio1!Q123),\"\")","v":""},null,{"$f":"IF(ROW(K123)-1<=$J$5,K$1+COUNTIF(A$2:A123,A123)*$J$7,\"\")","v":""},{"$f":"IF(ROW(L123)-1<=$J$5,L$1+COUNTIF(B$2:B123,B123)*$J$7,\"\")","v":""},{"$f":"IF(ROW(M123)-1<=$J$5,M$1+COUNTIF(C$2:C123,C123)*$J$7,\"\")","v":""},{"$f":"IF(ROW(N123)-1<=$J$5,N$1+COUNTIF(D$2:D123,D123)*$J$7,\"\")","v":""},{"$f":"IF(ROW(O123)-1<=$J$5,O$1+COUNTIF(E$2:E123,E123)*$J$7,\"\")","v":""},{"$f":"IF(ROW(P123)-1<=$J$5,P$1+COUNTIF(F$2:F123,F123)*$J$7,\"\")","v":""},{"$f":"IF(ROW(Q123)-1<=$J$5,Q$1+COUNTIF(G$2:G123,G123)*$J$7,\"\")","v":""},{"$f":"IF(ROW(R123)-1<=$J$5,R$1+COUNTIF(H$2:H123,H123)*$J$7,\"\")","v":""},{"$f":"IF(ROW(S123)-1<=$J$5,S$1+COUNTIF(I$2:I123,I123)*$J$7,\"\")","v":""}]
[{"$f":"IF(ROW(A124)-1<=$J$5,IF(Foglio1!I124=\"\",-10,Foglio1!I124),\"\")","v":""},{"$f":"IF(ROW(B124)-1<=$J$5,IF(Foglio1!J124=\"\",-10,Foglio1!J124),\"\")","v":""},{"$f":"IF(ROW(C124)-1<=$J$5,IF(Foglio1!K124=\"\",-10,Foglio1!K124),\"\")","v":""},{"$f":"IF(ROW(D124)-1<=$J$5,IF(Foglio1!L124=\"\",-10,Foglio1!L124),\"\")","v":""},{"$f":"IF(ROW(E124)-1<=$J$5,IF(Foglio1!R124=\"\",-10,Foglio1!R124),\"\")","v":""},{"$f":"IF(ROW(F124)-1<=$J$5,IF(Foglio1!N124=\"\",-10,Foglio1!N124),\"\")","v":""},{"$f":"IF(ROW(G124)-1<=$J$5,IF(Foglio1!O124=\"\",-10,Foglio1!O124),\"\")","v":""},{"$f":"IF(ROW(H124)-1<=$J$5,IF(Foglio1!P124=\"\",-10,Foglio1!P124),\"\")","v":""},{"$f":"IF(ROW(I124)-1<=$J$5,IF(Foglio1!Q124=\"\",-10,Foglio1!Q124),\"\")","v":""},null,{"$f":"IF(ROW(K124)-1<=$J$5,K$1+COUNTIF(A$2:A124,A124)*$J$7,\"\")","v":""},{"$f":"IF(ROW(L124)-1<=$J$5,L$1+COUNTIF(B$2:B124,B124)*$J$7,\"\")","v":""},{"$f":"IF(ROW(M124)-1<=$J$5,M$1+COUNTIF(C$2:C124,C124)*$J$7,\"\")","v":""},{"$f":"IF(ROW(N124)-1<=$J$5,N$1+COUNTIF(D$2:D124,D124)*$J$7,\"\")","v":""},{"$f":"IF(ROW(O124)-1<=$J$5,O$1+COUNTIF(E$2:E124,E124)*$J$7,\"\")","v":""},{"$f":"IF(ROW(P124)-1<=$J$5,P$1+COUNTIF(F$2:F124,F124)*$J$7,\"\")","v":""},{"$f":"IF(ROW(Q124)-1<=$J$5,Q$1+COUNTIF(G$2:G124,G124)*$J$7,\"\")","v":""},{"$f":"IF(ROW(R124)-1<=$J$5,R$1+COUNTIF(H$2:H124,H124)*$J$7,\"\")","v":""},{"$f":"IF(ROW(S124)-1<=$J$5,S$1+COUNTIF(I$2:I124,I124)*$J$7,\"\")","v":""}]
[{"$f":"IF(ROW(A125)-1<=$J$5,IF(Foglio1!I125=\"\",-10,Foglio1!I125),\"\")","v":""},{"$f":"IF(ROW(B125)-1<=$J$5,IF(Foglio1!J125=\"\",-10,Foglio1!J125),\"\")","v":""},{"$f":"IF(ROW(C125)-1<=$J$5,IF(Foglio1!K125=\"\",-10,Foglio1!K125),\"\")","v":""},{"$f":"IF(ROW(D125)-1<=$J$5,IF(Foglio1!L125=\"\",-10,Foglio1!L125),\"\")","v":""},{"$f":"IF(ROW(E125)-1<=$J$5,IF(Foglio1!R125=\"\",-10,Foglio1!R125),\"\")","v":""},{"$f":"IF(ROW(F125)-1<=$J$5,IF(Foglio1!N125=\"\",-10,Foglio1!N125),\"\")","v":""},{"$f":"IF(ROW(G125)-1<=$J$5,IF(Foglio1!O125=\"\",-10,Foglio1!O125),\"\")","v":""},{"$f":"IF(ROW(H125)-1<=$J$5,IF(Foglio1!P125=\"\",-10,Foglio1!P125),\"\")","v":""},{"$f":"IF(ROW(I125)-1<=$J$5,IF(Foglio1!Q125=\"\",-10,Foglio1!Q125),\"\")","v":""},null,{"$f":"IF(ROW(K125)-1<=$J$5,K$1+COUNTIF(A$2:A125,A125)*$J$7,\"\")","v":""},{"$f":"IF(ROW(L125)-1<=$J$5,L$1+COUNTIF(B$2:B125,B125)*$J$7,\"\")","v":""},{"$f":"IF(ROW(M125)-1<=$J$5,M$1+COUNTIF(C$2:C125,C125)*$J$7,\"\")","v":""},{"$f":"IF(ROW(N125)-1<=$J$5,N$1+COUNTIF(D$2:D125,D125)*$J$7,\"\")","v":""},{"$f":"IF(ROW(O125)-1<=$J$5,O$1+COUNTIF(E$2:E125,E125)*$J$7,\"\")","v":""},{"$f":"IF(ROW(P125)-1<=$J$5,P$1+COUNTIF(F$2:F125,F125)*$J$7,\"\")","v":""},{"$f":"IF(ROW(Q125)-1<=$J$5,Q$1+COUNTIF(G$2:G125,G125)*$J$7,\"\")","v":""},{"$f":"IF(ROW(R125)-1<=$J$5,R$1+COUNTIF(H$2:H125,H125)*$J$7,\"\")","v":""},{"$f":"IF(ROW(S125)-1<=$J$5,S$1+COUNTIF(I$2:I125,I125)*$J$7,\"\")","v":""}]
[{"$f":"IF(ROW(A126)-1<=$J$5,IF(Foglio1!I126=\"\",-10,Foglio1!I126),\"\")","v":""},{"$f":"IF(ROW(B126)-1<=$J$5,IF(Foglio1!J126=\"\",-10,Foglio1!J126),\"\")","v":""},{"$f":"IF(ROW(C126)-1<=$J$5,IF(Foglio1!K126=\"\",-10,Foglio1!K126),\"\")","v":""},{"$f":"IF(ROW(D126)-1<=$J$5,IF(Foglio1!L126=\"\",-10,Foglio1!L126),\"\")","v":""},{"$f":"IF(ROW(E126)-1<=$J$5,IF(Foglio1!R126=\"\",-10,Foglio1!R126),\"\")","v":""},{"$f":"IF(ROW(F126)-1<=$J$5,IF(Foglio1!N126=\"\",-10,Foglio1!N126),\"\")","v":""},{"$f":"IF(ROW(G126)-1<=$J$5,IF(Foglio1!O126=\"\",-10,Foglio1!O126),\"\")","v":""},{"$f":"IF(ROW(H126)-1<=$J$5,IF(Foglio1!P126=\"\",-10,Foglio1!P126),\"\")","v":""},{"$f":"IF(ROW(I126)-1<=$J$5,IF(Foglio1!Q126=\"\",-10,Foglio1!Q126),\"\")","v":""},null,{"$f":"IF(ROW(K126)-1<=$J$5,K$1+COUNTIF(A$2:A126,A126)*$J$7,\"\")","v":""},{"$f":"IF(ROW(L126)-1<=$J$5,L$1+COUNTIF(B$2:B126,B126)*$J$7,\"\")","v":""},{"$f":"IF(ROW(M126)-1<=$J$5,M$1+COUNTIF(C$2:C126,C126)*$J$7,\"\")","v":""},{"$f":"IF(ROW(N126)-1<=$J$5,N$1+COUNTIF(D$2:D126,D126)*$J$7,\"\")","v":""},{"$f":"IF(ROW(O126)-1<=$J$5,O$1+COUNTIF(E$2:E126,E126)*$J$7,\"\")","v":""},{"$f":"IF(ROW(P126)-1<=$J$5,P$1+COUNTIF(F$2:F126,F126)*$J$7,\"\")","v":""},{"$f":"IF(ROW(Q126)-1<=$J$5,Q$1+COUNTIF(G$2:G126,G126)*$J$7,\"\")","v":""},{"$f":"IF(ROW(R126)-1<=$J$5,R$1+COUNTIF(H$2:H126,H126)*$J$7,\"\")","v":""},{"$f":"IF(ROW(S126)-1<=$J$5,S$1+COUNTIF(I$2:I126,I126)*$J$7,\"\")","v":""}]
[{"$f":"IF(ROW(A127)-1<=$J$5,IF(Foglio1!I127=\"\",-10,Foglio1!I127),\"\")","v":""},{"$f":"IF(ROW(B127)-1<=$J$5,IF(Foglio1!J127=\"\",-10,Foglio1!J127),\"\")","v":""},{"$f":"IF(ROW(C127)-1<=$J$5,IF(Foglio1!K127=\"\",-10,Foglio1!K127),\"\")","v":""},{"$f":"IF(ROW(D127)-1<=$J$5,IF(Foglio1!L127=\"\",-10,Foglio1!L127),\"\")","v":""},{"$f":"IF(ROW(E127)-1<=$J$5,IF(Foglio1!R127=\"\",-10,Foglio1!R127),\"\")","v":""},{"$f":"IF(ROW(F127)-1<=$J$5,IF(Foglio1!N127=\"\",-10,Foglio1!N127),\"\")","v":""},{"$f":"IF(ROW(G127)-1<=$J$5,IF(Foglio1!O127=\"\",-10,Foglio1!O127),\"\")","v":""},{"$f":"IF(ROW(H127)-1<=$J$5,IF(Foglio1!P127=\"\",-10,Foglio1!P127),\"\")","v":""},{"$f":"IF(ROW(I127)-1<=$J$5,IF(Foglio1!Q127=\"\",-10,Foglio1!Q127),\"\")","v":""},null,{"$f":"IF(ROW(K127)-1<=$J$5,K$1+COUNTIF(A$2:A127,A127)*$J$7,\"\")","v":""},{"$f":"IF(ROW(L127)-1<=$J$5,L$1+COUNTIF(B$2:B127,B127)*$J$7,\"\")","v":""},{"$f":"IF(ROW(M127)-1<=$J$5,M$1+COUNTIF(C$2:C127,C127)*$J$7,\"\")","v":""},{"$f":"IF(ROW(N127)-1<=$J$5,N$1+COUNTIF(D$2:D127,D127)*$J$7,\"\")","v":""},{"$f":"IF(ROW(O127)-1<=$J$5,O$1+COUNTIF(E$2:E127,E127)*$J$7,\"\")","v":""},{"$f":"IF(ROW(P127)-1<=$J$5,P$1+COUNTIF(F$2:F127,F127)*$J$7,\"\")","v":""},{"$f":"IF(ROW(Q127)-1<=$J$5,Q$1+COUNTIF(G$2:G127,G127)*$J$7,\"\")","v":""},{"$f":"IF(ROW(R127)-1<=$J$5,R$1+COUNTIF(H$2:H127,H127)*$J$7,\"\")","v":""},{"$f":"IF(ROW(S127)-1<=$J$5,S$1+COUNTIF(I$2:I127,I127)*$J$7,\"\")","v":""}]
[{"$f":"IF(ROW(A128)-1<=$J$5,IF(Foglio1!I128=\"\",-10,Foglio1!I128),\"\")","v":""},{"$f":"IF(ROW(B128)-1<=$J$5,IF(Foglio1!J128=\"\",-10,Foglio1!J128),\"\")","v":""},{"$f":"IF(ROW(C128)-1<=$J$5,IF(Foglio1!K128=\"\",-10,Foglio1!K128),\"\")","v":""},{"$f":"IF(ROW(D128)-1<=$J$5,IF(Foglio1!L128=\"\",-10,Foglio1!L128),\"\")","v":""},{"$f":"IF(ROW(E128)-1<=$J$5,IF(Foglio1!M128=\"\",-10,Foglio1!M128),\"\")","v":""},{"$f":"IF(ROW(F128)-1<=$J$5,IF(Foglio1!N128=\"\",-10,Foglio1!N128),\"\")","v":""},{"$f":"IF(ROW(G128)-1<=$J$5,IF(Foglio1!O128=\"\",-10,Foglio1!O128),\"\")","v":""},{"$f":"IF(ROW(H128)-1<=$J$5,IF(Foglio1!P128=\"\",-10,Foglio1!P128),\"\")","v":""},{"$f":"IF(ROW(I128)-1<=$J$5,IF(Foglio1!Q128=\"\",-10,Foglio1!Q128),\"\")","v":""},null,{"$f":"IF(ROW(K128)-1<=$J$5,K$1+COUNTIF(A$2:A128,A128)*$J$7,\"\")","v":""},{"$f":"IF(ROW(L128)-1<=$J$5,L$1+COUNTIF(B$2:B128,B128)*$J$7,\"\")","v":""},{"$f":"IF(ROW(M128)-1<=$J$5,M$1+COUNTIF(C$2:C128,C128)*$J$7,\"\")","v":""},{"$f":"IF(ROW(N128)-1<=$J$5,N$1+COUNTIF(D$2:D128,D128)*$J$7,\"\")","v":""},{"$f":"IF(ROW(O128)-1<=$J$5,O$1+COUNTIF(E$2:E128,E128)*$J$7,\"\")","v":""},{"$f":"IF(ROW(P128)-1<=$J$5,P$1+COUNTIF(F$2:F128,F128)*$J$7,\"\")","v":""},{"$f":"IF(ROW(Q128)-1<=$J$5,Q$1+COUNTIF(G$2:G128,G128)*$J$7,\"\")","v":""},{"$f":"IF(ROW(R128)-1<=$J$5,R$1+COUNTIF(H$2:H128,H128)*$J$7,\"\")","v":""},{"$f":"IF(ROW(S128)-1<=$J$5,S$1+COUNTIF(I$2:I128,I128)*$J$7,\"\")","v":""}]
[{"$f":"IF(ROW(A129)-1<=$J$5,IF(Foglio1!I129=\"\",-10,Foglio1!I129),\"\")","v":""},{"$f":"IF(ROW(B129)-1<=$J$5,IF(Foglio1!J129=\"\",-10,Foglio1!J129),\"\")","v":""},{"$f":"IF(ROW(C129)-1<=$J$5,IF(Foglio1!K129=\"\",-10,Foglio1!K129),\"\")","v":""},{"$f":"IF(ROW(D129)-1<=$J$5,IF(Foglio1!L129=\"\",-10,Foglio1!L129),\"\")","v":""},{"$f":"IF(ROW(E129)-1<=$J$5,IF(Foglio1!M129=\"\",-10,Foglio1!M129),\"\")","v":""},{"$f":"IF(ROW(F129)-1<=$J$5,IF(Foglio1!N129=\"\",-10,Foglio1!N129),\"\")","v":""},{"$f":"IF(ROW(G129)-1<=$J$5,IF(Foglio1!O129=\"\",-10,Foglio1!O129),\"\")","v":""},{"$f":"IF(ROW(H129)-1<=$J$5,IF(Foglio1!P129=\"\",-10,Foglio1!P129),\"\")","v":""},{"$f":"IF(ROW(I129)-1<=$J$5,IF(Foglio1!Q129=\"\",-10,Foglio1!Q129),\"\")","v":""},null,{"$f":"IF(ROW(K129)-1<=$J$5,K$1+COUNTIF(A$2:A129,A129)*$J$7,\"\")","v":""},{"$f":"IF(ROW(L129)-1<=$J$5,L$1+COUNTIF(B$2:B129,B129)*$J$7,\"\")","v":""},{"$f":"IF(ROW(M129)-1<=$J$5,M$1+COUNTIF(C$2:C129,C129)*$J$7,\"\")","v":""},{"$f":"IF(ROW(N129)-1<=$J$5,N$1+COUNTIF(D$2:D129,D129)*$J$7,\"\")","v":""},{"$f":"IF(ROW(O129)-1<=$J$5,O$1+COUNTIF(E$2:E129,E129)*$J$7,\"\")","v":""},{"$f":"IF(ROW(P129)-1<=$J$5,P$1+COUNTIF(F$2:F129,F129)*$J$7,\"\")","v":""},{"$f":"IF(ROW(Q129)-1<=$J$5,Q$1+COUNTIF(G$2:G129,G129)*$J$7,\"\")","v":""},{"$f":"IF(ROW(R129)-1<=$J$5,R$1+COUNTIF(H$2:H129,H129)*$J$7,\"\")","v":""},{"$f":"IF(ROW(S129)-1<=$J$5,S$1+COUNTIF(I$2:I129,I129)*$J$7,\"\")","v":""}]
[{"$f":"IF(ROW(A130)-1<=$J$5,IF(Foglio1!I130=\"\",-10,Foglio1!I130),\"\")","v":""},{"$f":"IF(ROW(B130)-1<=$J$5,IF(Foglio1!J130=\"\",-10,Foglio1!J130),\"\")","v":""},{"$f":"IF(ROW(C130)-1<=$J$5,IF(Foglio1!K130=\"\",-10,Foglio1!K130),\"\")","v":""},{"$f":"IF(ROW(D130)-1<=$J$5,IF(Foglio1!L130=\"\",-10,Foglio1!L130),\"\")","v":""},{"$f":"IF(ROW(E130)-1<=$J$5,IF(Foglio1!M130=\"\",-10,Foglio1!M130),\"\")","v":""},{"$f":"IF(ROW(F130)-1<=$J$5,IF(Foglio1!N130=\"\",-10,Foglio1!N130),\"\")","v":""},{"$f":"IF(ROW(G130)-1<=$J$5,IF(Foglio1!O130=\"\",-10,Foglio1!O130),\"\")","v":""},{"$f":"IF(ROW(H130)-1<=$J$5,IF(Foglio1!P130=\"\",-10,Foglio1!P130),\"\")","v":""},{"$f":"IF(ROW(I130)-1<=$J$5,IF(Foglio1!Q130=\"\",-10,Foglio1!Q130),\"\")","v":""},null,{"$f":"IF(ROW(K130)-1<=$J$5,K$1+COUNTIF(A$2:A130,A130)*$J$7,\"\")","v":""},{"$f":"IF(ROW(L130)-1<=$J$5,L$1+COUNTIF(B$2:B130,B130)*$J$7,\"\")","v":""},{"$f":"IF(ROW(M130)-1<=$J$5,M$1+COUNTIF(C$2:C130,C130)*$J$7,\"\")","v":""},{"$f":"IF(ROW(N130)-1<=$J$5,N$1+COUNTIF(D$2:D130,D130)*$J$7,\"\")","v":""},{"$f":"IF(ROW(O130)-1<=$J$5,O$1+COUNTIF(E$2:E130,E130)*$J$7,\"\")","v":""},{"$f":"IF(ROW(P130)-1<=$J$5,P$1+COUNTIF(F$2:F130,F130)*$J$7,\"\")","v":""},{"$f":"IF(ROW(Q130)-1<=$J$5,Q$1+COUNTIF(G$2:G130,G130)*$J$7,\"\")","v":""},{"$f":"IF(ROW(R130)-1<=$J$5,R$1+COUNTIF(H$2:H130,H130)*$J$7,\"\")","v":""},{"$f":"IF(ROW(S130)-1<=$J$5,S$1+COUNTIF(I$2:I130,I130)*$J$7,\"\")","v":""}]